BEGIN:VCALENDAR
VERSION:2.0
PRODID:-//Rethemnos Live - ECPv6.15.20//NONSGML v1.0//EN
CALSCALE:GREGORIAN
METHOD:PUBLISH
X-WR-CALNAME:Rethemnos Live
X-ORIGINAL-URL:https://rethemnos.gr
X-WR-CALDESC:Events for Rethemnos Live
REFRESH-INTERVAL;VALUE=DURATION:PT1H
X-Robots-Tag:noindex
X-PUBLISHED-TTL:PT1H
BEGIN:VTIMEZONE
TZID:Europe/Athens
BEGIN:DAYLIGHT
TZOFFSETFROM:+0200
TZOFFSETTO:+0300
TZNAME:EEST
DTSTART:20250330T010000
END:DAYLIGHT
BEGIN:STANDARD
TZOFFSETFROM:+0300
TZOFFSETTO:+0200
TZNAME:EET
DTSTART:20251026T010000
END:STANDARD
BEGIN:DAYLIGHT
TZOFFSETFROM:+0200
TZOFFSETTO:+0300
TZNAME:EEST
DTSTART:20260329T010000
END:DAYLIGHT
BEGIN:STANDARD
TZOFFSETFROM:+0300
TZOFFSETTO:+0200
TZNAME:EET
DTSTART:20261025T010000
END:STANDARD
BEGIN:DAYLIGHT
TZOFFSETFROM:+0200
TZOFFSETTO:+0300
TZNAME:EEST
DTSTART:20270328T010000
END:DAYLIGHT
BEGIN:STANDARD
TZOFFSETFROM:+0300
TZOFFSETTO:+0200
TZNAME:EET
DTSTART:20271031T010000
END:STANDARD
END:VTIMEZONE
BEGIN:VEVENT
DTSTART;TZID=Europe/Athens:20260421T100000
DTEND;TZID=Europe/Athens:20260421T150000
DTSTAMP:20260421T013206
CREATED:20260411T094923Z
LAST-MODIFIED:20260420T053045Z
UID:438577-1776765600-1776783600@rethemnos.gr
SUMMARY:Έκθεση με θέμα «Γυναίκες. Συνομιλίες Ελληνίδων Δημιουργών μέσα στον χρόνο»
DESCRIPTION:Μουσείο Σύγχρονης Τέχνης Κρήτης\n(Μεσολογγίου 32\, Ρέθυμνο) \nΗ Alpha Bank συμπράττει με το Μουσείο Σύγχρονης Τέχνης Κρήτης σε μία ξεχωριστή έκθεση για τα έργα Ελληνίδων Δημιουργών. \nΗ έκθεση «ΓΥΝΑΙΚΕΣ. Συνομιλίες Ελληνίδων Δημιουργών μέσα στον χρόνο» φέρνει στο επίκεντρο τη γυναικεία ματιά στην καλλιτεχνική δημιουργία από το παρελθόν μέχρι σήμερα. \nΜία ξεχωριστή έκθεση συνδιοργανώνει στο Ρέθυμνο η Alpha Bank με το Μουσείο Σύγχρονης Τέχνης Κρήτης. Περισσότερα από 67 αντιπροσωπευτικά έργα από 53 Ελληνίδες καλλιτέχνιδες που έδρασαν σε διαφορετικές ιστορικές περιόδους προσδιορίζουν τον ρόλο της γυναίκας στην καλλιτεχνική σκηνή της Ελλάδας. \nΗ έκθεση «ΓΥΝΑΙΚΕΣ. Συνομιλίες Ελληνίδων δημιουργών μέσα στον χρόνο» έχει ως στόχο να αναδείξει την πολυφωνία\, την ευαισθησία αλλά και την πρωτοπορία σημαντικών γυναικών από τον 19ο αιώνα μέχρι τη σύγχρονη εποχή. Τα εκθέματα προέρχονται κυρίως από τη Συλλογή της Alpha Bank. \nΜε πρωτοβουλία του Μουσείου Σύγχρονης Τέχνης Κρήτης παρουσιάζονται παράλληλα και έργα σύγχρονων καλλιτεχνών\, προσθέτοντας τη διάσταση ενός «ζωντανού» διαλόγου\, δίνοντας «βήμα» σε νέες καλλιτέχνιδες που εκφράζουν τις αγωνίες\, τα όνειρα και τις προκλήσεις της εποχής μας. \nΗ διάρκεια της έκθεσης θα είναι έως τις 26 Απριλίου 2026. \nΏρες λειτουργίας\nΤρίτη – Πέμπτη 09:00-14:00\nΤετάρτη & Παρασκευή 09:00-14:00 & 18:00-21:00\nΣάββατο – Κυριακή 10:00-15:00\nΔευτέρα Κλειστά \nΠληροφορίες\nΜουσείο Σύγχρονης Τέχνης Κρήτης\nΜεσολογγίου 32\, 74 131 Ρέθυμνο\nΤ: +30 28310 52530\nE-mail: info@cca.gr
URL:https://rethemnos.gr/event/egkainia-tis-ekthesis-gynaikes-synomilies-ellinidon-dimioyrgon-mesa-ston-chrono/
LOCATION:Μουσείο Σύγχρονης Τέχνης Κρήτης\, Μεσολογγίου 32\, Ρέθυμνο\, Ρεθύμνου\, Ελλάδα
CATEGORIES:εικαστική έκθεση
ATTACH;FMTTYPE=image/jpeg:https://rethemnos.gr/wp-content/uploads/2025/11/156156.jpg
END:VEVENT
BEGIN:VEVENT
DTSTART;TZID=Europe/Athens:20260421T193000
DTEND;TZID=Europe/Athens:20260421T210000
DTSTAMP:20260421T013206
CREATED:20260330T090038Z
LAST-MODIFIED:20260406T111840Z
UID:437457-1776799800-1776805200@rethemnos.gr
SUMMARY:Διάλεξη στο ΙΜΣ για την προφορική ιστορία και τη μεταπολεμική κατοικία στην Ανατολική Μεσόγειο
DESCRIPTION:Το Ινστιτούτο Μεσογειακών Σπουδών του ΙΤΕ σας προσκαλεί στην διάλεξη με θέμα Accessing memory: Negotiating challenges and possibilities of oral history in understanding post WWII apartment housing in the Eastern Mediterranean – Παρουσίαση εν εξελίξει έρευνας στο Κάιρο. \nΟΜΙΛΗΤΡΙΑ: ROWAN ASHRAF ALY\, Βοηθός Έρευνας\, MCH-EsMed\, IMS-FORTH \nΠρολογίζει η Κωνσταντίνα Κάλφα\, ΕΥ\, MCH-EsMed\, IMS-FORTH \nΤρίτη\, 21 Απριλίου 2026 και ώρα 19.30\nΑίθουσα Διαλέξεων IMΣ\, Νικηφόρου Φωκά 130\, Ρέθυμνο
URL:https://rethemnos.gr/event/dialexi-sto-ims-gia-tin-proforiki-istoria-kai-ti-metapolemiki-katoikia-stin-anatoliki-mesogeio/
LOCATION:Ινστιτούτο Μεσογειακών Σπουδών\, Νικηφόρου Φωκά 130\, Ρέθυμνο\, Ρεθύμνου\, Ελλάδα
CATEGORIES:ομιλία
ATTACH;FMTTYPE=image/jpeg:https://rethemnos.gr/wp-content/uploads/2025/10/IMG_7600.jpeg
END:VEVENT
BEGIN:VEVENT
DTSTART;TZID=Europe/Athens:20260421T210000
DTEND;TZID=Europe/Athens:20260421T210000
DTSTAMP:20260421T013206
CREATED:20230411T105356Z
LAST-MODIFIED:20260417T091740Z
UID:438451-1776805200-1776805200@rethemnos.gr
SUMMARY:Μουσική βραδιά στο Farmasea
DESCRIPTION:Ο Μιχάλης Κατσούλης και ο Ανδρέας Τυμπακιανάκης ζωντανά στο Farmasea (Ελ. Βενιζέλου 35\, Παραλία). \nΏρα έναρξης: 21:00. \nΤηλέφωνο κρατήσεων: 2831056615 – 6980273813 \n 
URL:https://rethemnos.gr/event/moysiki-vradia-farmasea-tr/
LOCATION:Farmasea\, Ελευθερίου Βενιζέλου 35\, Ρέθυμνο\, 74100\, Greece
CATEGORIES:ζωντανή μουσική
ATTACH;FMTTYPE=image/jpeg:https://rethemnos.gr/wp-content/uploads/2023/03/26.jpg
END:VEVENT
END:VCALENDAR