BEGIN:VCALENDAR
VERSION:2.0
PRODID:-//Rethemnos Live - ECPv6.15.20//NONSGML v1.0//EN
CALSCALE:GREGORIAN
METHOD:PUBLISH
X-WR-CALNAME:Rethemnos Live
X-ORIGINAL-URL:https://rethemnos.gr
X-WR-CALDESC:Events for Rethemnos Live
REFRESH-INTERVAL;VALUE=DURATION:PT1H
X-Robots-Tag:noindex
X-PUBLISHED-TTL:PT1H
BEGIN:VTIMEZONE
TZID:Europe/Athens
BEGIN:DAYLIGHT
TZOFFSETFROM:+0200
TZOFFSETTO:+0300
TZNAME:EEST
DTSTART:20250330T010000
END:DAYLIGHT
BEGIN:STANDARD
TZOFFSETFROM:+0300
TZOFFSETTO:+0200
TZNAME:EET
DTSTART:20251026T010000
END:STANDARD
BEGIN:DAYLIGHT
TZOFFSETFROM:+0200
TZOFFSETTO:+0300
TZNAME:EEST
DTSTART:20260329T010000
END:DAYLIGHT
BEGIN:STANDARD
TZOFFSETFROM:+0300
TZOFFSETTO:+0200
TZNAME:EET
DTSTART:20261025T010000
END:STANDARD
BEGIN:DAYLIGHT
TZOFFSETFROM:+0200
TZOFFSETTO:+0300
TZNAME:EEST
DTSTART:20270328T010000
END:DAYLIGHT
BEGIN:STANDARD
TZOFFSETFROM:+0300
TZOFFSETTO:+0200
TZNAME:EET
DTSTART:20271031T010000
END:STANDARD
END:VTIMEZONE
BEGIN:VEVENT
DTSTART;TZID=Europe/Athens:20260424T190000
DTEND;TZID=Europe/Athens:20260424T190000
DTSTAMP:20260424T012519
CREATED:20260416T071150Z
LAST-MODIFIED:20260416T071150Z
UID:451794-1777057200-1777057200@rethemnos.gr
SUMMARY:Παρουσίαση του νέου βιβλίου του Σπύρου Πετρουλάκη «Καθαρμός»
DESCRIPTION:O Σύλλογος Ποντίων & Φίλων Π.Ε. Ρεθύμνης «Αροθυμία»\, το Βιβλιοπωλείο Κλαψινάκης και οι Εκδόσεις Μίνωας διοργανώνουν εκδήλωση για την παρουσίαση του νέου βιβλίου του Σπύρου Πετρουλάκη «Καθαρμός»\, την Παρασκευή 24 Απριλίου στο ξενοδοχείο THEARTEMIS PALACE. \nΓια το βιβλίο θα μιλήσουν οι: \n\nΣτεφανία Φραγκιαδάκη\, αναγνώστρια\nΠέπη Μπιρλιράκη\, επιχειρηματίας\, πρώην Αντιδήμαρχος Ρεθύμνης\n\nΑποσπάσματα θα διαβάσει η ηθοποιός Μαρία Ζαχαράκη. Την εκδήλωση θα πλαισιώσει μουσικοχορευτικά ο Σύλλογος «ΑΡΟΘΥΜΙΑ». \nΣτη λύρα ο Γρηγόρης Παπαδόπουλος\, στο νταούλι ο Ηρακλής Μωυσιάδης και στο αγγείο ο Ειρηναίος Τσιμενίδης. \nΈναρξη 19:00
URL:https://rethemnos.gr/event/paroysiasi-toy-neoy-vivlioy-toy-spyroy-petroylaki-katharmos/
LOCATION:Theartemis Palace\, Μάρκου Πορτάλιου 26\, Ρέθυμνο\, Ρεθύμνου\, 74100\, Greece
CATEGORIES:παρουσίαση βιβλίου
ATTACH;FMTTYPE=image/jpeg:https://rethemnos.gr/wp-content/uploads/2026/04/34.jpg
END:VEVENT
BEGIN:VEVENT
DTSTART;TZID=Europe/Athens:20260424T190000
DTEND;TZID=Europe/Athens:20260424T190000
DTSTAMP:20260424T012519
CREATED:20260416T191443Z
LAST-MODIFIED:20260416T191443Z
UID:451870-1777057200-1777057200@rethemnos.gr
SUMMARY:Παρουσίαση του βιβλίου του Δημήτρη Βεριώνη «Θάνατοι στη Χούντα»
DESCRIPTION:Η ΕΛΜΕ Ρεθύμνου σας προσκαλεί στην παρουσίαση του βιβλίου του Δημήτρη Βεριώνη «Θάνατοι στη Χούντα» που θα πραγματοποιηθεί στο Στέκι Εκπαιδευτικών Ρεθύμνου (Ηλιακάκη 16\, πίσω από το Δημοτικό Κήπο)\, την Παρασκευή 24 Απριλίου στις 7 μ.μ. \nΟμιλητές: Χρηστος Σουρουλής\, πρόεδρος ΕΛΜΕ Ρεθύμνου και ο συγγραφέας Δημήτρης Βεριώνης. \nΛιγα λόγια για το βιβλίο: \n50 χρόνια μετά την πτώση της χούντας για πρώτη φορά παρουσιάζονται λεπτομερώς όλες οι περιπτώσεις των θανάτων που συνδέθηκαν με το καθεστώς. \nΘάνατοι λόγω αντιδικτατορικής δράσης\, «αυτοκτονίες»\, «ατυχήματα»\, «ασθένειες»\, «εξαφανίσεις». Θάνατοι συνεπεία κακουχιών από τις εξορίες και πολυάριθμες ακόμα φημολογούμενες περιπτώσεις ανώνυμων και επώνυμων προσώπων παρουσιάζονται αναλυτικά σε αυτή την πολυετή\, προσωποκεντρική έρευνα. \n247 κατονομασμένες περιπτώσεις θανάτων για τους οποίους ευθυνόταν ή κατηγορήθηκε το καθεστώς και οι κύκλοι του. Πάνω από 250 συνεντεύξεις οικείων προσώπων\, 290 φωτογραφίες\, άγνωστα ή δημοσιευμένα αρχεία και μαρτυρίες αποτυπώνουν για πρώτη φορά τις ιστορίες των θυμάτων της χούντας\, συνολικά και εξατομικευμένα. \nΗ ιστορική αλήθεια αναζητά τις πραγματικές της διαστάσεις μέσα στις ανείπωτες προσωπικές μαρτυρίες και βιώματα\, στα «ψιλά γράμματα» και σε όσα αφέθηκαν στη σιωπή. Διερευνώνται υποθέσεις γνωστές ή κρυμμένες στην αφάνεια που περιμένουν να δικαιωθούν από την ιστορική μνήμη. \nΜε την έρευνα αυτή επιστρέφουμε στους ανθρώπους που τους χρωστάει η Ιστορία. \nΑυτή ήταν η ζωή τους και αυτός ο θάνατός τους. \nΟ Δημήτρης Βεριώνης γεννήθηκε στην Αθήνα και μεγάλωσε στον Καρέα. Είναι απόφοιτος των τμημάτων «Ελληνικός Πολιτισμός» και «Ευρωπαϊκός Πολιτισμός» της Σχολής Ανθρωπιστικών Σπουδών του Ελληνικού Ανοικτού Πανεπιστημίου\, καθώς και της Εθνικής Σχολής Δημόσιας Διοίκησης και Αυτοδιοίκησης (Ε.Σ.Δ.Δ.Α.). Έχει αρθρογραφήσει στην εφημερίδα Εποχή\, στο περιοδικό Historical Quest και σε άλλα έντυπα μέσα\, έχει συμμετάσχει στο βιβλίο της Maxine Ventham Spike Milligan: His Part In Our Lives (Λονδίνο\, Robson Books\, 2002) και έχει διατελέσει επί σειρά ετών πρόεδρος του «Peter Sellers Appreciation Society» και αρχισυντάκτης του περιοδικού PSAS Magazine. Έχει κυκλοφορήσει πέντε δίσκους ως τραγουδοποιός\, έχει πάρει μέρος σε πολλές συναυλίες και έχει γράψει μουσική για θέατρο.
URL:https://rethemnos.gr/event/paroysiasi-toy-vivlioy-toy-dimitri-verioni-thanatoi-sti-choynta/
LOCATION:Στέκι Εκπαιδευτικών Ρεθύμνου\, Ηλιακάκη 16\, Ρέθυμνο\, Ρεθύμνου\, 74100
CATEGORIES:παρουσίαση βιβλίου
ATTACH;FMTTYPE=image/jpeg:https://rethemnos.gr/wp-content/uploads/2026/04/IMG_7013.jpeg
END:VEVENT
BEGIN:VEVENT
DTSTART;TZID=Europe/Athens:20260424T203000
DTEND;TZID=Europe/Athens:20260424T203000
DTSTAMP:20260424T012519
CREATED:20260403T054334Z
LAST-MODIFIED:20260421T113822Z
UID:421334-1777062600-1777062600@rethemnos.gr
SUMMARY:Η Πηνελόπη Λουλούδη και ο Παύλος Ιεραπετρίτης στην Ταβέρνα «Μαρμίτα»
DESCRIPTION:Η Πηνελόπη Λουλούδη (φωνή) και ο Παύλος Ιεραπετρίτης (κιθάρα – φωνή) ζωντανά με έντεχνα τραγούδια στην Ταβέρνα «Μαρμίτα» στο Ρουσσοσπίτι Ρεθύμνου. \nΠαρασκευή 24 Απριλίου – Έναρξη 20:30. \nΤηλ. 28310 75905. \n 
URL:https://rethemnos.gr/event/i-pinelopi-loyloydi-kai-o-paylos-ierapetritis-stin-taverna-marmita/
LOCATION:Ταβέρνα Μαρμίτα\, Roussospiti\, Ρεθύμνου\, 741 50\, Greece
CATEGORIES:ζωντανή μουσική
ATTACH;FMTTYPE=image/jpeg:https://rethemnos.gr/wp-content/uploads/2026/03/42554.jpg
END:VEVENT
BEGIN:VEVENT
DTSTART;TZID=Europe/Athens:20260424T210000
DTEND;TZID=Europe/Athens:20260424T210000
DTSTAMP:20260424T012519
CREATED:20260402T175252Z
LAST-MODIFIED:20260403T075334Z
UID:450975-1777064400-1777064400@rethemnos.gr
SUMMARY:Η παράσταση «Ο Μπαμπάς» στο χώρο πολιτισμού «Σημείο»
DESCRIPTION:Ο Χώρος πολιτισμού Σημείο παρουσιάζει σε διασκευή\, ένα έργο που έχει ήδη διαγράψει μια εντυπωσιακή πορεία στις σημαντικότερες θεατρικές και κινηματογραφικές σκηνές παγκοσμίως. \nΤο έργο έκανε πρεμιέρα στο Παρίσι το 2012\, όπου απέσπασε το βραβείο Molière για το καλύτερο θεατρικό έργο\, και έκτοτε γνωρίζει τεράστια επιτυχία διεθνώς. Από το Λονδίνο έως τη Νέα Υόρκη και σε πολλές ακόμη ευρωπαϊκές σκηνές\, έχει συγκινήσει βαθιά το κοινό\, προσφέροντας μια έντονα συναισθηματική και ψυχολογικά διεισδυτική εμπειρία. Μέσα από μια λεπτοδουλεμένη αφήγηση\, παρακολουθούμε την πορεία ενός ανθρώπου που σταδιακά χάνει την επαφή με την πραγματικότητα\, σε μια καθηλωτική εξερεύνηση της μνήμης και της ανθρώπινης ταυτότητας. \nΌταν η μνήμη γίνεται λαβύρινθος\, ένας πατέρας προσπαθεί να βρει την αλήθεια του\, ενώ οι άνθρωποι που αγαπά προσπαθούν να τον κρατήσουν κοντά τους.\nΜνήμες και πρόσωπα από το παρελθόν εισχωρούν απρόσκλητα στην καθημερινότητα του 70χρονου Αντρέ\, που παλεύει με τη νόσο Αλτσχάιμερ\, φέρνοντας σε δοκιμασία τις αντοχές και τις ισορροπίες των οικογενειακών του σχέσεων. \n\n			\n				\n			\n			\n				\n			\n			\n				\n			\n		\n\nΠρεμιέρα Πέμπτη 23 Απριλίου.\n23\,24\,25 Απριλίου & 1\,2\,3 Μαΐου – Έναρξη 21:00 \nΣκηνοθεσία – διασκευή: Γιάννης Μπλέτας\nΚινησιολογία: Ανδρομάχη Βαρσάμη\nΠρωτότυπο μουσικό θέμα: Γιώργος Κουμεντάκης\nΕνδυματολογική επιμέλεια: Μαρία Βιβιλάκη – Muses Crete\nΦωτογραφίες: Ble productions\nΣχεδιασμός σκηνικού: Γιάννης Μπλέτας\nΠαραγωγή : Χώρος πολιτισμού Σημείο \nΠαίζουν: Μποτόνης Μποτονάκης\, Ελένη Βαρούχα\, Μαρήνη Βελονάκη\, Ιουλία Καραγιαννάκη\, Σήφης Καυκαλάς \nΓενική είσοδος 14 ευρώ.\nΠληροφορίες / κρατήσεις: 6983320439.\nΣημείο – Πατριάρχου Αθηναγόρα 17\, Μισίρια.
URL:https://rethemnos.gr/event/i-parastasi-o-mpampas-sto-choro-politismoy-simeio-25/
LOCATION:Σημείο\, Patriarchi Athinagora\, Rethymno\, Ρεθύμνου\, 741 33\, Greece
CATEGORIES:θέατρο
ATTACH;FMTTYPE=image/jpeg:https://rethemnos.gr/wp-content/uploads/2026/02/4189.jpg
END:VEVENT
BEGIN:VEVENT
DTSTART;TZID=Europe/Athens:20260424T210000
DTEND;TZID=Europe/Athens:20260424T235900
DTSTAMP:20260424T012519
CREATED:20260315T115356Z
LAST-MODIFIED:20260423T125341Z
UID:407666-1777064400-1777075140@rethemnos.gr
SUMMARY:Μουσική βραδιά στο Farmasea
DESCRIPTION:Ο Θέμης Ξεζωνάκης και ο Βασίλης Ακτουδιανάκης ζωντανά στο Farmasea (Ελ. Βενιζέλου 35\, Παραλία). \nΠαρασκευή 17 Απριλίου\, από τις 21:00. \nΤηλ. 2831 056615 – 698 0273813.
URL:https://rethemnos.gr/event/moysiki-vradia-sto-farmasea/
LOCATION:Farmasea\, Ελευθερίου Βενιζέλου 35\, Ρέθυμνο\, 74100\, Greece
CATEGORIES:ζωντανή μουσική
ATTACH;FMTTYPE=image/jpeg:https://rethemnos.gr/wp-content/uploads/2026/03/67268825-1.jpg
END:VEVENT
BEGIN:VEVENT
DTSTART;TZID=Europe/Athens:20260424T213000
DTEND;TZID=Europe/Athens:20260424T213000
DTSTAMP:20260424T012519
CREATED:20260402T045643Z
LAST-MODIFIED:20260416T163139Z
UID:369328-1777066200-1777066200@rethemnos.gr
SUMMARY:Οι Crossroad live στο Τζεπέτο
DESCRIPTION:Οι Crossroad είναι ένα μουσικό project που γεννήθηκε μέσα από την κοινή ανάγκη τεσσάρων φίλων μουσικών\, να ενώσουν κόσμους διαφορετικούς. Από την κρητική λύρα και το ούτι μέχρι το σαξόφωνο και την ηλεκτρική κιθάρα\, το σχήμα συνδυάζει παραδοσιακά ηχοχρώματα με σύγχρονη αισθητική\, μέσα από αυτοσχεδιασμούς και ανατρεπτικές ενορχηστρώσεις. \nMorris Rolland – σαξόφωνο\, φυσαρμόνικα\, τραγούδι\nΚωνσταντίνος Καλέρης – ηλεκτρική κιθάρα\nΠρόδρομος Καραδελόγλου – ούτι\, κρητική λύρα\, κρουστά\, τραγούδι\nΚώστας Κεχράκος – ακουστική κιθάρα\, μπάσο \nΠαρασκευή 24/04 – 21:30 \nΣυνεταιρισμός Τζεπέτο\nΟδός Κατεχάκη (κάτω από τη Φορτέτζα)\,\nΠαλιά πόλη\, Ρέθυμνο.
URL:https://rethemnos.gr/event/oi-crossroad-live-sto-tzepeto/
LOCATION:Συνεταιρισμός Τζεπέτο\, Κατεχάκη\, Ρέθυμνο\, Ρεθύμνου\, 74100\, Ελλάδα
CATEGORIES:ζωντανή μουσική
ATTACH;FMTTYPE=image/jpeg:https://rethemnos.gr/wp-content/uploads/2026/03/2444.jpg
END:VEVENT
BEGIN:VEVENT
DTSTART;TZID=Europe/Athens:20260424T213000
DTEND;TZID=Europe/Athens:20260424T213000
DTSTAMP:20260424T012519
CREATED:20260419T224032Z
LAST-MODIFIED:20260421T162832Z
UID:368995-1777066200-1777066200@rethemnos.gr
SUMMARY:Μουσική βραδιά με τη Μαριέλα Βιτώρου στην «Οινοθήκη»
DESCRIPTION:Μουσική βραδιά στην «Οινοθήκη» με τη Μαριέλα Βιτώρου\, τον Δημήτρη Βαρούχα και τον Γιάννη Κιαγιαδάκη. \nΠαρασκευή 24 Απριλίου – Έναρξη 21:30. \nΤηλ. 28310 58250.
URL:https://rethemnos.gr/event/moysiki-vradia-stin-oinothiki/
LOCATION:Οινοθήκη\, Ραδαμάνθυος 17\, Ρέθυμνο\, Ρεθύμνου\, 741 31\, Ελλάδα
CATEGORIES:ζωντανή μουσική
ATTACH;FMTTYPE=image/jpeg:https://rethemnos.gr/wp-content/uploads/2026/02/IMG_7090.jpeg
END:VEVENT
BEGIN:VEVENT
DTSTART;TZID=Europe/Athens:20260424T220000
DTEND;TZID=Europe/Athens:20260424T220000
DTSTAMP:20260424T012519
CREATED:20260306T180922Z
LAST-MODIFIED:20260418T051930Z
UID:409298-1777068000-1777068000@rethemnos.gr
SUMMARY:Μουσική βραδιά στο Μεζεδοπωλείο 50/50
DESCRIPTION:Μουσική βραδιά με το Δημήτρη Σακελλαρίδη\, το Μάνο Χουδετσανάκη και τον Κωνσταντίνο Ζωράκη στο Μεζεδοπωλείο 50/50 (Πλαστήρα 6\, Παλιά πόλη – Ρέθυμνο). \nΚρατήσεις: 6972 055312
URL:https://rethemnos.gr/event/moysiki-vradia-sto-mezedopoleio-50-50-par/
LOCATION:Μεζεδοπωλείο 50/50\, Πλ. Ν. Πλαστήρα 6\, Ρέθυμνο\, Ρεθύμνου\, 74100\, Ελλάδα
CATEGORIES:ζωντανή μουσική
ATTACH;FMTTYPE=image/jpeg:https://rethemnos.gr/wp-content/uploads/2025/12/5050.jpg
END:VEVENT
BEGIN:VEVENT
DTSTART;TZID=Europe/Athens:20260424T220000
DTEND;TZID=Europe/Athens:20260424T220000
DTSTAMP:20260424T012519
CREATED:20260321T190631Z
LAST-MODIFIED:20260419T104308Z
UID:369652-1777068000-1777068000@rethemnos.gr
SUMMARY:Κρητική βραδιά με το Χρύσανθο Μακράκη και το Νίκο Γ. Μανιουδάκη
DESCRIPTION:Ο Χρύσανθος Μακράκης και ο Νίκος Γ. Μανιουδάκης με το συγκρότημα του σε μια κρητική βραδιά στο μεζεδοπωλείο «Αλλού γι’ αλλού». \nΤηλέφωνο κρατήσεων 6974025703. \n 
URL:https://rethemnos.gr/event/kritiki-vradia-me-to-chrysantho-makraki-kai-to-niko-g-manioydaki/
LOCATION:Μεζεδοπωλείο Αλλού γι’ αλλού\, Νικολάου Πλαστήρα 2\, Ρέθυμνο\, Ρεθύμνου\, 74100\, Ελλάδα
CATEGORIES:κρητική μουσική
ATTACH;FMTTYPE=image/jpeg:https://rethemnos.gr/wp-content/uploads/2024/10/1d8a17a7-3ff5-47bc-80b5-79c53e214b41-1.jpg
END:VEVENT
BEGIN:VEVENT
DTSTART;TZID=Europe/Athens:20260424T220000
DTEND;TZID=Europe/Athens:20260424T220000
DTSTAMP:20260424T012519
CREATED:20260401T144847Z
LAST-MODIFIED:20260419T110452Z
UID:441815-1777068000-1777068000@rethemnos.gr
SUMMARY:O Διονύσης Σπανουδάκης ζωντανά στο Vibes All Day Coffee & Bar
DESCRIPTION:O Διονύσης Σπανουδάκης ζωντανά στο Vibes All Day Coffee & Bar (Κουντουριωτη 137\, Ρέθυμνο). \nΠαρασκευή 24 Απριλίου – Έναρξη 22:00. \nΤηλέφωνο για κρατήσεις 6972 341915.
URL:https://rethemnos.gr/event/o-michalis-tzoyganakis-zontana-sto-vibes-all-day-coffee-amp-bar/
LOCATION:Vibes All Day Coffee & Bar\, Κουντουριώτου 137\, Ρέθυμνο\, Κρήτη\, 74100\, Greece
CATEGORIES:ζωντανή μουσική
ATTACH;FMTTYPE=image/jpeg:https://rethemnos.gr/wp-content/uploads/2026/04/24426.jpg
END:VEVENT
END:VCALENDAR