BEGIN:VCALENDAR
VERSION:2.0
PRODID:-//Rethemnos Live - ECPv6.15.20//NONSGML v1.0//EN
CALSCALE:GREGORIAN
METHOD:PUBLISH
X-ORIGINAL-URL:https://rethemnos.gr
X-WR-CALDESC:Events for Rethemnos Live
REFRESH-INTERVAL;VALUE=DURATION:PT1H
X-Robots-Tag:noindex
X-PUBLISHED-TTL:PT1H
BEGIN:VTIMEZONE
TZID:Europe/Athens
BEGIN:DAYLIGHT
TZOFFSETFROM:+0200
TZOFFSETTO:+0300
TZNAME:EEST
DTSTART:20240331T010000
END:DAYLIGHT
BEGIN:STANDARD
TZOFFSETFROM:+0300
TZOFFSETTO:+0200
TZNAME:EET
DTSTART:20241027T010000
END:STANDARD
BEGIN:DAYLIGHT
TZOFFSETFROM:+0200
TZOFFSETTO:+0300
TZNAME:EEST
DTSTART:20250330T010000
END:DAYLIGHT
BEGIN:STANDARD
TZOFFSETFROM:+0300
TZOFFSETTO:+0200
TZNAME:EET
DTSTART:20251026T010000
END:STANDARD
BEGIN:DAYLIGHT
TZOFFSETFROM:+0200
TZOFFSETTO:+0300
TZNAME:EEST
DTSTART:20260329T010000
END:DAYLIGHT
BEGIN:STANDARD
TZOFFSETFROM:+0300
TZOFFSETTO:+0200
TZNAME:EET
DTSTART:20261025T010000
END:STANDARD
END:VTIMEZONE
BEGIN:VEVENT
DTSTART;TZID=Europe/Athens:20250507T203000
DTEND;TZID=Europe/Athens:20250507T203000
DTSTAMP:20260424T041351
CREATED:20250505T080324Z
LAST-MODIFIED:20250505T080324Z
UID:420247-1746649800-1746649800@rethemnos.gr
SUMMARY:Εκδήλωση μνήμης για τον Αντώνη Πλυμάκη
DESCRIPTION:Εκδήλωση μνήμης για τον Αντώνη Πλυμάκη διοργανώνει το Τμήμα Δυτικής Κρήτης Δυτικής Κρήτης της Ελληνικής Σπηλαιολογικής Εταιρείας. \nΟ πρόσφατα εκλιπών Χανιώτης\, εκτός από σημαντικός λαογράφος και ορειβάτης\, υπήρξε και δεινός σπηλαιολόγος\, έχοντας ιδρύσει μαζί με τον Χρίστο Χουλιόπουλο και τον Παύλο Πιπεράκη το 1950 τη Σπηλαιολογική Ομάδα του Ορειβατικού Συλλόγου Χανίων. Από το 1997 υπήρξε επίτιμος πρόεδρος του Τμήματος Δυτικής Κρήτης\, το οποίο και ευεργέτησε με πλήθος πληροφοριών\, ερευνών και χορηγία ιστορικού σπηλαιολογικού υλικού. \n \nΣτην εκδήλωση\, που θα πραγματοποιηθεί την Τετάρτη 7 Μαΐου στις 8.30 μ.μ. στον χώρο της Μόνιμης Έκθεσης στην οδό Πατελάρου 14\, θα κάνει σχετική ομιλία με παράλληλη προβολή διαφανειών ο Χάρης Στρατιδάκης\, ο οποίος και θα θυμίσει στους παρευρισκόμενους τις τρεις σχεδόν δεκαετίες αγαστής συνεργασίας που διατηρούσε με τους Ρεθεμνιώτες σπηλαιο-συντρόφους του. Παράλληλα ο Χαράλαμπος Σκεπετζάκης θα προβάλει με τη μορφή βίντεο αποσπάσματα από κοινές δράσεις. \n \nΚαλούνται να παρευρεθούν όσοι τον γνώρισαν από κοντά αλλά και όσοι δεν είχαν αυτή την τύχη αλλά θα το επιθυμούσαν. \nΤμήμα Δυτικής Κρήτης Ελληνικής Σπηλαιολογικής Εταιρείας
URL:https://rethemnos.gr/event/ekdilosi-mnimis-gia-ton-antoni-plymaki/
LOCATION:Τοπικό Τμήμα Δυτικής Κρήτης Ελληνικής Σπηλαιολογικής Εταιρείας\, Neofitou Patelarou\, Rethymno\, Ρέθυμνο\, 741 31\, Greece
CATEGORIES:εκδήλωση μνήμης
ATTACH;FMTTYPE=image/jpeg:https://rethemnos.gr/wp-content/uploads/2025/05/Είσοδος-στο-σπηλαιοβάραθρο-Ομαλού-με-πλαστική-βάρκα-για-τη-διάσχιση-του-λιμναίου-τμήματός-του.jpg
END:VEVENT
BEGIN:VEVENT
DTSTART;TZID=Europe/Athens:20250519T200000
DTEND;TZID=Europe/Athens:20250519T200000
DTSTAMP:20260424T041351
CREATED:20250514T075832Z
LAST-MODIFIED:20250514T080721Z
UID:421215-1747684800-1747684800@rethemnos.gr
SUMMARY:Εκδήλωση μνήμης για τον Αλέξη Πολίτη
DESCRIPTION:Τη Δευτέρα 19 Μαΐου 2025\, στις 8 το βράδυ\, θα πραγματοποιηθεί εκδήλωση μνήμης για τον Αλέξη Πολίτη\, που άφησε την τελευταία του πνοή στο Ρέθυμνο τον περασμένο Απρίλιο. \nΣτην εκδήλωση θα μιλήσουν συνάδελφοι\, συνεργάτες και μαθητές του. Θα απαγγελθούν παραλογές από το τελευταίο του βιβλίο\, με συνοδεία κιθάρας\, και ποιήματα που γράφτηκαν για τον ίδιο. \nΤην εκδήλωση θα χαιρετήσουν ο Πρύτανης του Πανεπιστημίου Κρήτης Καθηγητής Γιώργος Κοντάκης\, η Αντιπεριφερειάρχης Ρεθύμνης Μαίρη Λιονή και ο Δήμαρχος Ρεθύμνης Γιώργης Μαρινάκης. \nΤο πρόγραμμα: \nΧαιρετισμοί \n\nΠρύτανης του Πανεπιστημίου Κρήτης\, Καθηγητής Γιώργος Κοντάκης\nΑντιπεριφερειάρχης Ρεθύμνης\, Μαίρη Λιονή\nΔήμαρχος Ρεθύμνης\, Γιώργης Μαρινάκης\n\nΟμιλίες \n\nΔημήτρης Πολυχρονάκης\, Καθηγητής Νεοελληνικής Φιλολογίας\, Πανεπιστήμιο Κρήτης\, Ο Αλέξης Πολίτης και ο μακρύς 19ος αιώνας\n\nΟ γυρισμός του ξενιτεμένου (απαγγελία Αγγέλα Γιώτη – κιθάρα Μάνος Πανταζώνης) \n\nΓιάννης Δημητρακάκης\, Αναπληρωτής Καθηγητής Νεοελληνικής Φιλολογίας Πανεπιστήμιο Κρήτης\, Ο Αλέξης Πολίτης αναγνώστης της ποίησης\n\nΤου νεκρού αδερφού (απαγγελία Μιχάλης Βιρβιδάκης) \n\nΜαριλίζα Μητσού\, Ομότιμη Διευθύντρια Σπουδών της École des Hautes Études en\nSciences Sociales\, Παρίσι\, Ο Αλέξης Πολίτης και η ανακάλυψη του δημοτικού\nτραγουδιού\n\nΑλέξη Πολίτη “Καλά περιβάλλοντα” (διαβάζει ο Αλέξανδρος Κατσιγιάννης) \nΦλάουτο από την Αγγέλα Καστρινάκη \nΣύντομες παρεμβάσεις \n\nΜάρτζη Βενιέρη\, Καθηγήτρια Φιλοσοφίας\nΠαρασκευάς Ματάλας\, Επίκουρος Καθηγητής Σύγχρονης Ιστορίας\nΒαγγέλης Καραδήμας\, Καθηγητής Ψυχολογίας\nΕλένη Κωβαίου\, Διευθύντρια Βιβλιοθήκης\nΜιχάλης Τζεκάκης\, πρώην Διευθυντής Βιβλιοθήκης\nΔημήτρης Περοδασκαλάκης\, Μέλος Ε.ΔΙ.Π. Κλασικής Φιλολογίας\nΚώστας Αγγελόπουλος\, Φοιτητής Φιλολογίας\n\nΤο δοκίμιν της αγάπης & Δούλος και κυρά (απαγγελία Αγγέλα Γιώτη – κιθάρα Μάνος Πανταζώνης) \nΜπουφές
URL:https://rethemnos.gr/event/ekdilosi-mnimis-gia-ton-alexi-politi/
LOCATION:Πανεπιστήμιο Κρήτης Ρέθυμνο\, Πανεπιστήμιο Κρήτης\, Ρέθυμνο\, Ρεθύμνου\, 74100\, Greece
CATEGORIES:εκδήλωση μνήμης
ATTACH;FMTTYPE=image/jpeg:https://rethemnos.gr/wp-content/uploads/2025/05/19-5.jpg
END:VEVENT
BEGIN:VEVENT
DTSTART;TZID=Europe/Athens:20250526T180000
DTEND;TZID=Europe/Athens:20250526T210000
DTSTAMP:20260424T041351
CREATED:20250519T114431Z
LAST-MODIFIED:20250522T094832Z
UID:421712-1748282400-1748293200@rethemnos.gr
SUMMARY:Εσπερίδα μνήμης Μάρκου Πολιουδάκη
DESCRIPTION:Εσπερίδα αφιερωμένη στη μνήμη του Μάρκου Πολιουδάκη θα πραγματοποιηθεί τη Δευτέρα 26 Μαΐου 2025 στο συνεδριακό κέντρο του ξενοδοχείου «ΤHEARTEMIS»\, στα πλαίσια των εκδηλώσεων εορτασμού της 84ης Επετείου της Μάχης της Κρήτης. \nΑπό τις 18:00 έως τις 21:00. \nΣυμμετέχουν: \n\nΖαχαρένια Σημανδηράκη\, Ειδική Συνεργάτης Αρχείων του Κράτους.\nΓιώργος Καλογεράκης\, Δρ Πανεπιστημίου Ιωαννίνων και διευθυντής Δημοτικού Σχολείου Καστελλίου.\nΝίκος Δερεδάκης\, Δάσκαλος – Ιστορικός Ερευνητής-Συγγραφέας.\nΜανούσος Κλάδος\, Δημοσιογράφος –Πρόεδρος Ι.Λ.Ε.Ρ.\nΚωστής Μεργέμογλου\, Δημοτικός Σύμβουλος Ρεθύμνου -Λογοτέχνης.\nΕύα Λαδιά\, σ. Δημοσιογράφος-Ιστορική Ερευνήτρια.\n\nΣυντονίζει ο δημοσιογράφος Σταύρος Ρακιντζής. \nΟργάνωση: ΜΝΗΜΕΣ ΟΛΟΚΑΥΤΩΜΑΤΩΝ ΚΑΙ ΜΑΡΤΥΡΙΚΩΝ ΧΩΡΙΩΝ Ν. ΡΕΘΥΜΝΟΥ \nΕΙΣΟΔΟΣ ΕΛΕΥΘΕΡΗ.
URL:https://rethemnos.gr/event/esperida-mnimis-markoy-polioydaki/
LOCATION:Theartemis Palace\, Μάρκου Πορτάλιου 26\, Ρέθυμνο\, Ρεθύμνου\, 74100\, Greece
CATEGORIES:εκδήλωση μνήμης
ATTACH;FMTTYPE=image/jpeg:https://rethemnos.gr/wp-content/uploads/2025/05/6-5.jpg
END:VEVENT
END:VCALENDAR