BEGIN:VCALENDAR
VERSION:2.0
PRODID:-//Rethemnos Live - ECPv6.15.20//NONSGML v1.0//EN
CALSCALE:GREGORIAN
METHOD:PUBLISH
X-WR-CALNAME:Rethemnos Live
X-ORIGINAL-URL:https://rethemnos.gr
X-WR-CALDESC:Events for Rethemnos Live
REFRESH-INTERVAL;VALUE=DURATION:PT1H
X-Robots-Tag:noindex
X-PUBLISHED-TTL:PT1H
BEGIN:VTIMEZONE
TZID:Europe/Athens
BEGIN:DAYLIGHT
TZOFFSETFROM:+0200
TZOFFSETTO:+0300
TZNAME:EEST
DTSTART:20240331T010000
END:DAYLIGHT
BEGIN:STANDARD
TZOFFSETFROM:+0300
TZOFFSETTO:+0200
TZNAME:EET
DTSTART:20241027T010000
END:STANDARD
BEGIN:DAYLIGHT
TZOFFSETFROM:+0200
TZOFFSETTO:+0300
TZNAME:EEST
DTSTART:20250330T010000
END:DAYLIGHT
BEGIN:STANDARD
TZOFFSETFROM:+0300
TZOFFSETTO:+0200
TZNAME:EET
DTSTART:20251026T010000
END:STANDARD
BEGIN:DAYLIGHT
TZOFFSETFROM:+0200
TZOFFSETTO:+0300
TZNAME:EEST
DTSTART:20260329T010000
END:DAYLIGHT
BEGIN:STANDARD
TZOFFSETFROM:+0300
TZOFFSETTO:+0200
TZNAME:EET
DTSTART:20261025T010000
END:STANDARD
END:VTIMEZONE
BEGIN:VEVENT
DTSTART;TZID=Europe/Athens:20250810T200000
DTEND;TZID=Europe/Athens:20250810T200000
DTSTAMP:20260423T233028
CREATED:20250808T124218Z
LAST-MODIFIED:20250808T124301Z
UID:430008-1754856000-1754856000@rethemnos.gr
SUMMARY:Eκδήλωση μνήμης για τους Νίκο Φασατάκη και Νίκο Μαργαρίτη στις Μέλαμπες
DESCRIPTION:Ο Δήμος Αγίου Βασιλείου και οι Φορείς των Μελάμπων σας προσκαλούν στην τιμητική εκδήλωση μνήμης για τους εκλιπόντες πνευματικούς ανθρώπους του τόπου μας Νίκο Φασατάκη και Νίκο Μαργαρίτη\, την Κυριακή 10 Αυγούστου 2025\, ώρα 20:00\, στην αίθουσα του Πολιτιστικού Συλλόγου Μελάμπων. \nΟμιλητές: \n\nΧρήστος Λιονής\, καθηγητής Ιατρικής\nΓιάννης Γρυντάκης\, ιστορικός\nΖήνων Ζαννέτος\, φιλόλογος\nΜανόλης Σημαντηράκης\, θεολόγος\n\nΣυντονιστής: Αντώνης Ε. Τσουρδαλάκης\, εκπαιδευτικός \nΗ παρουσία σας θα μας τιμήσει ιδιαίτερα. \nΟ Δήμαρχος Αγίου Βασιλείου\nΓιάννης Ταταράκης \nΟ Πρόεδρος Δημοτικού Συμβουλίου\nΑντώνης Τσουρδαλάκης \nΟι Φορείς των Μελάμπων
URL:https://rethemnos.gr/event/ekdilosi-mnimis-gia-toys-niko-fasataki-kai-niko-margariti-stis-melampes/
LOCATION:Μέλαμπες\, Μέλαμπες\, Μέλαμπες\, Ρεθύμνου\, Ελλάδα
CATEGORIES:εκδήλωση μνήμης
ATTACH;FMTTYPE=image/jpeg:https://rethemnos.gr/wp-content/uploads/2025/08/fasatakis-margaritis.jpg
END:VEVENT
BEGIN:VEVENT
DTSTART;TZID=Europe/Athens:20250813T110000
DTEND;TZID=Europe/Athens:20250813T110000
DTSTAMP:20260423T233028
CREATED:20250811T200447Z
LAST-MODIFIED:20250811T200447Z
UID:430321-1755082800-1755082800@rethemnos.gr
SUMMARY:Επετειακές εκδηλώσεις για την 81η επέτειο από το 3ο Ολοκαύτωμα των Ανωγείων
DESCRIPTION:Ο Δήμος Ανωγείων ανακοινώνει ότι την Τετάρτη 13 Αυγούστου 2025 θα πραγματοποιηθούν οι επετειακές εκδηλώσεις μνήμης για τη συμπλήρωση 81 χρόνων από το Τρίτο Ολοκαύτωμα των Ανωγείων\, την πιο σκληρή και βίαιη καταστροφή που υπέστη ο τόπος στις 13 Αυγούστου 1944 από τα ναζιστικά στρατεύματα κατοχής. \nΣτις φετινές εκδηλώσεις θα παραστούν ο Αντιπρόεδρος της Κυβέρνησης και Υπουργός Επικρατείας\, κ. Κωνσταντίνος Χατζηδάκης\, και ο Αρχηγός του Γενικού Επιτελείου Εθνικής Άμυνας\, Στρατηγός Δημήτριος Χούπης. \nΤο πρόγραμμα περιλαμβάνει: \n11:00 π.μ. στον Ι.Ν Αγ.Ιωάννη \n\nΆφιξη επισήμων – Δοξολογία στο χώρο του Ηρώου\, πλατεία «Αρμί»\nΕπιμνημόσυνη δέηση χοροστατούντος του Μητροπολίτη Ρεθύμνης και Αυλοποτάμου\, κ.κ. Προδρόμου\nΟμιλία: «Ανώγεια: ο τόπος που δεν έσβησε ποτέ» από την κα. Κατερίνα Σπιθούρη\, Εκπαιδευτικό Πρωτοβάθμιας Εκπαίδευσης\nΚατάθεση στεφάνων\nΕνός λεπτού σιγή\nΑνάκρουση Εθνικού Ύμνου\n«Ω\, Παναγιά μου Ανωγειανή»: Απόσπασμα από το τραγούδι της Ειρήνης Αναγνωστάκη\, από το Λυκούργο Πασπαράκη\nΛήξη τελετής\n\nΟι εκδηλώσεις έχουν ως σκοπό να υπενθυμίσουν την ιστορική ευθύνη όλων μας: να μην ξεχάσουμε τις θυσίες του παρελθόντος και να πορευτούμε με αξιοπρέπεια\, ενότητα και αλήθεια προς το μέλλον.
URL:https://rethemnos.gr/event/epeteiakes-ekdiloseis-gia-tin-81i-epeteio-apo-to-3o-olokaytoma-ton-anogeion/
LOCATION:Ανώγεια\, Ανώγεια\, Ανώγεια\, Ρεθύμνου\, 74051\, Ελλάδα
CATEGORIES:εκδήλωση μνήμης
ATTACH;FMTTYPE=image/jpeg:https://rethemnos.gr/wp-content/uploads/2025/08/300_0.jpg
END:VEVENT
BEGIN:VEVENT
DTSTART;TZID=Europe/Athens:20250816T200000
DTEND;TZID=Europe/Athens:20250816T200000
DTSTAMP:20260423T233028
CREATED:20250813T083635Z
LAST-MODIFIED:20250814T110303Z
UID:430522-1755374400-1755374400@rethemnos.gr
SUMMARY:Αποκαλυπτήρια μνημείου για τον Γεώργιο Κ. Καπετανάκη στον Πλάτανο Αμαρίου
DESCRIPTION:Η μνήμη του Γεώργιου Κ. Καπετανάκη τιμάται το Σάββατο 16 Αυγούστου στον Πλάτανο Αμαρίου\, στον νομό Ρεθύμνου\, με τα αποκαλυπτήρια του μνημείου για τον Αγωνιστή – Ήρωα του Ελληνοϊταλικού πολέμου 1940 – 1941. \nΗ εκδήλωση\, η οποία θα ξεκινήσει στις 20:00\, τελεί υπό την αιγίδα του Δήμου Αμαρίου. \nΘα ακολουθήσει κρητικό γλέντι με το συγκρότημα των Νίκου και Άρη Ζαχαριουδάκη και άλλους καλλιτέχνες\, ενώ το κοινό θα έχει την ευκαιρία να γευτεί παραδοσιακές τοπικές νοστιμιές.
URL:https://rethemnos.gr/event/apokalyptiria-mnimeioy-gia-ton-georgio-k-kapetanaki-ston-platano-amarioy/
LOCATION:Πλάτανος Αμαρίου\, Platania\, Ρεθύμνου\, 740 61\, Greece
CATEGORIES:εκδήλωση μνήμης
ATTACH;FMTTYPE=image/jpeg:https://rethemnos.gr/wp-content/uploads/2025/08/2122.jpeg
END:VEVENT
BEGIN:VEVENT
DTSTART;TZID=Europe/Athens:20250817T190000
DTEND;TZID=Europe/Athens:20250817T190000
DTSTAMP:20260423T233028
CREATED:20250813T081950Z
LAST-MODIFIED:20250813T081950Z
UID:430517-1755457200-1755457200@rethemnos.gr
SUMMARY:Εκδήλωση τιμής και μνήμης στους Κομμουνιστές Αγωνιστές των Μελάμπων
DESCRIPTION:Η ΚΟ Αγίου Βασιλείου του ΚΚΕ διοργανώνει εκδήλωση αφιερωμένη στη θυσία των κομμουνιστών αγωνιστών από τις Μέλαμπες Αγίου Βασιλείου\, στον ταξικό αγώνα 1945-1949. \nΗ εκδήλωση θα γίνει στο χωριό Μέλαμπες\, στον Πλάτανο\, στην Πέρα Βρύση\, στις 17/8/2025 και ώρα 19:00. \nΘα μιλήσουν οι: Αγγελογιαννάκης Βαγγέλης\, γραμματέας της ΤΕ Ρεθύμνου του ΚΚΕ\, και Γιώργος Μπαγιαρτάκης\, στέλεχος του ΚΚΕ. \nΤιμούμε τους πεσόντες Μελαμπιανούς: Τρουλλινό Γιώργη\, Τρουλλινό Πέτρο\, Τυροκομάκη Ηλία\, Φασατάκη Γιάννη και τον Ανωγειανό Σμπώκο Γιώργη. \nΘα ακολουθήσει κρητικό γλέντι με τους Ραφαήλ Παπαδογιάννη στη λύρα και τον Μαργαρίτη Κωστή στο λαούτο.
URL:https://rethemnos.gr/event/ekdilosi-timis-kai-mnimis-stoys-kommoynistes-agonistes-ton-melampon/
LOCATION:Μέλαμπες\, Μέλαμπες\, Μέλαμπες\, Ρεθύμνου\, Ελλάδα
CATEGORIES:εκδήλωση μνήμης
ATTACH;FMTTYPE=image/jpeg:https://rethemnos.gr/wp-content/uploads/2025/08/632.jpg
END:VEVENT
BEGIN:VEVENT
DTSTART;TZID=Europe/Athens:20250822T070000
DTEND;TZID=Europe/Athens:20250822T130000
DTSTAMP:20260423T233028
CREATED:20240813T163245Z
LAST-MODIFIED:20250820T082755Z
UID:430993-1755846000-1755867600@rethemnos.gr
SUMMARY:Εκδηλώσεις τιμής και μνήμης για την 81η Επέτειο του Ολοκαυτώματος των χωριών του Κέντρους
DESCRIPTION:Σας προσκαλούμε στις διήμερες εκδηλώσεις Τιμής και Μνήμης για την 81η Επέτειο του Ολοκαυτώματος των χωριών του Κέντρους (Άνω Μέρος\, Βρύσες\, Γερακάρι\, Γουργούθοι\, Δρυγιές\, Καρδάκι\, Σμιλές\, Κρύα Βρύση) από τα ναζιστικά στρατεύματα κατοχής\, που θα πραγματοποιηθούν την Πέμπτη 21 και την Παρασκευή 22 Αυγούστου 2025 στη Δημοτική Κοινότητα Βρυσών. \nΜε τιμή\,\nΠαντελής Μουρτζανός\nΔήμαρχος Αμαρίου \nΤο πρόγραμμα:
URL:https://rethemnos.gr/event/ekdiloseis-timis-kai-mnimis-gia-tin-81i-epeteio-toy-olokaytomatos-ton-chorion-toy-kentroys-2/
LOCATION:Βρύσες Αμαρίου\, Βρύσες Αμαρίου\, Βρύσες Αμαρίου\, Ρεθύμνου\, Ελλάδα
CATEGORIES:αθλητισμός,εκδήλωση μνήμης,ζωντανή μουσική,ομιλία
ATTACH;FMTTYPE=image/jpeg:https://rethemnos.gr/wp-content/uploads/2024/08/2353.jpeg
END:VEVENT
BEGIN:VEVENT
DTSTART;TZID=Europe/Athens:20250829T190000
DTEND;TZID=Europe/Athens:20250829T190000
DTSTAMP:20260423T233028
CREATED:20250827T053617Z
LAST-MODIFIED:20250827T053617Z
UID:431615-1756494000-1756494000@rethemnos.gr
SUMMARY:Eκδήλωση τιμής και μνήμης για την 81η επέτειο Ολοκαυτώματος της Κοξαρές
DESCRIPTION:Εκδήλωση τιμής και μνήμης για την 81η επέτειο ολοκαυτώματος της Κοξαρές από τους Ναζί\, θα πραγματοποιηθεί την Παρασκευή 29 Αυγούστου και ώρα 19:00 το απόγευμα\, στο μνημείο πεσόντων\, στην πλατεία του χωριού. \nΠΡΟΓΡΑΜΜΑ ΕΚΔΗΛΩΣΗΣ \nΈναρξη 19:00\nΕπιμνημόσυνη δέηση στο μνημείο\nΟμιλία για το ιστορικό της επετείου από την Αντιδήμαρχο Πολιτισμού του Δήμου Αγίου Βασιλείου\, Ευαγγελία Γλαμπεδάκη\nΚατάθεση στεφάνων – Προσκλητήριο Ηρώων – Ενός λεπτού σιγή – Εθνικός Ύμνος
URL:https://rethemnos.gr/event/ekdilosi-timis-kai-mnimis-gia-tin-81i-epeteio-olokaytomatos-tis-koxares/
LOCATION:Κοξαρέ\, Koxare\, Ρεθύμνου\, 740 53\, Greece
CATEGORIES:εκδήλωση μνήμης
ATTACH;FMTTYPE=image/jpeg:https://rethemnos.gr/wp-content/uploads/2025/08/81.jpg
END:VEVENT
END:VCALENDAR