BEGIN:VCALENDAR
VERSION:2.0
PRODID:-//Rethemnos Live - ECPv6.15.20//NONSGML v1.0//EN
CALSCALE:GREGORIAN
METHOD:PUBLISH
X-ORIGINAL-URL:https://rethemnos.gr
X-WR-CALDESC:Events for Rethemnos Live
REFRESH-INTERVAL;VALUE=DURATION:PT1H
X-Robots-Tag:noindex
X-PUBLISHED-TTL:PT1H
BEGIN:VTIMEZONE
TZID:Europe/Athens
BEGIN:DAYLIGHT
TZOFFSETFROM:+0200
TZOFFSETTO:+0300
TZNAME:EEST
DTSTART:20240331T010000
END:DAYLIGHT
BEGIN:STANDARD
TZOFFSETFROM:+0300
TZOFFSETTO:+0200
TZNAME:EET
DTSTART:20241027T010000
END:STANDARD
BEGIN:DAYLIGHT
TZOFFSETFROM:+0200
TZOFFSETTO:+0300
TZNAME:EEST
DTSTART:20250330T010000
END:DAYLIGHT
BEGIN:STANDARD
TZOFFSETFROM:+0300
TZOFFSETTO:+0200
TZNAME:EET
DTSTART:20251026T010000
END:STANDARD
BEGIN:DAYLIGHT
TZOFFSETFROM:+0200
TZOFFSETTO:+0300
TZNAME:EEST
DTSTART:20260329T010000
END:DAYLIGHT
BEGIN:STANDARD
TZOFFSETFROM:+0300
TZOFFSETTO:+0200
TZNAME:EET
DTSTART:20261025T010000
END:STANDARD
END:VTIMEZONE
BEGIN:VEVENT
DTSTART;TZID=Europe/Athens:20250906T193000
DTEND;TZID=Europe/Athens:20250906T193000
DTSTAMP:20260423T213145
CREATED:20250903T081705Z
LAST-MODIFIED:20250903T081705Z
UID:432303-1757187000-1757187000@rethemnos.gr
SUMMARY:Εκδήλωση αφιερωμένη στη δωρεά μυελού των οστών στο Άδελε Ρεθύμνου
DESCRIPTION:Ο Πολιτιστικός Σύλλογος Άδελε – Αγίας Παρασκευής\, ετοιμάζει μια ξεχωριστή εκδήλωση αφιερωμένη στη δωρεά μυελού των οστών και στο δώρο ζωής που μπορεί να προσφέρει ο καθένας μας το Σάββατο 6 Σεπτεμβρίου 2025\, στις 19:30 στον χώρο του Πολιτιστικού Συλλόγου Άδελε – Αγίας Παρασκευής\, στο Άδελε. \nΣτην εκδήλωση θα βρίσκεται ο Παγκρήτιος Σύλλογος Γονέων & Φίλων Παιδιών με Νεοπλασία “Ηλιαχτίδα”\, που εδώ και περισσότερα από 30 χρόνια στηρίζει έμπρακτα τα παιδιά και τις οικογένειές τους. \nΘα ενημερωθεί το κοινό για το έργο του συλλόγου και θα δοθεί η δυνατότητα εγγραφής νέων εθελοντών δοτών μυελού των οστών. Το Όραμα Ελπίδας\, που θα μας εξηγήσει με απλό τρόπο τι είναι ο μυελός των οστών και πώς μπορεί κάποιος να γίνει εθελοντής δότης. \nΘα δούμε : \n\nΤην ιστορία της Ρεγγίνας Μακέδου\, μιας κοπέλας που νόσησε από Λευχαιμία και μέσα από τη μεταμόσχευση με άγνωστο μέχρι τότε δότη\, κατάφερε να έχει μια δεύτερη ευκαιρία στη ζωή και μας μιλά για τον “άγγελό” της\, όπως μας λέει\, τη δότρια της που της χάρισε ελπίδα και ζωή.\n\nΟ Πολιτιστικός Σύλλογος Άδελε – Αγίας Παρασκευής θα είναι εκεί\, εθελοντές δότες\, για να μοιραστούν την εμπειρία τους\, να λύσουν απορίες και – το πιο σημαντικό – να δώσουν την ευκαιρία σε όποιον το θελήσει να γραφτεί εθελοντής δότης μυελού των οστών μέσω της ηλιαχτίδας!! \nΗ βραδιά αυτή θα είναι αφιερωμένη σε όσους έδωσαν τη μάχη τους με ελπίδα\, αλλά δεν κατάφεραν να είναι σήμερα μαζί μας. Είναι όμως παρόντες μέσα από το όραμα\, την αγάπη και την έμπνευση που άφησαν πίσω τους. Και σε εκείνους που τώρα δίνουν τον αγώνα τους με την ευχή να κρατούν πίστη ότι το θαύμα μπορεί τελικά να συμβεί !! Σας περιμένουμε με χαρά και συγκίνηση ! \nΠολιτιστικός Σύλλογος Άδελε – Αγίας Παρασκευής\nΈναρξη: 19:30.
URL:https://rethemnos.gr/event/ekdilosi-afieromeni-sti-dorea-myeloy-ton-oston-sto-adele-rethymnoy/
LOCATION:Άδελε\, Άδελε\, Ρέθυμνο\, Ρεθύμνου\, 74100\, Ελλάδα
CATEGORIES:ενημερωτική εκδήλωση
ATTACH;FMTTYPE=image/jpeg:https://rethemnos.gr/wp-content/uploads/2025/09/politistikos-syllogos-adele-myelou-ton-oston.jpeg
END:VEVENT
BEGIN:VEVENT
DTSTART;TZID=Europe/Athens:20250903T193000
DTEND;TZID=Europe/Athens:20250903T193000
DTSTAMP:20260423T213145
CREATED:20250903T063557Z
LAST-MODIFIED:20250903T063557Z
UID:432289-1756927800-1756927800@rethemnos.gr
SUMMARY:Ενημερωτική εσπερίδα με θέμα «Καρκίνος του Μαστού: Πρόληψη πριν τη διάγνωση! Δύναμη μετά τη δοκιμασία!»
DESCRIPTION:Ο Ελληνικός Ερυθρός Σταυρός – Τομέας Υγείας του Περιφερειακού Τμήματος Ρεθύμνου διοργανώνει ενημερωτική εσπερίδα με θέμα «Καρκίνος του Μαστού: Πρόληψη πριν τη διάγνωση! Δύναμη μετά τη δοκιμασία!». \nΗ εκδήλωση θα πραγματοποιηθεί την Τετάρτη 3 Σεπτεμβρίου\, ώρα 19:30\, στο Λύκειο Ελληνίδων Ρεθύμνου. \nΟμιλητές: \n\nΑναστασία Μαλά\, Παθολόγος – Ογκολόγος ΠΑΓΝΗ\nΜαρίνα Κρητικού\, Ψυχολόγος Υγείας – Συστημική Ψυχοθεραπεύτρια\nΠρωτοσύγκελος ΙΜΡΑ\, Ηγούμενος Ι. Μ. Ατάλης\, Μπαλί\, Πανοσιολ. Αρχ. Παρθένιος Καλυβιανάκης
URL:https://rethemnos.gr/event/enimerotiki-esperida-me-thema-karkinos-toy-mastoy-prolipsi-prin-ti-diagnosi-dynami-meta-ti-dokimasia/
LOCATION:Λύκειο Ελληνίδων Ρεθύμνου\, Ελευθερίου Βενιζέλου 79\, Ρέθυμνο\, Ρεθύμνου\, 74100\, Ελλάδα
CATEGORIES:ενημερωτική εκδήλωση
ATTACH;FMTTYPE=image/jpeg:https://rethemnos.gr/wp-content/uploads/2025/09/sisxe32.jpg
END:VEVENT
BEGIN:VEVENT
DTSTART;TZID=Europe/Athens:20250709T200000
DTEND;TZID=Europe/Athens:20250709T213000
DTSTAMP:20260423T213145
CREATED:20250708T063341Z
LAST-MODIFIED:20250708T063341Z
UID:426884-1752091200-1752096600@rethemnos.gr
SUMMARY:Εκδήλωση γνωριμίας με τα Αντικύθηρα από το Τμήμα Δυτικής Κρήτης της Ελληνικής Σπηλαιολογικής Εταιρείας
DESCRIPTION:Εκδήλωση γνωριμίας με τα Αντικύθηρα (Τσιριγότο) διοργανώνει την Τετάρτη 9 Ιουλίου το Τμήμα Δυτικής Κρήτης της Ελληνικής Σπηλαιολογικής Εταιρείας\, ενταγμένη στη σειρά προβολών γνωριμίας με τόπους στους οποίους έχει πραγματοποιήσει αποστολές. \nΈτσι\, μέχρι σήμερα έχουν γίνει παρουσιάσεις των αποστολών Καλύμνου το 2005\, Κάσου το 2006\, Αστερουσίων\, Σάμου και Λαβυρίνθου (με αλλεπάλληλες αποστολές στα τρία τελευταία μέρη)\, ενώ στο μέλλον θα γίνουν ανάλογες παρουσιάσεις για τη Γαύδο και την Καππαδοκία. \n \nΗ πρώτη αποστολή στα Αντικύθηρα έγινε το 2007 και ακολούθησε παρόμοια το 2019. Στην εκδήλωση θα παρουσιαστούν όχι μόνο στοιχεία από τις δύο αυτές αποστολές\, οι οποίες άλλωστε είχαν πενιχρά αποτελέσματα ως προς τα σπήλαια\, αλλά συνολικά για το νησί αυτό\, που απέχει δύο ώρες με το πλοίο από την Κίσαμο. Αρχικά θα δοθούν στοιχεία για την γεωγραφία του\, που το καθιστά κεντρικό για το πέρασμα από το Αιγαίο πέλαγος προς τη δυτική Μεσόγειο. Απ’ αυτή την άποψη είναι χαρακτηριστικό ότι είχε φιλοξενήσει μια περσική βάση μέχρι την κατάλυση της περσικής αυτοκρατορίας από τον Μέγα Αλέξανδρο\, οπότε οι κάτοικοί του μεταστράφηκαν στην πειρατεία\, προκειμένου να επιβιώσουν\, σε συνεταιρισμό με τους απέναντι Φαλασαρναίους. Πολύ αργότερα στα ανοικτά του\, σε διεθνή χωρικά ύδατα\, είχε λειτουργήσει την περίοδο του Ψυχρού Πολέμου και μέχρι το 1990 ρωσικό αγκυροβόλιο. \n\nΣτη συνέχεια θα παρουσιαστούν στοιχεία για τη γεωλογία των Αντικυθήρων\, για τη χλωρίδα και την πανίδα τους. Το θέμα του νερού και της εξασφάλισής του\, παλιότερα και σήμερα\, ήταν κομβικό\, με μια πλειάδα αλληλοσυμπληρούμενων λύσεων\, συγκροτούμενων από φυσικές πηγές και υδατοδεξαμενές ομβρίων υδάτων. Η καλή παλιότερα διαχείρισή του έδινε τη δυνατότητα λειτουργίας ακόμη και σε νερόμυλους\, οι οποίοι μαζί με τους ανεμόμυλους έλυναν το θέμα της αλευροποίησης των σιτηρών. Τα εδάφη του νησιού δεν ήταν εύφορα\, οπότε η πλειονότητα των παραγόμενων σιτηρών αφορούσε το κριθάρι. Οπωσδήποτε οι κάτοικοι κατόρθωναν να ζουν αξιοπρεπώς\, με την κτηνοτροφία να συμπληρώνει τη γεωργία\, καθιστώντας περισσότερο εύφορα τα εδάφη με το κόπρισμα των αιγοπροβάτων\, ενώ τα υπολείμματα των γεωργικών προϊόντων έτρεφαν τα ζώα. Η οικονομία του τόπου στηριζόταν επίσης στα εμβάσματα των μεταναστών\, οι οποίοι κάθε Αύγουστο το ζωντανεύουν μέχρι σήμερα και με τη φυσική τους παρουσία. \nΗ ιστορική διαδρομή του νησιού ακολούθησε εκείνες των Επτανήσων και στα νεότερα χρόνια της Κρήτης. Έτσι γνώρισε την ενετική και την αγγλική κατοχή και αργότερα τη γερμανική\, οπότε οι κάτοικοι εξορίστηκαν στην Κρήτη και το νησί έμεινε ακατοίκητο. Σε διάφορες μάλιστα εποχές χρησίμευσε ως τόπος εξορίας\, επί Ρωμαιοκρατίας αλλά και πιο πρόσφατα\, στον Μεσοπόλεμο και κατά τα χρόνια που ακολούθησαν τον Εμφύλιο Πόλεμο. Την ιστορική αυτή διαδρομή τονίζουν τα ερείπια της κατοίκησης στην περιοχή της αρχαίας πόλης Αιγιλείας\, στην οποία οι σπηλαιολόγοι είχαν την τύχη να ξεναγηθούν αυτοπροσώπως από τον ανασκαφέα της Άρη Τσαραβόπουλο. Επικεφαλής μιας διεθνούς αρχαιολογικής αποστολής εθελοντών\, ανέδειξε περισσότερο από κάθε άλλον το νησί. Το έκανε επίσης γνωστό η διαρκής παρουσία της Ελληνικής Ορνιθολογικής Εταιρείας\, η οποία μελετά επιτόπου την εαρινή και φθινοπωρινή μετανάστευση των πουλιών. Για τον σκοπό αυτό έχει δημιουργήσει ενημερωτικό κέντρο και έχει καταστήσει ξανά κατοικήσιμα μερικά σπίτια σ’ έναν εγκαταλελειμμένο οικισμό\, για τις ανάγκες διαμονής των εθελοντών της. \n\n \nΟπωσδήποτε το πιο γνωστό στοιχείο του νησιού είναι ο λεγόμενος «αστρολάβος» των Αντικυθήρων\, για τον οποίο κι είχε διοργανωθεί παλιότερα ειδική έκθεση στο Εθνικό Αρχαιολογικό Μουσείο. Πρόκειται για ένα αρχαίο τέχνεργο\, που υπείχε θέση σημερινού ηλεκτρονικού υπολογιστή για αστρονομικές παρατηρήσεις. Συγκροτούνταν από σειρά γραναζιών\, που είχαν πολλές ομοιότητες με πολύπλοκο ωρολογιακό μηχανισμό. Το όργανο αυτό βρέθηκε σε ναυάγιο ρωμαϊκών χρόνων κοντά στην ακτή των Αντικυθήρων μαζί μ’ ένα από τα καλύτερα χάλκινα γλυπτά της αρχαιότητας\, τον λεγόμενο «έφηβο των Αντικυθήρων» και τον λιγότερο γνωστό «φιλόσοφο» και άλλα συλημένα και μεταφερόμενα στη Ρώμη αντικείμενα. Η ανέλκυση έγινε το 1900-1901 από Συμιακούς σφουγγαράδες\, ενώ το ναυάγιο επισκέφθηκε ο ναύαρχος Κουστώ το 1975. Εδώ και κάμποσα χρόνια μια διεθνής αρχαιολογική αποστολή ερευνά τον βυθό σε βάθος 55 μέτρων\, χωρίς όμως σπουδαία ευρήματα. \n\n \nΣτην εκδήλωση της προσεχούς Τετάρτης θα παρουσιαστούν επίσης οι οικισμοί του νησιού\, με την πρωτεύουσα Ποταμό και τις δεκάδες μικροοικισμούς\, οι περισσότεροι από τους οποίους έχουν εγκαταλειφθεί και σήμερα ερειπώνονται ο ένας μετά τον άλλον. Από τα ονόματά τους φαίνεται η εποίκισή τους από Κρητικούς\, ιδιαίτερα Χανιώτες: Αληγιζιανά\, Χαρχαλιανά\, Γαλανιανά\, Παπαδιανά κ.λπ. Οι πραγματικοί σημερινοί μόνιμοι κάτοικοι του νησιού δεν ξεπερνούν τις δύο δεκάδες στην απογραφή του 2021 39)\, γεγονός που σηματοδοτεί μια πληθυσμιακή κατάρρευση\, η οποία με την ανεξέλεγκτη πια βοσκή των αιγοπροβάτων τείνει να μετεξελιχθεί και σε οικολογική. Ως μοναδική ελπίδα αντιστροφής της κατάστασης διαφαίνεται ο τουρισμός\, με τη μορφή οπωσδήποτε του οικοτουρισμού\, αφού τα Αντικύθηρα -ευτυχώς γι’ αυτά- δεν έχουν τα ζητούμενα του μαζικού τουρισμού: ξενοδοχεία\, αμμουδιές κ.λπ. \n\nΆλλωστε ούτε οι υποδομές τους (νερό\, ηλεκτρισμός\, οδικό δίκτυο κ.λπ.) θα άντεχαν κάτι τέτοιο. Προσφέρουν όμως στον οικοτουρίστα για διαμονή μικρά καταλύματα και τον κοντινό ξενώνα και για περιήγηση μια σειρά αξιοθέατων: πέραν του μεγαλύτερου\, των ερειπίων της αρχαίας πόλης\, με τα εκτεταμένη τείχη της\, προσφέρουν μια σειρά λιθόκτιστων οικισμών και μεμονωμένων κτισμάτων\, έναν εντυπωσιακό φάρο στα νότια του νησιού\, καθαρή θάλασσα και ατμόσφαιρα (για την οποία και επιλέγηκαν απ’ όλη της Ελλάδα για την επιστημονική παρακολούθησή της από το Αστεροσκοπείο της Αθήνας)\, σημαντικούς τόπους λατρείας (Άγιος Μύρωνας) κ.ά. Σε κάθε περίπτωση στο νησάκι αυτό των 11 χιλιομέτρων μήκους και των 4 πλάτους\, ο επισκέπτης θα μπορέσει να γνωρίσει από κοντά και να εκτιμήσει τον πολιτισμό του λίθου\, του μοναδικού παλιότερα δομικού υλικού. \n\n\n\nΗ εκδήλωση είναι αφιερωμένη στον αείμνηστο Γιώργο Βούρβαχη\, οποίος είχε πάρει μέρος στην αποστολή του 2007. Οι ενδιαφερόμενοι μπορούν να έρθουν την Τετάρτη στις 8.00 το βράδυ στον χώρο της Μόνιμης Έκθεσης της Σπηλαιολογικής Εταιρείας στην οδό Πατελάρου 14 στην Παλιά Πόλη. Όπως και σε όλες τις εκδηλώσεις του είδους η είσοδος είναι ελεύθερη. \nΤην παρουσίαση θα κάνει το μέλος και παλιότερα αντιπρόεδρος του Τμήματος της Σπηλαιολογικής Χάρης Στρατιδάκης. Περισσότερες πληροφορίες δίδονται στο τηλέφωνο από τον πρόεδρο Γιώργο Καλούδη (6970550535). \nΤμήμα Δυτικής Κρήτης\nΕλληνικής Σπηλαιολογικής Εταιρείας
URL:https://rethemnos.gr/event/ekdilosi-gnorimias-me-ta-antikythira-apo-to-tmima-dytikis-kritis-tis-ellinikis-spilaiologikis-etaireias/
LOCATION:Τοπικό Τμήμα Δυτικής Κρήτης Ελληνικής Σπηλαιολογικής Εταιρείας\, Neofitou Patelarou\, Rethymno\, Ρέθυμνο\, 741 31\, Greece
CATEGORIES:ενημερωτική εκδήλωση
ATTACH;FMTTYPE=image/jpeg:https://rethemnos.gr/wp-content/uploads/2025/07/1.-Άποψη-των-Αντικυθήρων-από-τον-νότο.jpg
END:VEVENT
BEGIN:VEVENT
DTSTART;TZID=Europe/Athens:20250709T183000
DTEND;TZID=Europe/Athens:20250709T183000
DTSTAMP:20260423T213145
CREATED:20250703T095047Z
LAST-MODIFIED:20250703T095047Z
UID:426478-1752085800-1752085800@rethemnos.gr
SUMMARY:Εκδήλωση «Διατροφή και Γυναίκα – Μια φιλική σχέση με το περιβάλλον» από τη Διεύθυνση Κοινωνικών Υπηρεσιών Δήμου Ρεθύμνης & τη ΧΕΝ
DESCRIPTION:Η Διεύθυνση Κοινωνικών Υπηρεσιών του Δήμου Ρεθύμνης\, η Αντιδήμαρχος Κοινωνικής Πολιτικής\, Δρ Άννα Ελευθεριάδου-Γκίκα\, και το Τμήμα Τρίτης Ηλικίας (Κ.Α.Π.Η. & Κ.Η.Φ.Η.)\, σε συνεργασία με τη ΧΕΝ Ρεθύμνης\, σας προσκαλούν στην εκδήλωση «Διατροφή και Γυναίκα – Μια φιλική σχέση με το περιβάλλον» που θα πραγματοποιηθεί την Τετάρτη 9 Ιουλίου 2025\, ώρα 18:30\, στο Σπίτι του Πολιτισμού\, Ρέθυμνο. \nΕλάτε να γνωρίσουμε μαζί τη σημασία της βιώσιμης διατροφής\, να ακούσουμε διακεκριμένους ομιλητές και να γευτούμε παραδοσιακά τοπικά εδέσματα. \nΜια βραδιά αφιερωμένη στην υγεία\, την παράδοση και τον σεβασμό στο περιβάλλον. \nΗ παρουσία σας θα μας τιμήσει ιδιαίτερα!
URL:https://rethemnos.gr/event/ekdilosi-diatrofi-kai-gynaika-mia-filiki-schesi-me-to-perivallon-apo-ti-dieythynsi-koinonikon-ypiresion-dimoy-rethymnis-amp-ti-chen/
LOCATION:Σπίτι του Πολιτισμού\, Βερνάδου 10\, Ρέθυμνο\, Ρεθύμνου\, 74100\, Ελλάδα
CATEGORIES:ενημερωτική εκδήλωση
ATTACH;FMTTYPE=image/jpeg:https://rethemnos.gr/wp-content/uploads/2025/07/11.jpg
END:VEVENT
BEGIN:VEVENT
DTSTART;TZID=Europe/Athens:20250626T193000
DTEND;TZID=Europe/Athens:20250626T193000
DTSTAMP:20260423T213145
CREATED:20250624T214853Z
LAST-MODIFIED:20250710T053726Z
UID:425386-1750966200-1750966200@rethemnos.gr
SUMMARY:Εκδήλωση με θέμα «Η τουλίπα στης Γιούς τον Κάμπο»
DESCRIPTION:Το Εσπερινό Επαγγελματικό Λύκειο Σπηλίου σας προσκαλεί στην εκδήλωση με τίτλο: «Η τουλίπα στης Γιούς τον Κάμπο». \nΔημαρχείο Αγίου Βασιλείου – Σπήλι\nΠέμπτη 26 Ιουνίου 2025\nΏρα 19:30 \nΗ εκδήλωση είναι αφιερωμένη στο σπάνιο ενδημικό φυτό Tulipa doerfleri\, ένα μοναδικό στολίδι της κρητικής φύσης\, που χρωματίζει κάθε άνοιξη της Γιούςτον Κάμπο. Η παρουσία του συνδέεται με σημαντικά ζητήματα που αφορούν την προστασία του περιβάλλοντος\, τη σχέση της τοπικής κοινωνίας με το φυσικό τοπίο\, αλλά και τη σύγχρονη ανάγκη για ισόρροπη ανάπτυξη. \nΣτο πλαίσιο της παρουσίασης\, θα προβληθούν τα αποτελέσματα του φετινού περιβαλλοντικού μας προγράμματος\, καθώς και εισηγήσεις μαθητών και εκπαιδευτικών των τομέων Γεωπονίας και Οικονομίας (Τουρισμού) που αναδεικνύουν τον ρόλο του φυτού τόσο ως περιβαλλοντικό κεφάλαιο\, όσο και ως δυναμική ευκαιρία για την τοπική ανάπτυξη. \nΜε εκτίμηση\,\nΟ Διευθυντής\, οι Εκπαιδευτικοί και οι Μαθητές\nτου Εσπερινού ΕΠΑ.Λ. Σπηλίου
URL:https://rethemnos.gr/event/ekdilosi-me-thema-i-toylipa-stis-gioys-ton-kampo/
LOCATION:Δημαρχείο Σπηλίου\, Σπήλι Ρεθύμνου\, Σπήλι Ρεθύμνου\, Ρεθύμνου\, Ελλάδα
CATEGORIES:ενημερωτική εκδήλωση
ATTACH;FMTTYPE=image/jpeg:https://rethemnos.gr/wp-content/uploads/2025/06/img_8611-1.jpg
END:VEVENT
BEGIN:VEVENT
DTSTART;TZID=Europe/Athens:20250626T180000
DTEND;TZID=Europe/Athens:20250626T200000
DTSTAMP:20260423T213145
CREATED:20250620T122333Z
LAST-MODIFIED:20250620T122333Z
UID:424980-1750960800-1750968000@rethemnos.gr
SUMMARY:Εκδήλωση με θέμα: «Ποιος ελέγχει την αλήθεια; Παραπληροφόρηση στα ψηφιακά μέσα»
DESCRIPTION:Στο πλαίσιο του Ευρωπαϊκού Έργου Erasmus+ KA220-HED με τίτλο SHIELD vs Disinformation\, διοργανώνεται την Πέμπτη 26 Ιουνίου 2025\, από τις 18:00 έως τις 20:00\, στο Φοιτητικό Κέντρο Ξενία στο Ρέθυμνο\, προσυνεδριακή εκδήλωση – στρογγυλό τραπέζι με θέμα: «Ποιος ελέγχει την αλήθεια; Παραπληροφόρηση στα ψηφιακά μέσα». \nΣτην εκδήλωση θα συμμετάσχει ο Καθηγητής του ΕΚΠΑ\, κ. Γιώργος Πλειός\, ο οποίος θα συζητήσει με εταίρους του έργου SHIELD κρίσιμα ζητήματα που αφορούν τον Γραμματισμό στα Μέσα\, τον ρόλο των ψηφιακών τεχνολογιών στην πληροφόρηση\, καθώς και τις πολιτικές και κοινωνικές προεκτάσεις του φαινομένου της παραπληροφόρησης στην εποχή των ψηφιακών μέσων. \nΣυγκεκριμένα\, με τον κο Πλειό θα συζητήσουν: ο καθ. Δημήτρης Κοτζίνος από το Cergy University της Γαλλίας\, ο καθ. Γιώργος Τερζής από το VUB Πανεπιστήμιο του Βελγίου\, η καθ. Ελένη Κατσαρού από το Πανεπιστήμιο Κρήτης και ο Χρήστος Γαβαλάς από την Εταιρεία ΑTC. \nΤο στρογγυλό τραπέζι θα πραγματοποιηθεί στην ελληνική γλώσσα και η συμμετοχή είναι δωρεάν και ανοικτή στο κοινό. \nΗ εκδήλωση φιλοδοξεί να ανοίξει έναν ουσιαστικό δημόσιο διάλογο γύρω από την αξιοπιστία της πληροφορίας στην ψηφιακή εποχή\, προσεγγίζοντας το φαινόμενο της παραπληροφόρησης πολυπρισματικά: από την πολιτική\, την κοινωνιολογική\, τη δημοσιογραφική και την εκπαιδευτική οπτική\, έως και την τεχνολογική διάσταση των σύγχρονων ψηφιακών μέσων.
URL:https://rethemnos.gr/event/ekdilosi-me-thema-poios-elegchei-tin-alitheia-parapliroforisi-sta-psifiaka-mesa/
LOCATION:Φοιτητική Εστία – Πολιτιστικό Κέντρο Ξενία\, Ψαρρού 46\, Ρέθυμνο\, Ρεθύμνου\, 74100
CATEGORIES:ενημερωτική εκδήλωση
ATTACH;FMTTYPE=image/jpeg:https://rethemnos.gr/wp-content/uploads/2025/06/5045445.jpg
END:VEVENT
BEGIN:VEVENT
DTSTART;TZID=Europe/Athens:20250610T190000
DTEND;TZID=Europe/Athens:20250610T190000
DTSTAMP:20260423T213145
CREATED:20250606T083532Z
LAST-MODIFIED:20250606T083532Z
UID:423645-1749582000-1749582000@rethemnos.gr
SUMMARY:Εκδήλωση λήξης του Εκπαιδευτικού Περιβαλλοντικού Προγράμματος «Αλλάζω συνήθειες\, σώζω τον πλανήτη»
DESCRIPTION:Ο Δήμος Ρεθύμνης σας προσκαλεί στην εκδήλωση λήξης του Εκπαιδευτικού Περιβαλλοντικού Προγράμματος «Αλλάζω συνήθειες\, σώζω τον πλανήτη»\, που υλοποιεί η Διεύθυνση Περιβάλλοντος του Δήμου Ρεθύμνης σε συνεργασία με τη Διεύθυνση Πρωτοβάθμιας Εκπαίδευσης Ρεθύμνου και θα πραγματοποιηθεί την Τρίτη 10 Ιουνίου 2025 και ώρα 19:00\, στο Σπίτι του Πολιτισμού.
URL:https://rethemnos.gr/event/ekdilosi-lixis-toy-ekpaideytikoy-perivallontikoy-programmatos-allazo-synitheies-sozo-ton-planiti/
LOCATION:Σπίτι του Πολιτισμού\, Βερνάδου 10\, Ρέθυμνο\, Ρεθύμνου\, 74100\, Ελλάδα
CATEGORIES:ενημερωτική εκδήλωση
ATTACH;FMTTYPE=image/jpeg:https://rethemnos.gr/wp-content/uploads/2025/06/50443-1.jpg
END:VEVENT
BEGIN:VEVENT
DTSTART;TZID=Europe/Athens:20250528T193000
DTEND;TZID=Europe/Athens:20250528T193000
DTSTAMP:20260423T213145
CREATED:20250511T125409Z
LAST-MODIFIED:20250522T104003Z
UID:419805-1748460600-1748460600@rethemnos.gr
SUMMARY:Το θέμα «Οικολογία & Περιβαλλοντικά Κινήματα» στις «Βραδιές Οικολογίας» που διοργανώνονται στο Ρέθυμνο
DESCRIPTION:Το θέμα «Οικολογία & Περιβαλλοντικά Κινήματα» θα τεθεί στο επίκεντρο των εισηγήσεων και του διαλόγου που θα αναπτυχθεί στην επόμενη εκδήλωση του προγράμματος «Βραδιές Οικολογίας» που συνδιοργανώνουν ο Δήμος Ρεθύμνης και το Πανεπιστήμιο Κρήτης\, την Τετάρτη 28 Μάϊου 2025\, στις 7:30 μ.μ. στο Πολιτιστικό Κέντρο «ΞΕΝΙΑ»\, στο Ρέθυμνο. \nΓια ακόμα μια φορά διακεκριμένοι επιστήμονες θα ανοίξουν τον διάλογο με τις εισηγήσεις τους σε σειρά κρίσιμων θεμάτων που άπτονται του κρίσιμου αντικειμένου της εκδήλωσης.\nΕιδικότερα\, ο Διδάσκων στο Τμήμα Κοινωνιολογίας του Πανεπιστημίου Κρήτης Γιώργος Βελεγράκης θα αναπτύξει το θέμα «Το «παράδοξο» της κλιματικής αλλαγής: Τα περιβαλλοντικά κινήματα σε σύγκρουση με τις πολιτικές για το κλίμα». \nΣτην συνέχεια ο Επίκουρος Καθηγητής του Τμήματος Κοινωνιολογίας του Πανεπιστήμιο Κρήτης Λεωνίδας Οικονομάκης θα πραγματοποιήσει ομιλία με τίτλο: «Ενεργειακή μετάβαση\, εξορυκτισμοί και αντιστάσεις. Η εικόνα από την Κεντρική και Νότιο Αμερική». \nΕπίσης\, ο Καθηγητής του Τμήματος Κοινωνιολογίας του Πανεπιστημίου Κρήτης Νίκος Σερντεδάκις θα έχει ομιλία με θέμα: «Το περιβαλλοντικό κίνημα ανάμεσα στην θεσμοποίηση και τον ριζοσπαστισμό». \nΤο συντονισμό της εκδήλωσης καθώς και το σχολιασμό επί των εισηγήσεων έχει αναλάβει ο κ. Στέργιος Πυρίντσος\, Καθηγητής Βιολογίας στο Πανεπιστήμιο Κρήτης. \nΟι «Βραδιές Οικολογίας» πραγματοποιούνται μέσω της σύμπραξης και συνεργασίας του Βοτανικού Κήπου Π.Κ.\, της Κοσμητείας Σχολής Επιστημών Αγωγής\, του Προγράμματος Μεταπτυχιακών Σπουδών «Πράσινη Βιολογία» του Π.Κ. και του Τμήματος Παιδείας Δήμου Ρεθύμνης\, με τη συμμετοχή της εθελοντικής ομάδας «Νοιάζομαι και δρω».
URL:https://rethemnos.gr/event/to-thema-oikologia-amp-perivallontika-kinimata-stis-vradies-oikologias-poy-rethymno/
LOCATION:Φοιτητική Εστία – Πολιτιστικό Κέντρο Ξενία\, Ψαρρού 46\, Ρέθυμνο\, Ρεθύμνου\, 74100
CATEGORIES:ενημερωτική εκδήλωση
ATTACH;FMTTYPE=image/jpeg:https://rethemnos.gr/wp-content/uploads/2025/04/ΒΡΑΔΙΕΣ-ΟΙΚΟΛΟΓΙΑΣ.jpg
END:VEVENT
BEGIN:VEVENT
DTSTART;TZID=Europe/Athens:20250507T180000
DTEND;TZID=Europe/Athens:20250507T180000
DTSTAMP:20260423T213145
CREATED:20250427T183544Z
LAST-MODIFIED:20250430T085300Z
UID:419711-1746640800-1746640800@rethemnos.gr
SUMMARY:«Αλκοόλ: Όσο Λιγότερο\, Τόσο Καλύτερα»: Εκδήλωση ενημέρωσης και ευαισθητοποίησης για το αλκοόλ
DESCRIPTION:Με σύνθημα «Αλκοόλ: Όσο Λιγότερο\, Τόσο Καλύτερα»\, ξεκινάει στο Ρέθυμνο η καμπάνια ενημέρωσης «Άνοιξη της Πρόληψης για το Αλκοόλ 2025»\, με στόχο την ευαισθητοποίηση της κοινωνίας για τις επιπτώσεις της προβληματικής κατανάλωσης αλκοόλ. \nΗ κεντρική εκδήλωση θα πραγματοποιηθεί την Τετάρτη 7 Μαΐου στο Σπίτι Πολιτισμού στις 18:00\, με ενημερωτικές ομιλίες και δράσεις. \n \nΗ καμπάνια διοργανώνεται από την 7η Υγειονομική Περιφέρεια Κρήτης\, το Δίκτυο Αλκοολογίας Κρήτης και τον Σύλλογο Οικογενειών & Φίλων για την Ψυχική Υγεία (Σ.Ο.Φ.Ψ.Υ.) Ν. ΡΕΘΥΜΝΟΥ \nΣΥΝΔΙΟΡΓΑΝΩΣΗ \n\nΠεριφερειακή Ενότητα Ρεθύμνου \nΔιεύθυνση Κοινωνικών Υπηρεσιών Δήμου Ρεθύμνου \nΚοινότητες Οικογενειών με Προβλήματα από το Αλκοόλ (Κ.Ο.Π.Α.) Κρήτης \nΕργαστήριο Ψυχολογίας των Εξαρτήσεων του Τμήματος Ψυχολογίας του Πανεπιστημίου Κρήτης 
URL:https://rethemnos.gr/event/alkool-oso-ligotero-toso-kalytera-ekdilosi-enimerosis-kai-eyaisthitopoiisis-gia-to-alkool/
LOCATION:Σπίτι του Πολιτισμού\, Βερνάδου 10\, Ρέθυμνο\, Ρεθύμνου\, 74100\, Ελλάδα
CATEGORIES:ενημερωτική εκδήλωση
ATTACH;FMTTYPE=image/jpeg:https://rethemnos.gr/wp-content/uploads/2025/04/DSC_3958.jpg
END:VEVENT
END:VCALENDAR