BEGIN:VCALENDAR
VERSION:2.0
PRODID:-//Rethemnos Live - ECPv6.15.20//NONSGML v1.0//EN
CALSCALE:GREGORIAN
METHOD:PUBLISH
X-WR-CALNAME:Rethemnos Live
X-ORIGINAL-URL:https://rethemnos.gr
X-WR-CALDESC:Events for Rethemnos Live
REFRESH-INTERVAL;VALUE=DURATION:PT1H
X-Robots-Tag:noindex
X-PUBLISHED-TTL:PT1H
BEGIN:VTIMEZONE
TZID:Europe/Athens
BEGIN:DAYLIGHT
TZOFFSETFROM:+0200
TZOFFSETTO:+0300
TZNAME:EEST
DTSTART:20240331T010000
END:DAYLIGHT
BEGIN:STANDARD
TZOFFSETFROM:+0300
TZOFFSETTO:+0200
TZNAME:EET
DTSTART:20241027T010000
END:STANDARD
BEGIN:DAYLIGHT
TZOFFSETFROM:+0200
TZOFFSETTO:+0300
TZNAME:EEST
DTSTART:20250330T010000
END:DAYLIGHT
BEGIN:STANDARD
TZOFFSETFROM:+0300
TZOFFSETTO:+0200
TZNAME:EET
DTSTART:20251026T010000
END:STANDARD
BEGIN:DAYLIGHT
TZOFFSETFROM:+0200
TZOFFSETTO:+0300
TZNAME:EEST
DTSTART:20260329T010000
END:DAYLIGHT
BEGIN:STANDARD
TZOFFSETFROM:+0300
TZOFFSETTO:+0200
TZNAME:EET
DTSTART:20261025T010000
END:STANDARD
END:VTIMEZONE
BEGIN:VEVENT
DTSTART;TZID=Europe/Athens:20251213T120000
DTEND;TZID=Europe/Athens:20251213T130000
DTSTAMP:20260422T081700
CREATED:20251208T100653Z
LAST-MODIFIED:20251208T100653Z
UID:440650-1765627200-1765630800@rethemnos.gr
SUMMARY:Family yoga για γονείς και παιδιά
DESCRIPTION:Η «Λογοπαιδική Χαρά» διοργανώνει “Family Yoga” για γονείς και παιδιά ηλικίας 3–5 ετών\, το οποίο θα πραγματοποιηθεί το Σάββατο 13 Δεκεμβρίου\, από τις 12:00 έως τις 13:00\, στον χώρο του κέντρου (Κονδυλάκη 10\, Ρέθυμνο). \nΛόγω περιορισμένων θέσεων\, απαιτείται προκράτηση στο 6973365437.
URL:https://rethemnos.gr/event/family-yoga-gia-goneis-kai-paidia/
LOCATION:Λογοπαδική Χαρά\, Κονδυλάκη 10\, Ρέθυμνο\, Ρεθύμνου\, 74132\, Greece
CATEGORIES:εργαστήρι
ATTACH;FMTTYPE=image/jpeg:https://rethemnos.gr/wp-content/uploads/2025/12/1000014522.jpg
END:VEVENT
END:VCALENDAR