BEGIN:VCALENDAR
VERSION:2.0
PRODID:-//Rethemnos Live - ECPv6.15.20//NONSGML v1.0//EN
CALSCALE:GREGORIAN
METHOD:PUBLISH
X-WR-CALNAME:Rethemnos Live
X-ORIGINAL-URL:https://rethemnos.gr
X-WR-CALDESC:Events for Rethemnos Live
REFRESH-INTERVAL;VALUE=DURATION:PT1H
X-Robots-Tag:noindex
X-PUBLISHED-TTL:PT1H
BEGIN:VTIMEZONE
TZID:Europe/Athens
BEGIN:DAYLIGHT
TZOFFSETFROM:+0200
TZOFFSETTO:+0300
TZNAME:EEST
DTSTART:20240331T010000
END:DAYLIGHT
BEGIN:STANDARD
TZOFFSETFROM:+0300
TZOFFSETTO:+0200
TZNAME:EET
DTSTART:20241027T010000
END:STANDARD
BEGIN:DAYLIGHT
TZOFFSETFROM:+0200
TZOFFSETTO:+0300
TZNAME:EEST
DTSTART:20250330T010000
END:DAYLIGHT
BEGIN:STANDARD
TZOFFSETFROM:+0300
TZOFFSETTO:+0200
TZNAME:EET
DTSTART:20251026T010000
END:STANDARD
BEGIN:DAYLIGHT
TZOFFSETFROM:+0200
TZOFFSETTO:+0300
TZNAME:EEST
DTSTART:20260329T010000
END:DAYLIGHT
BEGIN:STANDARD
TZOFFSETFROM:+0300
TZOFFSETTO:+0200
TZNAME:EET
DTSTART:20261025T010000
END:STANDARD
END:VTIMEZONE
BEGIN:VEVENT
DTSTART;TZID=Europe/Athens:20251006T180000
DTEND;TZID=Europe/Athens:20251006T180000
DTSTAMP:20260424T083300
CREATED:20250930T103207Z
LAST-MODIFIED:20250930T103321Z
UID:434516-1759773600-1759773600@rethemnos.gr
SUMMARY:Ημερίδα με θέμα: «Ο Αναγνωστάκης διανοούμενος\, οι διανοούμενοι σήμερα»
DESCRIPTION:Με αφορμή την επέτειο των εκατό χρόνων από τη γέννηση και των είκοσι χρόνων από τον θάνατο του Μανόλη Αναγνωστάκη (1925-2005)\, το Τμήμα Φιλολογίας του Πανεπιστημίου Κρήτης και ο Όμιλος Φίλων του ποιητή Μανόλη Αναγνωστάκη διοργανώνουν τη Δευτέρα 6 Οκτωβρίου 2025 και ώρα 18.00\, ημερίδα με θέμα: «Ο Αναγνωστάκης διανοούμενος\, οι διανοούμενοι σήμερα». \nΣτο πρώτο μέρος της ημερίδας οι Αγγέλα Καστρινάκη\, Αγγέλα Γιώτη\, Μαρίνα Αρετάκη\, Παναγιώτης Αρβανίτης και Κωνσταντίνος Καλαϊτζάκης θα αναλύσουν πτυχές του ποιητικού και κριτικού έργου του Αναγνωστάκη\, θα περιγράψουν τη διανοητική του φυσιογνωμία και θα την τοποθετήσουν στο πνευματικό τοπίο της μεταπολεμικής και μεταπολιτευτικής Ελλάδας. \nΣτο δεύτερο μέρος ο Νίκος Κ. Αλιβιζάτος\, Ομότιμος καθηγητής του Συνταγματικού Δικαίου στο Πανεπιστήμιο Αθηνών\, θα συνομιλήσει με τον Γιάννη Δημητρακάκη με θέμα τον ρόλο των διανοουμένων στον σύγχρονο κόσμο\, τις τάσεις της ελληνικής διανόησης σήμερα\, τη σχέση πολιτικής\, διανόησης και εξουσίας\, κλπ. \nΗ ημερίδα θα πραγματοποιηθεί στην Αίθουσα 9 των Διδακτηρίων της Φιλοσοφικής Σχολής στην Πανεπιστημιούπολη του Γάλλου\, Ρέθυμνο\, και η είσοδος θα είναι ελεύθερη. \nΘα υπάρχει η δυνατότητα της εξ αποστάσεως παρακολούθησης στον παρακάτω σύνδεσμο:\nhttps://uoc-gr.zoom.us/j/85732362683 \nΔείτε αναλυτικά το πρόγραμμα της ημερίδας
URL:https://rethemnos.gr/event/imerida-me-thema-o-anagnostakis-dianooymenos-oi-dianooymenoi-simera/
LOCATION:Πανεπιστήμιο Κρήτης Ρέθυμνο\, Πανεπιστήμιο Κρήτης\, Ρέθυμνο\, Ρεθύμνου\, 74100\, Greece
CATEGORIES:ημερίδα
ATTACH;FMTTYPE=image/jpeg:https://rethemnos.gr/wp-content/uploads/2025/09/AFISA_6.10.25.jpg
END:VEVENT
BEGIN:VEVENT
DTSTART;TZID=Europe/Athens:20251017T183000
DTEND;TZID=Europe/Athens:20251017T183000
DTSTAMP:20260424T083300
CREATED:20250930T091944Z
LAST-MODIFIED:20250930T092347Z
UID:434484-1760725800-1760725800@rethemnos.gr
SUMMARY:Εσπερίδα στο Ρέθυμνο με θέμα «Μαζί ενάντια στις εξαρτήσεις: Από τη γνώση στη δράση»
DESCRIPTION:Το Πρόγραμμα Μεταπτυχιακών Σπουδών «Κλινικές Παρεμβάσεις στις Εξαρτήσεις» του Πανεπιστημίου Κρήτης\, σε συνεργασία με τον Εθνικό Οργανισμό Πρόληψης και Αντιμετώπισης των Εξαρτήσεων (ΕΟΠΑΕ)\, διοργανώνει εσπερίδα την Παρασκευή 17 Οκτωβρίου και ώρα 18:30\, στο Φοιτητικό Κέντρο «Ξενία» στο Ρέθυμνο\, με θέμα: «Μαζί ενάντια στις εξαρτήσεις: Από τη γνώση στη δράση». \nΣτο πλαίσιο της εσπερίδας θα υπογραφεί Σύμβαση Συνεργασία μεταξύ του Πανεπιστημίου Κρήτης και του ΕΟΠΑΕ για το Πρόγραμμα Μεταπτυχιακών Σπουδών του Τμήματος Ψυχολογίας «Κλινικές Παρεμβάσεις στις Εξαρτήσεις». \nΗ σύμβαση θα υπογραφεί από τον Πρύτανη του Πανεπιστημίου Κρήτης Καθηγητή Γεώργιο Κοντάκη\, και τον Πρόεδρο του Διοικητικού Συμβουλίου του ΕΟΠΑΕ Αθανάσιο Θεοχάρη. \nΑναλυτικά το πρόγραμμα της εσπερίδας.
URL:https://rethemnos.gr/event/esperida-sto-rethymno-me-thema-mazi-enantia-stis-exartiseis-apo-ti-gnosi-sti-drasi/
LOCATION:Φοιτητική Εστία – Πολιτιστικό Κέντρο Ξενία\, Ψαρρού 46\, Ρέθυμνο\, Ρεθύμνου\, 74100
CATEGORIES:ημερίδα
ATTACH;FMTTYPE=image/jpeg:https://rethemnos.gr/wp-content/uploads/2025/09/1111-2.jpg
END:VEVENT
END:VCALENDAR