BEGIN:VCALENDAR
VERSION:2.0
PRODID:-//Rethemnos Live - ECPv6.15.20//NONSGML v1.0//EN
CALSCALE:GREGORIAN
METHOD:PUBLISH
X-WR-CALNAME:Rethemnos Live
X-ORIGINAL-URL:https://rethemnos.gr
X-WR-CALDESC:Events for Rethemnos Live
REFRESH-INTERVAL;VALUE=DURATION:PT1H
X-Robots-Tag:noindex
X-PUBLISHED-TTL:PT1H
BEGIN:VTIMEZONE
TZID:Europe/Athens
BEGIN:DAYLIGHT
TZOFFSETFROM:+0200
TZOFFSETTO:+0300
TZNAME:EEST
DTSTART:20240331T010000
END:DAYLIGHT
BEGIN:STANDARD
TZOFFSETFROM:+0300
TZOFFSETTO:+0200
TZNAME:EET
DTSTART:20241027T010000
END:STANDARD
BEGIN:DAYLIGHT
TZOFFSETFROM:+0200
TZOFFSETTO:+0300
TZNAME:EEST
DTSTART:20250330T010000
END:DAYLIGHT
BEGIN:STANDARD
TZOFFSETFROM:+0300
TZOFFSETTO:+0200
TZNAME:EET
DTSTART:20251026T010000
END:STANDARD
BEGIN:DAYLIGHT
TZOFFSETFROM:+0200
TZOFFSETTO:+0300
TZNAME:EEST
DTSTART:20260329T010000
END:DAYLIGHT
BEGIN:STANDARD
TZOFFSETFROM:+0300
TZOFFSETTO:+0200
TZNAME:EET
DTSTART:20261025T010000
END:STANDARD
END:VTIMEZONE
BEGIN:VEVENT
DTSTART;TZID=Europe/Athens:20250901T193000
DTEND;TZID=Europe/Athens:20250901T220000
DTSTAMP:20260423T220442
CREATED:20250703T082223Z
LAST-MODIFIED:20250821T081151Z
UID:426446-1756755000-1756764000@rethemnos.gr
SUMMARY:Επετειακές εκδηλώσεις για τα 100 Χρόνια του Δημοτικού Κήπου Ρεθύμνου
DESCRIPTION:Ο Δήμος Ρεθύμνης σας προσκαλεί στις επετειακές εκδηλώσεις που διοργανώνει με την ευκαιρία της συμπλήρωσης 100 ετών από τη λειτουργία του Δημοτικού Κήπου Ρεθύμνου την Δευτέρα 1 και την Δευτέρα 8 Σεπτεμβρίου 2025. \nΤο πρόγραμμα: \n \nΗ είσοδος είναι ελεύθερη για το κοινό σε όλες τις εκδηλώσεις.
URL:https://rethemnos.gr/event/epeteiakes-ekdiloseis-gia-ta-100-chronia-toy-dimotikoy-kipoy-rethymnoy/
LOCATION:Δημοτικός Κήπος Ρεθύμνου\, Rethymnon Municipal Garden\, ΡΕΘΥΜΝΟ\, Ρεθύμνης\, 74132\, Greece
CATEGORIES:έκθεση ζωγραφικής,ημερίδα,προβολή
ATTACH;FMTTYPE=image/jpeg:https://rethemnos.gr/wp-content/uploads/2025/07/Λογότυπο-Κήπου.jpg
END:VEVENT
BEGIN:VEVENT
DTSTART;TZID=Europe/Athens:20250712T103000
DTEND;TZID=Europe/Athens:20250712T103000
DTSTAMP:20260423T220442
CREATED:20250617T124459Z
LAST-MODIFIED:20250707T225536Z
UID:424662-1752316200-1752316200@rethemnos.gr
SUMMARY:«Τριλογία ιδεών»: 100 χρόνια Μίκης Θεοδωράκης - Εκδήλωση στο Ρέθυμνο
DESCRIPTION:Η Ορθόδοξος Ακαδημία Κρήτης και ο Σύλλογος Φίλων «Μίκη Θεοδωράκη»\, σε συνδιοργάνωση με την Ιερά Μητρόπολη Ρεθύμνης και Αυλοποτάμου\, την Περιφέρεια Κρήτης\, τον Δήμο Χανίων\, τον Δήμο Ρεθύμνης\, τον Δήμο Ηρακλείου και το Φεστιβάλ Βιβλίου Χανίων\, και με αφορμή την απόφαση του Υπουργείου Πολιτισμού να ανακηρύξει το έτος 2025 ως Έτος Μίκη Θεοδωράκη\, διοργανώνει μία «Τριλογία Ιδεών» αφιερωμένη στη μνήμη και στο έργο του μεγάλου συνθέτη\, φίλο του Ιδρύματος ενός από τους σημαντικότερους συνθέτες και πνευματικούς ανθρώπους της σύγχρονης Ελλάδας (Χανιά\, Ρέθυμνο\, Ηράκλειο). \nΟι σημαντικές επιστημονικές εκδηλώσεις στην Κρήτη\, θα περιλαμβάνουν εισηγήσεις από ακαδημαϊκούς\, θεολόγους και μουσικολόγους\, οι οποίοι θα προσεγγίσουν το πολυσχιδές έργο του Μίκη Θεοδωράκη μέσα από τις διαστάσεις της μουσικής δημιουργίας\, της πολιτικής και πολιτιστικής του δράσης\, της κοινωνικής του παρέμβασης και της διεθνούς του παρουσίας. Επίσης\, στο Φεστιβάλ Βιβλίου Χανίων\, θα παρουσιαστεί η έκδοση του νέου βιβλίου\, με τίτλο «Πολίτης – Πολιτισμός – Πολιτική»\, εκδ. Ακρίτας (2025)\, το οποίο περιλαμβάνει τα πρακτικά του Συνεδρίου «Σοσιαλισμός και Πολιτισμός (1977) καθώς και «Μαρξισμός και Ορθοδοξία» (1987) στην Ορθόδοξο Ακαδημία Κρήτης. \nΟι εκδηλώσεις είναι ανοιχτές στο κοινό και στόχο έχουν να τιμήσουν τη μνήμη του Μίκη Θεοδωράκη\, να αναδείξουν το πολυδιάστατο έργο του και να προάγουν τον διάλογο γύρω από τη συμβολή του στον ελληνικό πολιτισμό. \n \nΙερά Μητρόπολις Ρεθύμνης και Αυλοποτάμου – Ορθόδοξος Ακαδημία Κρήτης\nΡέθυμνο\, 12 Ιουλίου 2025\nΚέντρο Πολιτισμικής και Κοινωνικής Διακονίας «ΘΕΟΜΗΤΩΡ»\nΏρα: 10:30 – Η Μουσική του Μίκη Θεοδωράκη ως Πολιτιστική Κληρονομιά \nΠΡΟΓΡΑΜΜΑ \nΣτεφανία Μεράκου\nΘΕΜΑ: Ο γνωστός-άγνωστος Θεοδωράκης μέσα από ντοκουμέντα του αρχείου του.\nΗ κα Στεφανία Μεράκου\, Μουσικολόγος\, Επιμελήτρια Αρχείου του Μίκη Θεοδωράκη θα αναφερθεί στην καλλιτεχνική και πολιτιστική κληρονομιά του Μίκη Θεοδωράκη\, ο οποίος μέσα από τη δράση του ανέδειξε την αξία της συλλογικής προσπάθειας και του πολιτισμού ως εργαλεία κοινωνικής συνοχής. \nΔρ Παναγιώτης Αντ. Ανδριόπουλος\nΘΕΜΑ: Μίκης Θεοδωράκης: ο ορισμός της Μουσικής Ποιητικής.\nΟ Π. Ανδριόπουλος θα αναφερθεί κυρίως στις νεανικές συνθέσεις του Μίκη Θεοδωράκη – παιδικά τραγούδια και ανέκδοτες εκκλησιαστικές συνθέσεις – καθώς και στη σχέση του με την βυζαντινή μουσική\, όπως αυτή προκύπτει από ιδιόχειρες σημειώσεις του συνθέτη. \nΔρ Κωνσταντίνος Ζορμπάς\nΘΕΜΑ: Μίκης Θεοδωράκης – Ειρηναίος Γαλανάκης: Προς μια κοινωνία συνεργασίας και αλληλεγγύης.\nΟ Δρ Κωνσταντίνος Ζορμπάς\, με αφορμή το νέο βιβλίο «Πολίτης-Πολιτισμός-Πολιτική» (εκδ. Ακρίτας\, Αθήνα 2025)\,  θα αναδείξει μία ενδιαφέρουσα διασταύρωση των σκέψεών τους και η συναντίληψή τους τόσο για την νέα  κατάσταση που έτεινε τότε να παγιωθεί\, όσο και για την ανάγκη μιας «επανάστασης»\, πολιτισμικής για τον Μίκη Θεοδωράκη\, «ηθικής» για τον Ειρηναίο Γαλανάκη. \nΤραγούδια του Μίκη Θεοδωράκη θα ερμηνεύσει η χορωδία Γυμνασίου-Λυκείου ΑΠΟΣΤΟΛΟΣ ΠΑΥΛΟΣ Κορίνθου \nΛίγα λόγια για τη Χορωδία \nΤο Τμήμα Χορωδίας του Γυμνασίου-Λυκείου ΑΠΟΣΤΟΛΟΣ ΠΑΥΛΟΣ Κορίνθου συμπληρώνει φέτος 20 χρόνια. Κάθε χρόνο οι μαθητές έχουν την ευκαιρία να συμμετέχουν σε επετειακές τελετές και εκδηλώσεις στην Ελλάδα (όπως ενδεικτικά στο Δημοτικό Θέατρο Πειραιά & στο μαθητικό φεστιβάλ Χίου «Νέοι Ομηρίδες» παρουσιάζοντας την Όπερα Ιλιάδα του Ομήρου· στην Κόρινθο\, την Αθήνα\, τη Θεσσαλονίκη κ.α.) και το εξωτερικό [Κύπρος (Λευκωσία)\, Γερμανία (Μόναχο)\, Αλβανία (Αργυρόκαστρο)\, Τουρκία (Αττάλεια) κ.α.]. Από το 2021 το σχολείο συνεργάζεται με το ΕΛΛΗΝΙΚΟ ΩΔΕΙΟ\, δίνοντας στους μαθητές του τη δυνατότητα να ακολουθούν μουσικές σπουδές σε διάφορα όργανα και στη φωνητική εντός του σχολείου. Τον Δεκέμβριο του 2024 η χορωδία προκρίθηκε στο Διεθνές Μαθητικό Χορωδιακό Φεστιβάλ Καρδίτσας και επελέγη για να εκπροσωπήσει την Ελλάδα σε σημαντικά φεστιβάλ εκτός Ελλάδας. Τα Εκπαιδευτήρια ΑΠΟΣΤΟΛΟΣ ΠΑΥΛΟΣ επιπλέον έχουν συνδιοργανώσει στην Κόρινθο εκδηλώσεις και με μαθητικές χορωδίες του εξωτερικού\, όπως τη χορωδία Red Robe Choir από το Grossmont High School (Καλιφόρνια)\, τη χορωδία του More High School (Λονδίνο) και τη χορωδία του 9χρονου Σχολείου της Ι. Μητροπόλεως Αργυροκάστρου (Αλβανία).
URL:https://rethemnos.gr/event/trilogia-ideon-100-chronia-mikis-theodorakis-ekdilosi-sto-rethymno/
LOCATION:«Θεομήτωρ» Κέντρο Κοινωνικής και Πολιτιστικής Διακονίας\, Ψυχουντάκη Παντ. 5\, Rethymno\, Ρεθύμνου\, 741 32\, Greece
CATEGORIES:εκδήλωση μνήμης,ημερίδα
ATTACH;FMTTYPE=image/jpeg:https://rethemnos.gr/wp-content/uploads/2025/06/theodorakis.triptyxo_01.jpg
END:VEVENT
BEGIN:VEVENT
DTSTART;TZID=Europe/Athens:20250617T083000
DTEND;TZID=Europe/Athens:20250617T133000
DTSTAMP:20260423T220442
CREATED:20250617T052451Z
LAST-MODIFIED:20250617T052451Z
UID:424562-1750149000-1750167000@rethemnos.gr
SUMMARY:«Ένα σχολείο για όλους»: Ημερίδα στο Ρέθυμνο για τη Συμπεριληπτική Εκπαίδευση
DESCRIPTION:Την Τρίτη 17 Ιουνίου 2025\, στο Σπίτι του Πολιτισμού στο Ρέθυμνο\, θα πραγματοποιηθεί ημερίδα με τίτλο: «Ενταξιακή πολιτική της σύγκλισης: Ένα σχολείο για όλους»\, με στόχο την ενίσχυση της συμπεριληπτικής εκπαίδευσης και της κουλτούρας ένταξης στα σχολεία. \nΔιοργανώνεται από τη Διεύθυνση Πρωτοβάθμιας Εκπαίδευσης Ρεθύμνου\, το ΚΕΔΑΣΥ Ρεθύμνου\, και τη Σύμβουλο Ειδικής Αγωγής και Ενταξιακής Εκπαίδευσης\, κα Ελένη Γκιργκινούδη. \nΗ ημερίδα απευθύνεται σε Διευθυντές και Προϊσταμένους σχολικών μονάδων και εστιάζει στην εφαρμογή ενταξιακής πολιτικής\, σύμφωνα με τα ευρωπαϊκά πρότυπα. \nΠΡΟΓΡΑΜΜΑ ΗΜΕΡΙΔΑΣ \nΤρίτη 17 Ιουνίου 2025 – Σπίτι του Πολιτισμού\, Ρέθυμνο \n08:30 – 09:00 | Προσέλευση συμμετεχόντων\n09:00 – 09:30 | Χαιρετισμοί \nΑ΄ Συνεδρία: Διοικητικό Πλαίσιο του Συμπεριληπτικού Σχολείου\n09:30 – 10:00 | Ομιλία Ιωάννη Μπουσδούνη (ΥΠΑΙΘΑ): «Ανάπτυξη συνεργασιών στο πλαίσιο της Συμπεριληπτικής Εκπαίδευσης»\n10:00 – 10:30 | Συζήτηση – Ερωτήσεις\n10:30 – 11:00 | Διάλειμμα (Coffee break) \nΒ΄ Συνεδρία: Ανάπτυξη Ενταξιακής Κουλτούρας – «Ένα σχολείο για όλους»\n11:00 – 11:20 | Ελένη Γκιργκινούδη: «Η ανάπτυξη ενταξιακής κουλτούρας μέσω βιωματικών δράσεων\, αξιοποιώντας το Θέατρο και τη Μουσική»\n11:20 – 11:40 | Μαρία Πετράκη (ΚΕΔΑΣΥ Ρεθύμνου): «Η ΕΔΥ ως παράγοντας πρώιμης διάγνωσης και έγκαιρης παρέμβασης»\n11:40 – 12:00 | Ελευθερία Σιμιτζή-Δέλλα: «Στρατηγικές υποστήριξης νηπίων με Ε.Ε.Α στην Προσχολική Εκπαίδευση»\n12:00 – 12:20 | Ιάκωβος Μαστρογιάννης: «Παιδαγωγικές δυνατότητες της Παράλληλης Στήριξης στη Φυσική Αγωγή»\n12:20 – 13:00 | Συζήτηση – Ερωτήσεις\n13:00 – 13:15 | Κλείσιμο – Αποτίμηση \nΗ ημερίδα στοχεύει στην ανάδειξη καλών πρακτικών και στη στήριξη της μετάβασης προς ένα σχολείο συμπεριληπτικό για όλους τους μαθητές\, χωρίς αποκλεισμούς.
URL:https://rethemnos.gr/event/ena-scholeio-gia-oloys-imerida-sto-rethymno-gia-ti-symperiliptiki-ekpaideysi/
LOCATION:Σπίτι του Πολιτισμού\, Βερνάδου 10\, Ρέθυμνο\, Ρεθύμνου\, 74100\, Ελλάδα
CATEGORIES:ημερίδα
ATTACH;FMTTYPE=image/jpeg:https://rethemnos.gr/wp-content/uploads/2025/06/3367.jpg
END:VEVENT
BEGIN:VEVENT
DTSTART;TZID=Europe/Athens:20250531T100000
DTEND;TZID=Europe/Athens:20250531T133000
DTSTAMP:20260423T220442
CREATED:20250528T091015Z
LAST-MODIFIED:20250528T091015Z
UID:422665-1748685600-1748698200@rethemnos.gr
SUMMARY:Ημερίδα με θέμα «Η προβληματική της βίας και του εκφοβισμού: Νεανική παραβατικότητα και σύγχρονο σχολείο»
DESCRIPTION:Ημερίδα διοργανώνει ο Παγκρήτιος Σύνδεσμος Θεολόγων σε συνδιοργάνωση με τη Σχολή Γονέων της Ιεράς Μητροπόλεως Ρεθύμνης και Αυλοποτάμου με θέμα «Η προβληματική της βίας και του εκφοβισμού: Νεανική παραβατικότητα και σύγχρονο σχολείο». \nΗ ημερίδα θα πραγματοποιηθεί το Σάββατο\, 31 Μαΐου\, 10:00 – 13:30\, στην Αίθουσα Εκδηλώσεων του Ιερού Προσκυνήματος Παναγίας Χαρακιανής\, της Ιεράς Μονής Ατάλης – Μπαλή (επί της Εθνικής Οδού). \n \n 
URL:https://rethemnos.gr/event/imerida-me-thema-i-provlimatiki-tis-vias-kai-toy-ekfovismoy-neaniki-paravatikotita-kai-sygchrono-scholeio/
LOCATION:Παναγιά Χαρακιανή\, Ευρωπαϊκός ΟΔ\, Ρεθύμνης\, 740 52\, Greece
CATEGORIES:ημερίδα
ATTACH;FMTTYPE=image/jpeg:https://rethemnos.gr/wp-content/uploads/2025/05/sxoli.gonewn-syndesmos.theologwn_afisa.jpg
END:VEVENT
BEGIN:VEVENT
DTSTART;TZID=Europe/Athens:20250523T100000
DTEND;TZID=Europe/Athens:20250523T100000
DTSTAMP:20260423T220442
CREATED:20250519T120553Z
LAST-MODIFIED:20250519T120553Z
UID:421717-1747994400-1747994400@rethemnos.gr
SUMMARY:Ημερίδα με θέμα «Αντιμετωπίζοντας τις προκλήσεις στον κυβερνοχώρο… για μικρούς και μεγάλους» από το Κέντρο Πρόληψης Ρεθύμνου
DESCRIPTION:Ημερίδα με θέμα «Αντιμετωπίζοντας τις προκλήσεις στον κυβερνοχώρο… για μικρούς και μεγάλους»\, διοργανώνει το Κέντρο Πρόληψης της Περιφερειακής Ενότητας Ρεθύμνου σε συνεργασία με το Δήμο Ρεθύμνης\, την Ιερά Μητρόπολη Ρεθύμνου και Αυλοποτάμου\, τις Διευθύνσεις Πρωτοβάθμιας και Δευτεροβάθμιας Εκπαίδευσης Ρεθύμνου και τη Διεύθυνση Αστυνομίας Ρεθύμνου\, υπό την αιγίδα της Περιφέρειας Κρήτης και την υποστήριξη της ΣΕΠΕ. \nΗ ημερίδα θα πραγματοποιηθεί την Παρασκευή 23 Μαΐου\, στις 10:00 π.μ. στο Σπίτι του Πολιτισμού. \nΗ είσοδος θα είναι ελεύθερη.
URL:https://rethemnos.gr/event/imerida-me-thema-antimetopizontas-tis-prokliseis-ston-kyvernochoro-gia-mikroys-kai-megaloys-apo-to-kentro-prolipsis-rethymnoy/
LOCATION:Σπίτι του Πολιτισμού\, Βερνάδου 10\, Ρέθυμνο\, Ρεθύμνου\, 74100\, Ελλάδα
CATEGORIES:ημερίδα
ATTACH;FMTTYPE=image/jpeg:https://rethemnos.gr/wp-content/uploads/2025/05/498170.jpg
END:VEVENT
BEGIN:VEVENT
DTSTART;TZID=Europe/Athens:20250515T183000
DTEND;TZID=Europe/Athens:20250515T183000
DTSTAMP:20260423T220442
CREATED:20250509T113453Z
LAST-MODIFIED:20250509T113453Z
UID:420781-1747333800-1747333800@rethemnos.gr
SUMMARY:«Οικογένεια & Άνοια – Έξοδος από την άγνοια»: Ημερίδα από την Κοινωνική Υπηρεσία και το Κ.Η.Φ.Η. Δήμου Ρεθύμνης
DESCRIPTION:Το Κέντρο Ημερήσιας Φροντίδας Ηλικιωμένων Ρεθύμνου (Κ.Η.Φ.Η) και η αρμόδια Αντιδήμαρχος Κοινωνικής Πολιτικής\, Δρ Άννα Ελευθεριάδου-Γκίκα\, στα πλαίσια της Παγκόσμιας Ημέρας Οικογένειας διοργανώνουν ημερίδα με θέμα: «Οικογένεια & Άνοια – Έξοδος από την άγνοια» που θα πραγματοποιηθεί την Πέμπτη 15 Μαΐου 2025 και ώρα 18:30\, στο Σπίτι του Πολιτισμού στο Ρέθυμνο. \nΗ Αντιδήμαρχος Κοινωνικής Πολιτικής και το Κ.Η.Φ.Η. Ρεθύμνου (Κέντρο Ημερήσιας Φροντίδας Ηλικιωμένων) αναγνωρίζουν τη σοβαρότητα και τις προκλήσεις που φέρει η άνοια τόσο για τα ηλικιωμένα άτομα όσο και για τις οικογένειές τους. Μέσα από στοχευμένες δράσεις ενημέρωσης και υποστήριξης\, συμβάλλουν ενεργά στην ευαισθητοποίηση της τοπικής κοινωνίας\, την ενδυνάμωση των φροντιστών και τη βελτίωση της ποιότητας ζωής των συμπολιτών μας που ζουν με άνοια. \nΗ εκδήλωση είναι ανοιχτή στο κοινό και απευθύνεται σε οικογένειες\, επαγγελματίες υγείας\, φροντιστές και κάθε ενδιαφερόμενο πολίτη. Περιλαμβάνει ομιλίες ειδικών\, ανταλλαγή εμπειριών και δυνατότητα διαλόγου με το κοινό. \nΟι συμμετέχοντες ομιλητές που υποστηρίζουν την ημερίδα με τις γνώσεις και την εμπειρία τους: \n\nΚαλαϊτζάκη Αργυρώ – Αν. Καθηγήτρια Κλινικής Ψυχολογίας ΕΛΜΕΠΑ.\nΖαχείλα Αικατερίνη – Ψυχολόγος Msc\nΓκογεράκης Φώτιος – Νευρολόγος και Eπιμελητής Β’ Γενικό Νοσοκομείο Ρεθύμνου\nΠαπαστεφανάκης Εμμανουήλ –Διδάκτωρ ψυχολογίας\, διδάσκων Πανεπιστήμιο Κρήτης.\nΒασιλάκης Βασίλειος – Αν. Προϊστάμενος Τμήμα Τρίτης Ηλικίας Δήμου Ρεθύμνης\nΤζωρτζάκης Παύλος-Φυσικοθεραπευτής Master of Science in Bioethics\, ΚΑΠΗ Δήμου Ρεθύμνης\nΚαπελλάκη Αναστασία – Ψυχολόγος Εταιρεία Alzheimer Ηρακλείου\nΠαπαδόπουλος Βασίλειος – Φροντιστής\nΛαγκαδά Άννα Μαρία – Κοινωνική λειτουργός Κέντρο Ψυχικής Υγείας Ρεθύμνου & Τσιχλάκη Ιωάννα – Νοσηλεύτρια Κέντρο Ψυχικής Υγείας Ρεθύμνου\n\n \nΜε την πρωτοβουλία αυτή\, η Αντιδήμαρχος Κοινωνικής Πολιτικής Δρ Άννα Ελευθεριάδου-Γκίκα και το Κ.Η.Φ.Η. Ρεθύμνου ενισχύουν τη συνεχή προσπάθεια για ενημέρωση\, αποστιγματοποίηση και στήριξη των οικογενειών που δοκιμάζονται από τις επιπτώσεις της άνοιας.
URL:https://rethemnos.gr/event/oikogeneia-amp-anoia-exodos-apo-tin-agnoia-imerida-apo-tin-koinoniki-ypiresia-kai-to-k-i-f-i-dimoy-rethymnis/
LOCATION:Σπίτι του Πολιτισμού\, Βερνάδου 10\, Ρέθυμνο\, Ρεθύμνου\, 74100\, Ελλάδα
CATEGORIES:ημερίδα
ATTACH;FMTTYPE=image/jpeg:https://rethemnos.gr/wp-content/uploads/2025/05/01-1.jpg
END:VEVENT
BEGIN:VEVENT
DTSTART;TZID=Europe/Athens:20250511T100000
DTEND;TZID=Europe/Athens:20250511T140000
DTSTAMP:20260423T220442
CREATED:20250502T123847Z
LAST-MODIFIED:20250502T124522Z
UID:420105-1746957600-1746972000@rethemnos.gr
SUMMARY:Γιορτή Φυσικών Επιστημών 2025 στο Ρέθυμνο
DESCRIPTION:Η Γιορτή Φυσικών Επιστημών 2025 με θέμα «Ο ρόλος των Φυσικών Επιστημών στο Περιβάλλον\, το Κλίμα και την Οικολογία για ένα βιώσιμο πλανήτη» θα λάβει χώρα το Σαββατοκύριακο 10 και 11 Μαΐου στο Σπίτι του Πολιτισμού καθώς και στο Πειραματικό Δημοτικό\, στο κέντρο Science in the City και στη ευρύτερη περιοχή της Πλατείας Μικρασιατών στο κέντρο της Παλιάς Πόλης του Ρεθύμνου. \nΠΡΟΓΡΑΜΜΑ \nΣάββατο 10 Μαΐου \n17:45 – 18:00 Προσέλευση\n18.00 – 18:30 Χαιρετισμοί\n18.30 – 19:00 Σπουδάζοντας Φυσικές Επιστήμες\nΝέοι και νέες Επιστήμονες \, Ερευνητές/τριες των Φ.Ε. απαντούν σε ερωτήματα μαθητών και μαθητριών για τους στόχους\, τα όνειρα\, τις δυσκολίες και τις επιλογές ενός νέου-νέας που αποφασίζει να ασχοληθεί με τις Φυσικές Επιστήμες. Την συζήτηση συντονίζει ο Κωστής Χαλκιαδάκης – Φυσικός\, υπεύθυνος Ε.Κ.Φ.Ε. Ρεθύμνου\n19:00 -19:30 Βράβευση Σχολείων και Πανεπιστημιακών Δομών που συμμετέχουν στη γιορτή Φυσικών Επιστημών\n19.30 – 21:00 Στρογγυλό Τραπέζι με Θέμα: “Ρύπανση του Περιβάλλοντος και Κλιματική Αλλαγή: Ο ρόλος της Πράσινης Ενέργειας\, της ορθολογικής διαχείρισης των Φυσικών Πόρων και της Εκπαίδευσης στις σύγχρονες δημοκρατίες.” \nΣυμμετέχουν: \n\nΠέτρος Γκίκας\, Καθηγητής Περιβαλλοντικής Μηχανικής\, Κοσμήτορας Σχολής Χημικών Μηχανικών και Μηχανικών Περιβάλλοντος\, Πολυτεχνείο Κρήτης.\nΜαριάννα Καλαϊτζιδάκη\, Καθηγήτρια Βιολογίας και Περιβαλλοντικής Εκπαίδευσης\, Παιδαγωγικό Τμήμα Δημοτικής Εκπαίδευσης\, Παιδαγωγική Σχολή\, Παν. Κρήτης\nΜαρία Κανακίδου\, Καθηγήτρια Χημείας Περιβάλλοντος\, Τμήμα Χημείας\, Σχολή Θετικών και Τεχνολογικών Επιστημών\, Παν. Κρήτης.\nΔημήτρης Κατσαμπρακάκης\, Καθηγητής Ανανεώσιμων Πηγών Ενέργειας και  διαχείρισης Ενέργειας\, Τμήμα Μηχανολόγων Μηχανικών\, Πολυτεχνική Σχολή ΕΛΜΕΠΑ.\nΣτέργιος Πυρίντσος\, Καθηγητής Συστηματικής Βοτανικής και Οικολογίας Φυτών\, Τμήμα Βιολογίας\, Σχολή Θετικών και Τεχνολογικών Επιστημών\, Επιστημονικός Υπεύθυνος Βοτανικού Κήπου\, Παν. Κρήτης.\n\nΤη συζήτηση συντονίζει ο Νεκτάριος Παπαδογιάννης\, Αντιδήμαρχος Παιδείας\, Νέας Γενιάς και Δια Βίου Μάθησης Δήμου Ρεθύμνης\, Καθηγητής Φυσικής στο ΕΛΜΕΠΑ\, τ. Αντιπρύτανης. \nΚυριακή 11 Μάϊου \n10.00 – 14.00 Παρουσίαση εργασιών – εργαστηρίων – δραστηριοτήτων Φ.Ε μαθητών και φοιτητών στα παρακάτω σημεία της Πόλης: \n\nΣτο Σπίτι του Πολιτισμού: Σχολεία Δευτεροβάθμιας Εκπαίδευσης\, Ινστιτούτο Φυσικής Πλάσματος και Λέιζερ\nΣτο 1ο Δ.Σ – Πλατεία Μικρασιατών : Σχολεία Πρωτοβάθμιας Εκπαίδευσης\nΣτην Αγία Βαρβάρα – Science in the City : Παιδαγωγικό Τμήμα Δημ. Εκπαίδευσης.
URL:https://rethemnos.gr/event/giorti-fysikon-epistimon-2025-sto-rethymno-2/
LOCATION:Σπίτι του Πολιτισμού\, Βερνάδου 10\, Ρέθυμνο\, Ρεθύμνου\, 74100\, Ελλάδα
CATEGORIES:ημερίδα
ATTACH;FMTTYPE=image/jpeg:https://rethemnos.gr/wp-content/uploads/2025/05/1111.jpg
END:VEVENT
BEGIN:VEVENT
DTSTART;TZID=Europe/Athens:20250510T180000
DTEND;TZID=Europe/Athens:20250510T180000
DTSTAMP:20260423T220442
CREATED:20250502T123847Z
LAST-MODIFIED:20250502T123847Z
UID:420098-1746900000-1746900000@rethemnos.gr
SUMMARY:Γιορτή Φυσικών Επιστημών 2025 στο Ρέθυμνο
DESCRIPTION:Η Γιορτή Φυσικών Επιστημών 2025 με θέμα «Ο ρόλος των Φυσικών Επιστημών στο Περιβάλλον\, το Κλίμα και την Οικολογία για ένα βιώσιμο πλανήτη» θα λάβει χώρα το Σαββατοκύριακο 10 και 11 Μαΐου στο Σπίτι του Πολιτισμού καθώς και στο Πειραματικό Δημοτικό\, στο κέντρο Science in the City και στη ευρύτερη περιοχή της Πλατείας Μικρασιατών στο κέντρο της Παλιάς Πόλης του Ρεθύμνου. \nΠΡΟΓΡΑΜΜΑ \nΣάββατο 10 Μαΐου \n17:45 – 18:00 Προσέλευση\n18.00 – 18:30 Χαιρετισμοί\n18.30 – 19:00 Σπουδάζοντας Φυσικές Επιστήμες\nΝέοι και νέες Επιστήμονες \, Ερευνητές/τριες των Φ.Ε. απαντούν σε ερωτήματα μαθητών και μαθητριών για τους στόχους\, τα όνειρα\, τις δυσκολίες και τις επιλογές ενός νέου-νέας που αποφασίζει να ασχοληθεί με τις Φυσικές Επιστήμες. Την συζήτηση συντονίζει ο Κωστής Χαλκιαδάκης – Φυσικός\, υπεύθυνος Ε.Κ.Φ.Ε. Ρεθύμνου\n19:00 -19:30 Βράβευση Σχολείων και Πανεπιστημιακών Δομών που συμμετέχουν στη γιορτή Φυσικών Επιστημών\n19.30 – 21:00 Στρογγυλό Τραπέζι με Θέμα: “Ρύπανση του Περιβάλλοντος και Κλιματική Αλλαγή: Ο ρόλος της Πράσινης Ενέργειας\, της ορθολογικής διαχείρισης των Φυσικών Πόρων και της Εκπαίδευσης στις σύγχρονες δημοκρατίες.” \nΣυμμετέχουν: \n\nΠέτρος Γκίκας\, Καθηγητής Περιβαλλοντικής Μηχανικής\, Κοσμήτορας Σχολής Χημικών Μηχανικών και Μηχανικών Περιβάλλοντος\, Πολυτεχνείο Κρήτης.\nΜαριάννα Καλαϊτζιδάκη\, Καθηγήτρια Βιολογίας και Περιβαλλοντικής Εκπαίδευσης\, Παιδαγωγικό Τμήμα Δημοτικής Εκπαίδευσης\, Παιδαγωγική Σχολή\, Παν. Κρήτης\nΜαρία Κανακίδου\, Καθηγήτρια Χημείας Περιβάλλοντος\, Τμήμα Χημείας\, Σχολή Θετικών και Τεχνολογικών Επιστημών\, Παν. Κρήτης.\nΔημήτρης Κατσαμπρακάκης\, Καθηγητής Ανανεώσιμων Πηγών Ενέργειας και  διαχείρισης Ενέργειας\, Τμήμα Μηχανολόγων Μηχανικών\, Πολυτεχνική Σχολή ΕΛΜΕΠΑ.\nΣτέργιος Πυρίντσος\, Καθηγητής Συστηματικής Βοτανικής και Οικολογίας Φυτών\, Τμήμα Βιολογίας\, Σχολή Θετικών και Τεχνολογικών Επιστημών\, Επιστημονικός Υπεύθυνος Βοτανικού Κήπου\, Παν. Κρήτης.\n\nΤη συζήτηση συντονίζει ο Νεκτάριος Παπαδογιάννης\, Αντιδήμαρχος Παιδείας\, Νέας Γενιάς και Δια Βίου Μάθησης Δήμου Ρεθύμνης\, Καθηγητής Φυσικής στο ΕΛΜΕΠΑ\, τ. Αντιπρύτανης. \nΚυριακή 11 Μάϊου \n10.00 – 14.00 Παρουσίαση εργασιών – εργαστηρίων – δραστηριοτήτων Φ.Ε μαθητών και φοιτητών στα παρακάτω σημεία της Πόλης: \n\nΣτο Σπίτι του Πολιτισμού: Σχολεία Δευτεροβάθμιας Εκπαίδευσης\, Ινστιτούτο Φυσικής Πλάσματος και Λέιζερ\nΣτο 1ο Δ.Σ – Πλατεία Μικρασιατών : Σχολεία Πρωτοβάθμιας Εκπαίδευσης\nΣτην Αγία Βαρβάρα – Science in the City : Παιδαγωγικό Τμήμα Δημ. Εκπαίδευσης.
URL:https://rethemnos.gr/event/giorti-fysikon-epistimon-2025-sto-rethymno/
LOCATION:Σπίτι του Πολιτισμού\, Βερνάδου 10\, Ρέθυμνο\, Ρεθύμνου\, 74100\, Ελλάδα
CATEGORIES:ημερίδα
ATTACH;FMTTYPE=image/jpeg:https://rethemnos.gr/wp-content/uploads/2025/05/1111.jpg
END:VEVENT
BEGIN:VEVENT
DTSTART;TZID=Europe/Athens:20250507T143000
DTEND;TZID=Europe/Athens:20250507T190000
DTSTAMP:20260423T220442
CREATED:20250506T074617Z
LAST-MODIFIED:20250506T074617Z
UID:420398-1746628200-1746644400@rethemnos.gr
SUMMARY:Επιστημονική ημερίδα με θέμα «Πολιτικές εχθρότητας & πρακτικές αλληλεγγύης: Δέκα χρόνια μετά την προσφυγική κρίση του 2015»
DESCRIPTION:Επιστημονική ημερίδα με θέμα Πολιτικές εχθρότητας & πρακτικές αλληλεγγύης: Δέκα χρόνια μετά την «προσφυγική κρίση» του 2015\, θα πραγματοποιηθεί την Τετάρτη 7 Μαΐου 2025\, στην Αίθουσα Α3-2 του Τμήματος Κοινωνιολογίας στην Πανεπιστημιούπολη του Γάλλου στο Ρέθυμνο. \nΤο πρόγραμμα: \n1η Συνεδρία (14:30 – 16:30) \nΣυντονισμός: Αθηνά Σκουλαρίκη (Επίκουρη Καθηγήτρια\, Τμήμα Κοινωνιολογίας\, Πανεπιστήμιο Κρήτης) \n\nΌλγα Λαφαζάνη (Μεταδιδακτορική υπότροφος Marie Curie στο Πανεπιστήμιο Χούμπολτ του Βερολίνου): «Πολιτική οικονομία της διαχείρισης της “Προσφυγικής Κρίσης”»\nΚώστας Γούσης (Διδάσκων\, Τμήμα Κοινωνιολογίας\, Πανεπιστήμιο Κρήτης): «Η Τουρκία ως “ασφαλής τρίτη χώρα”: Από την Κοινή Δήλωση ΕΕ – Τουρκίας του 2016 στη νέα κανονικότητα των πολιτικών αποτροπής»\nΛουκία Κοτρωνάκη (Διδάσκουσα\, Τμήμα Πολιτικής Επιστήμης\, Πανεπιστήμιο Κρήτης): «Η Πολιτική της Αλληλεγγύης: Τόποι\, χρόνοι\, δίκτυα νοημάτων και δράσεων της “Προσφυγικής Κρίσης”»\nΕιρήνη Γαϊτάνου (Υπεύθυνη Επικοινωνίας στην Υποστήριξη Προσφύγων στο Αιγαίο\, RSA): «Ναυάγια στο Αιγαίο και την Πύλο: Η συστημική αποτυχία των ελληνικών και ευρωπαϊκών πολιτικών αποτροπής και εξωτερίκευσης των συνόρων» (διαδικτυακή παρέμβαση)\n\n2η Συνεδρία (17:00 – 19:00) \nΣυντονισμός: Αλεξάνδρα Ζαββού (Επίκουρη Καθηγήτρια\, Τμήμα Κοινωνιολογίας\, Πανεπιστήμιο Κρήτης) \n\nΙάσονας Αποστολόπουλος (Συντονιστής Διάσωσης της Οργάνωσης Mediterranea Saving Humans): «Γιατί η Μεσόγειος έχει γίνει η πιο θανατηφόρα θάλασσα του πλανήτη; Κρατικά εγκλήματα και αντιστάσεις της κοινωνίας των πολιτών»\nΝίκος Ξυπολυτάς (Επίκουρος Καθηγητής Κοινωνιολογίας\, Πανεπιστήμιο Αιγαίου: «Συλλογικές δράσεις προσφύγων στη Λέσβο 2015-2020» (διαδικτυακή παρέμβαση)\nΕλευθερία Ιατράκη (Συνδιαχειρίστρια και μέλος της Εκπαιδευτικής Ομάδας της Θάλασσας Αλληλεγγύης στο Ηράκλειο): «Κοινωνική και μαθησιακή ένταξη προσφύγων/μεταναστών σε κοινωνικούς χώρους υποστηριζόμενους από “τα κάτω”\, από την ίδια την τοπική κοινωνία: Το παράδειγμα της Θάλασσας Αλληλεγγύης»\nΚοινωνικό Στέκι – Στέκι Μεταναστών Χανιών: «Οι απάνθρωπες συνθήκες υποδοχής και “φιλοξενίας” προσφύγων και μεταναστ(ρι)ών στα Χανιά»
URL:https://rethemnos.gr/event/epistimoniki-imerida-me-thema-politikes-echthrotitas-amp-praktikes-allileggyis-deka-chronia-meta-tin-prosfygiki-krisi-toy-2015/
LOCATION:Γάλλος\, Γάλλος Ρεθύμνου\, Ρέθυμνο\, Ρεθύμνου\, Ελλάδα
CATEGORIES:ημερίδα
ATTACH;FMTTYPE=image/jpeg:https://rethemnos.gr/wp-content/uploads/2025/05/52929.jpg
END:VEVENT
BEGIN:VEVENT
DTSTART;TZID=Europe/Athens:20250505T200000
DTEND;TZID=Europe/Athens:20250505T200000
DTSTAMP:20260423T220442
CREATED:20250430T084318Z
LAST-MODIFIED:20250430T084318Z
UID:419959-1746475200-1746475200@rethemnos.gr
SUMMARY:Εκδόσεις\, ιστορία και κριτική της λογοτεχνίας: Ημερίδα αφιερωμένη στη μνήμη του Αλέξη Πολίτη
DESCRIPTION:Τη Δευτέρα 5 Μαΐου 2025\, στις 8:00 το βράδυ\, το Τμήμα Φιλολογίας Πανεπιστημίου Κρήτης διοργανώνει ημερίδα στο Φοιτητικό Πολιτιστικό Κέντρο «Ξενία»\, αφιερωμένη στη μνήμη του Αλέξη Πολίτη. \nΣτο πρώτο μέρος της εκδήλωσης θα παρουσιαστεί η σειρά «Αναψηλαφήσεις» (εκδόσεις Σοκόλη)\, όπου εκδότες είναι μεταπτυχιακοί φοιτητές του Τμήματος Φιλολογίας. \nΗ εκδότρια Αθηνά Σοκόλη θα μιλήσει με θέμα «Το βιβλίο σε έναν κόσμο που αλλάζει».\nΗ Αγγέλα Καστρινάκη\, υπεύθυνη της σειράς\, θα παρουσιάσει τα δύο πρώτα έργα που έχουν ήδη εκδοθεί και όσα θα ακολουθήσουν. Έπειτα η Ειρηάνα Ρουσογιαννάκη\, απόφοιτος του Προγράμματος Μεταπτυχιακών Σπουδών «Βυζαντινή και Νεοελληνική Φιλολογία»\, θα παρουσιάσει την εργασία της στην Εκάτη του Κοσμά Πολίτη\, και ο Κωνσταντίνος Καλαϊτζάκης (υποψήφιος διδάκτορας)\, τα Ανέκδοτα διηγήματα και ποιήματα του Ηλία Βενέζη. \nΣτο δεύτερο μέρος της εκδήλωσης\, ο αναπληρωτής καθηγητής Γιάννης Δημητρακάκης θα συζητήσει με τους συναδέλφους του Δημήτρη Πολυχρονάκη και Αγγέλα Γιώτη για τον μεγάλο ιστορικό της λογοτεχνίας Κ. Θ. Δημαρά\, με αφορμή το βιβλίο του Διαδρομές της σκέψης του Κ. Θ. Δημαρά. \n 
URL:https://rethemnos.gr/event/ekdoseis-istoria-kai-kritiki-tis-logotechnias-imerida-afieromeni-sti-mnimi-toy-alexi-politi/
LOCATION:Φοιτητική Εστία – Πολιτιστικό Κέντρο Ξενία\, Ψαρρού 46\, Ρέθυμνο\, Ρεθύμνου\, 74100
CATEGORIES:ημερίδα
ATTACH;FMTTYPE=image/jpeg:https://rethemnos.gr/wp-content/uploads/2025/04/007-3.jpg
END:VEVENT
END:VCALENDAR