BEGIN:VCALENDAR
VERSION:2.0
PRODID:-//Rethemnos Live - ECPv6.15.20//NONSGML v1.0//EN
CALSCALE:GREGORIAN
METHOD:PUBLISH
X-WR-CALNAME:Rethemnos Live
X-ORIGINAL-URL:https://rethemnos.gr
X-WR-CALDESC:Events for Rethemnos Live
REFRESH-INTERVAL;VALUE=DURATION:PT1H
X-Robots-Tag:noindex
X-PUBLISHED-TTL:PT1H
BEGIN:VTIMEZONE
TZID:Europe/Athens
BEGIN:DAYLIGHT
TZOFFSETFROM:+0200
TZOFFSETTO:+0300
TZNAME:EEST
DTSTART:20240331T010000
END:DAYLIGHT
BEGIN:STANDARD
TZOFFSETFROM:+0300
TZOFFSETTO:+0200
TZNAME:EET
DTSTART:20241027T010000
END:STANDARD
BEGIN:DAYLIGHT
TZOFFSETFROM:+0200
TZOFFSETTO:+0300
TZNAME:EEST
DTSTART:20250330T010000
END:DAYLIGHT
BEGIN:STANDARD
TZOFFSETFROM:+0300
TZOFFSETTO:+0200
TZNAME:EET
DTSTART:20251026T010000
END:STANDARD
BEGIN:DAYLIGHT
TZOFFSETFROM:+0200
TZOFFSETTO:+0300
TZNAME:EEST
DTSTART:20260329T010000
END:DAYLIGHT
BEGIN:STANDARD
TZOFFSETFROM:+0300
TZOFFSETTO:+0200
TZNAME:EET
DTSTART:20261025T010000
END:STANDARD
END:VTIMEZONE
BEGIN:VEVENT
DTSTART;TZID=Europe/Athens:20250727T193000
DTEND;TZID=Europe/Athens:20250727T193000
DTSTAMP:20260424T083547
CREATED:20250722T051446Z
LAST-MODIFIED:20250722T051446Z
UID:428269-1753644600-1753644600@rethemnos.gr
SUMMARY:Παρουσίαση του βιβλίου «Ο Φοινικιάς\, Ιερά Μονή Μιχαήλ Αρχάγγελου στον Φοινικιά και μοναστήρια Δήμου Αγίου Βασιλείου»
DESCRIPTION:Ο Δήμος Αγίου Βασιλείου και η Ιερά Μονή Αρχαγγέλου Μιχαήλ στο Φοινικιά\, σας προσκαλούν στην παρουσίαση βιβλίου του Μανόλη Δριδάκη \, Οικονομολόγου – Νομικού\,\nΕπίτιμου Προέδρου της Ομοσπονδίας Συλλόγων π. Επαρχίας Αγίου Βασιλείου «ο Πρέβελης»\, «Ο Φοινικιάς\, Ιερά Μονή Μιχαήλ Αρχάγγελου στον Φοινικιά και μοναστήρια Δήμου Αγίου Βασιλείου» την Κυριακή 27 Ιουλίου 19.30\, στην αίθουσα εκδηλώσεων του Δήμου Αγίου Βασιλείου (Ισόγειο).
URL:https://rethemnos.gr/event/paroysiasi-toy-vivlioy-o-foinikias-iera-moni-michail-archaggeloy-ston-foinikia-kai-monastiria-dimoy-agioy-vasileioy/
LOCATION:Δημαρχείο Δήμου Μυλοποτάμου\, Πέραμα Μυλοποτάμου\, Πέραμα Μυλοποτάμου\, Ρεθύμνου\, Ελλάδα
CATEGORIES:παρουσίαση βιβλίου
ATTACH;FMTTYPE=image/webp:https://rethemnos.gr/wp-content/uploads/2025/07/s3.webp
END:VEVENT
BEGIN:VEVENT
DTSTART;TZID=Europe/Athens:20250625T200000
DTEND;TZID=Europe/Athens:20250625T200000
DTSTAMP:20260424T083547
CREATED:20250616T121153Z
LAST-MODIFIED:20250616T121153Z
UID:424533-1750881600-1750881600@rethemnos.gr
SUMMARY:Παρουσίαση του βιβλίου της Βάλιας Παπαδάκη - Μακρή «Διδάσκοντας στις λυκειακές τάξεις – Λίγα απ’ όσα έζησα»
DESCRIPTION:«Όσα δε μαθαίνεις στα σεμινάρια\, τα μαθαίνεις στην τάξη – ή στις σελίδες αυτού του βιβλίου» \nΟ Σύνδεσμος Συνταξιούχων καθηγητών Νομού Ρεθύμνου και οι Εκδόσεις Ραδάμανθυς\, σας προσκαλούν στην παρουσίαση του βιβλίου της Βάλιας Παπαδάκη-Μακρή «Διδάσκοντας στις λυκειακές τάξεις – Λίγα απ’ όσα έζησα»\, την Τετάρτη 25 Ιουνίου 2025\, στις 8 μ.μ.\, στο Σπίτι του Πολιτισμού (Ρέθυμνο). \nΤο βιβλίο θα παρουσιάσουν οι: Δρ. Χάρης Στρατιδάκης\, ιστορικός ερευνητής\, Γιώργος Μαυροτσουπάκης\, φιλόλογος\, Μάνος Γοργοράπτης\, συγγραφέας και ιστορικός ερευνητής\, και η συγγραφέας του βιβλίου. \nΣυντονίζει η Παναγιώτα Φιλλίπου-Ελευθερόγλου\, πρόδρος του Συνδέσμου Συνταξιούχων καθηγητών. \nΒιωματικές αφηγήσεις μιας ζωής αφιερωμένης στη δευτεροβάθμια εκπαίδευση. \nΜια ζωή στην εκπαιδευτική πράξη. Από τα ορεινά χωριά του Ψηλορείτη μέχρι τα πολύβουα σχολεία των πόλεων\, η Βάλια Παπαδάκη – Μακρή αφηγείται με τρυφερότητα\, κριτική ματιά και εκπαιδευτική σοφία όσα έζησε μέσα στις λυκειακές τάξεις. Ένα βιβλίο για όσους δίδαξαν\, διδάσκουν ή ονειρεύονται να διδάξουν\, γεμάτο αλήθεια\, προβληματισμό και αγάπη για τον μαθητή και το σχολείο. \nΔιδάσκοντας στις Λυκειακές Τάξεις – Λίγα απ’ όσα έζησα \nΜετά από 42 χρόνια συνεχούς παρουσίας στις λυκειακές αίθουσες\, η φιλόλογος Βάλια Παπαδάκη – Μακρή καταθέτει μια ουσιαστική και ειλικρινή μαρτυρία για την εκπαιδευτική πράξη στην ελληνική δευτεροβάθμια εκπαίδευση. Το βιβλίο της δεν αποτελεί μόνο προσωπικό χρονικό\, αλλά και παιδαγωγικό σχόλιο\, κοινωνική παρατήρηση και πρόσκληση για αναστοχασμό. Μέσα από βιώματα\, καθημερινές στιγμές και κρίσεις\, θίγονται καίρια ζητήματα: η σχέση μαθητή-εκπαιδευτικού\, η αξία της αξιολόγησης\, η συνεργασία μεταξύ συναδέλφων\, οι εκπαιδευτικές ανισότητες και η δυναμική της έμπνευσης μέσα στην τάξη. \nΗ αφήγηση ξεκινά από ένα ορεινό χωριό της Κρήτης και διατρέχει δεκαετίες αλλαγών\, μεταρρυθμίσεων και αγωνιών της ελληνικής εκπαίδευσης\, διατηρώντας πάντοτε το νήμα της ανθρωπιάς\, της αυτογνωσίας και της ευθύνης απέναντι στους μαθητές. Ένα βιβλίο που αφορά κάθε εκπαιδευτικό\, φοιτητή\, γονιό\, πολίτη που αγωνιά για το σχολείο και την κοινωνία του αύριο
URL:https://rethemnos.gr/event/paroysiasi-toy-vivlioy-tis-valias-papadaki-makri-didaskontas-stis-lykeiakes-taxeis-liga-ap-osa-ezisa/
LOCATION:Σπίτι του Πολιτισμού\, Βερνάδου 10\, Ρέθυμνο\, Ρεθύμνου\, 74100\, Ελλάδα
CATEGORIES:παρουσίαση βιβλίου
ATTACH;FMTTYPE=image/jpeg:https://rethemnos.gr/wp-content/uploads/2025/06/111-10.jpg
END:VEVENT
BEGIN:VEVENT
DTSTART;TZID=Europe/Athens:20250604T200000
DTEND;TZID=Europe/Athens:20250604T220000
DTSTAMP:20260424T083547
CREATED:20250604T080321Z
LAST-MODIFIED:20250604T080321Z
UID:423403-1749067200-1749074400@rethemnos.gr
SUMMARY:Παρουσίαση του βιβλίου της Μαίρης Παυλιδάκη «Βαλς κάρδαμου κανέλας»
DESCRIPTION:Tο βιβλίο της Μαίρης Παυλιδάκη «Βαλς κάρδαμου κανέλας» θα παρουσιαστεί στο Τζεπέτο\, την Τετάρτη 4 Ιουνίου\, στις 20:00. \nΟμιλητές: Δήμητρα Κατσούλη και Μιχάλης Παπαδογιάννης. \nΑπαγγέλουν: Αποστόλης Κουγιτάκης και Μαριάννα Κουγιτάκη. \n 
URL:https://rethemnos.gr/event/paroysiasi-toy-vivlioy-tis-mairis-paylidaki-vals-kardamoy-kanelas/
LOCATION:Συνεταιρισμός Τζεπέτο\, Κατεχάκη\, Ρέθυμνο\, Ρεθύμνου\, 74100\, Ελλάδα
CATEGORIES:παρουσίαση βιβλίου
ATTACH;FMTTYPE=image/jpeg:https://rethemnos.gr/wp-content/uploads/2025/06/b279968.jpg
END:VEVENT
BEGIN:VEVENT
DTSTART;TZID=Europe/Athens:20250528T200000
DTEND;TZID=Europe/Athens:20250528T200000
DTSTAMP:20260424T083547
CREATED:20250508T070646Z
LAST-MODIFIED:20250528T053557Z
UID:420663-1748462400-1748462400@rethemnos.gr
SUMMARY:«Ρεθυμνιακά»: Παρουσίαση του νέου βιβλίου του Γιάννη Παπιομύτογλου
DESCRIPTION:Στο πλαίσιο του φεστιβάλ «Ημέρες Ρεθύμνου 2025»\, οι εκδόσεις Γραφοτεχνική παρουσιάζουν το βιβλίο του Γιάννη Ζ. Παπιομύτογλου\, «Ρεθυμνιακά. Μικρά κείμενα για το Ρέθυμνο και τους ανθρώπους του».\nΗ εκδήλωση θα πραγματοποιηθεί την Τετάρτη 28 Μαΐου 2025\, ώρα 20:00 στον κήπο του Ιστορικού και Λαογραφικού Μουσείου\, Ρεθύμνου\, στην παλιά πόλη. \nΓια το βιβλίο και τον συγγραφέα του μιλούν η ιστορικός Ασπασία Παπαδάκη και ο ερευνητής – συγγραφέας Χάρης Στρατιδάκης. \nΟ Γιάννης Ζ. Παπιομύτογλου γεννήθηκε το 1945 στο Ρέθυμνο\, όπου και ολοκλήρωσε τις εγκύκλιες σπουδές του. Σπούδασε πολιτικές επιστήμες στην Πάντειο\, εργαζόμενος παράλληλα. \nΔιορίστηκε το 1976 στη Δημόσια Βιβλιοθήκη Ρεθύμνης\, στην οποία υπηρέτησε ως διευθυντής μέχρι το 2010\, όποτε και συνταξιοδοτήθηκε. Επί των ημερών του\, η βιβλιοθήκη γνώρισε μεγάλη ανάπτυξη\, με αποτέλεσμα σήμερα να συγκαταλέγεται στις μεγαλύτερες και καλύτερα οργανωμένες επαρχιακές βιβλιοθήκες της χώρας. \nΠαράλληλα διατέλεσε επί πολλά χρόνια μέλος του Δ.Σ και αντιπρόεδρος της ιστορικής και λαογραφικής εταιρείας Ρεθύμνης και συμμετείχε ενεργά στην έκδοση και κυκλοφορία του περιοδικού της\, Κρητολογικά Γράμματα. Είναι συντάκτης του 20ού τόμου του περιοδικού αυτού\, ο οποίος περιέχει το ευρετήριο των προηγούμενων 19 τόμων. \nΈχει εκδώσει δύο σημαντικές για την νεότερη ιστορία του Ρεθύμνου συλλογές εγγράφων: «Έγγραφα Ιεροδικείου Ρεθύμνης» (Δημόσια κεντρική Βιβλιοθήκη Ρεθύμνου\, 1995) και «Ημερήσιες Διατάξεις της Ρώσικης Διοίκησης στο Ρέθυμνο» (Δημόσια κεντρική Βιβλιοθήκη Ρεθύμνου\, 2007). \nΈχει λάβει μέρος σε πολλά συνέδρια και ημερίδες και έχει δημοσιεύσει κείμενα και άρθρα που αφορούν κυρίως το Ρέθυμνο και τους ανθρώπους του.
URL:https://rethemnos.gr/event/rethymniaka-paroysiasi-toy-neoy-vivlioy-toy-gianni-papiomytogloy/
LOCATION:Ιστορικό και Λαογραφικό Μουσείο Ρεθύμνου\, Historical and Folklore Museum of Rethymno\, Rethymno\, Ρεθύμνου\, 74131\, Greece
CATEGORIES:παρουσίαση βιβλίου
ATTACH;FMTTYPE=image/jpeg:https://rethemnos.gr/wp-content/uploads/2025/05/papiomyt.jpg
END:VEVENT
BEGIN:VEVENT
DTSTART;TZID=Europe/Athens:20250509T190000
DTEND;TZID=Europe/Athens:20250509T190000
DTSTAMP:20260424T083547
CREATED:20250422T085347Z
LAST-MODIFIED:20250506T150754Z
UID:368920-1746817200-1746817200@rethemnos.gr
SUMMARY:Παρουσίαση του βιβλίου «Πυρές κι Αρμοί»
DESCRIPTION:Η παρουσίαση του μυθιστορήματος «Πυρές κι Αρμοί» του Χρήστου Ποζιδη θα πραγματοποιηθεί στο Καφενείο Το Χαλικούτι (Κατεχακη 3\, πεζόδρομος Φορτέτζα). \nΈνα ιστορικό μυθιστόρημα για την κοινότητα και το γλέντι\, για την ατομική ευθύνη και τα συλλογικά όνειρα\, για τη σύγκρουση δύο διαφορετικών κοσμοθεωριών και την πάλη για οικειοποίηση των ιερών συμβόλων\, για το κρασί και την ασκητική. \nΈναρξη 19:00.
URL:https://rethemnos.gr/event/paroysiasi-toy-vivlioy-pyres-ki-armoi/
LOCATION:Το Χαλικούτι\, Κατεχάκη 3\, Ρέθυμνο\, Ρεθύμνου\, Ελλάδα
CATEGORIES:παρουσίαση βιβλίου
ATTACH;FMTTYPE=image/jpeg:https://rethemnos.gr/wp-content/uploads/2024/08/IMG_6771.jpeg
END:VEVENT
BEGIN:VEVENT
DTSTART;TZID=Europe/Athens:20250502T193000
DTEND;TZID=Europe/Athens:20250502T193000
DTSTAMP:20260424T083547
CREATED:20250422T121312Z
LAST-MODIFIED:20250423T063901Z
UID:419364-1746214200-1746214200@rethemnos.gr
SUMMARY:Παρουσίαση του νέου βιβλίου του Σπύρου Πετρουλάκη «Η ΣΟΝΑΤΑ ΤΩΝ ΑΘΕΑΤΩΝ ΠΟΥΛΙΩΝ»
DESCRIPTION:Ο Σύλλογος Εκπαιδευτικών Πρωτοβάθμιας Εκπαίδευσης Ρεθύμνου και εκδόσεις Μίνωας σας προσκαλούν την Παρασκευή 2 Μαΐου και ώρα 19:30\, στην παρουσίαση του νέου βιβλίου του Σπύρου Πετρουλάκη\, «Η ΣΟΝΑΤΑ ΤΩΝ ΑΘΕΑΤΩΝ ΠΟΥΛΙΩΝ». \nΤη συζήτηση θα συντονίσει ο Πρόεδρος του Συλλόγου Εκπαιδευτικών Πρωτοβάθμιας Εκπαίδευσης Ρεθύμνου\, Πρόεδρος Ν.Τ. ΑΔΕΔΥ Ρεθύμνου\, Γιάννης Μαρινάτος. \nΟμιλητές: \n\nΜαρία Ζαχαράκη\, ηθοποιός\nΝίκος Κατσουλίδης\, εκπαιδευτικός\nΒασιλική Σχοινά\, εκπαιδευτικός\n\nΤην εκδήλωση θα πλαισιώσει μουσικά η χορωδία ενηλίκων «Μουσικός Καρπός» υπό τη διδασκαλία του μουσικού Αντώνη Μαυράκη. \nΗ εκδήλωση θα πραγματοποιηθεί στο στο «Σπίτι του Πολιτισμού» (Εμμανουήλ Βερνάρδου 12\, Παλιά πόλη Ρεθύμνου)
URL:https://rethemnos.gr/event/paroysiasi-toy-neoy-vivlioy-toy-spyroy-petroylaki-i-sonata-ton-atheaton-poylion/
LOCATION:Σπίτι του Πολιτισμού\, Βερνάδου 10\, Ρέθυμνο\, Ρεθύμνου\, 74100\, Ελλάδα
CATEGORIES:παρουσίαση βιβλίου
ATTACH;FMTTYPE=image/jpeg:https://rethemnos.gr/wp-content/uploads/2025/04/49193-1.jpg
END:VEVENT
BEGIN:VEVENT
DTSTART;TZID=Europe/Athens:20250429T190000
DTEND;TZID=Europe/Athens:20250429T190000
DTSTAMP:20260424T083547
CREATED:20250417T114218Z
LAST-MODIFIED:20250422T120458Z
UID:419102-1745953200-1745953200@rethemnos.gr
SUMMARY:Παρουσίαση του νέου βιβλίου του Γιάννη Τσίγκρη «Μονομαχίες» στο Ρέθυμνο
DESCRIPTION:Οι εκδόσεις Ανεμολόγιο και ο συγγραφέας Γιάννης Τσίγκρης προσκαλούν το κοινό στην παρουσίαση του νέου του βιβλίου με τίτλο «Μονομαχίες»\, την Τρίτη 29 Απριλίου 2025\, στις 19:00\, στο «Σπίτι του Πολιτισμού» του Δήμου Ρεθύμνου (Βερνάρδου 12\, Παλιά Πόλη). \nΓια το βιβλίο θα μιλήσει η Λίζα Παΐζη\, Διδάκτορας Γλωσσολογίας και Σύμβουλος Εκπαίδευσης Φιλολόγων του Νομού Χανίων. \nΠοιήματα από τη συλλογή θα απαγγείλει η Ελένη Γκιργκινούδη\, Σύμβουλος Ειδικής Αγωγής\, συγγραφέας και ηθοποιός. \nΗ εκδήλωση θα πλαισιωθεί μουσικά από τη Σοφία Πιπεράκη στην κλασική κιθάρα και τον ίδιο τον συγγραφέα Γιάννη Τσίγκρη. \n 
URL:https://rethemnos.gr/event/paroysiasi-toy-neoy-vivlioy-toy-gianni-tsigkri-monomachies-sto-rethymno/
LOCATION:Σπίτι του Πολιτισμού\, Βερνάδου 10\, Ρέθυμνο\, Ρεθύμνου\, 74100\, Ελλάδα
CATEGORIES:παρουσίαση βιβλίου
ATTACH;FMTTYPE=image/jpeg:https://rethemnos.gr/wp-content/uploads/2025/04/22323222.jpg
END:VEVENT
END:VCALENDAR