BEGIN:VCALENDAR
VERSION:2.0
PRODID:-//Rethemnos Live - ECPv6.15.20//NONSGML v1.0//EN
CALSCALE:GREGORIAN
METHOD:PUBLISH
X-ORIGINAL-URL:https://rethemnos.gr
X-WR-CALDESC:Events for Rethemnos Live
REFRESH-INTERVAL;VALUE=DURATION:PT1H
X-Robots-Tag:noindex
X-PUBLISHED-TTL:PT1H
BEGIN:VTIMEZONE
TZID:Europe/Athens
BEGIN:DAYLIGHT
TZOFFSETFROM:+0200
TZOFFSETTO:+0300
TZNAME:EEST
DTSTART:20250330T010000
END:DAYLIGHT
BEGIN:STANDARD
TZOFFSETFROM:+0300
TZOFFSETTO:+0200
TZNAME:EET
DTSTART:20251026T010000
END:STANDARD
BEGIN:DAYLIGHT
TZOFFSETFROM:+0200
TZOFFSETTO:+0300
TZNAME:EEST
DTSTART:20260329T010000
END:DAYLIGHT
BEGIN:STANDARD
TZOFFSETFROM:+0300
TZOFFSETTO:+0200
TZNAME:EET
DTSTART:20261025T010000
END:STANDARD
BEGIN:DAYLIGHT
TZOFFSETFROM:+0200
TZOFFSETTO:+0300
TZNAME:EEST
DTSTART:20270328T010000
END:DAYLIGHT
BEGIN:STANDARD
TZOFFSETFROM:+0300
TZOFFSETTO:+0200
TZNAME:EET
DTSTART:20271031T010000
END:STANDARD
END:VTIMEZONE
BEGIN:VEVENT
DTSTART;TZID=Europe/Athens:20260324T220000
DTEND;TZID=Europe/Athens:20260324T220000
DTSTAMP:20260424T193143
CREATED:20260306T160448Z
LAST-MODIFIED:20260312T134729Z
UID:448937-1774389600-1774389600@rethemnos.gr
SUMMARY:Ο Μιχάλης Καλλέργης και Βασίλης Σταυρακάκης στο Κέντρο Μύθος
DESCRIPTION:Ο Βαγγέλης Κιμιώνης και ο Κλέαρχος Μανωλιούδης στο Κοσμικό Κέντρο Μύθος. \nΤρίτη 24 Μαρτίου – Έναρξη 22:00 \nΤηλ. 28310 71565
URL:https://rethemnos.gr/event/o-michalis-kallergis-kai-vasilis-stayrakakis-sto-kentro-mythos/
LOCATION:Κοσμικό Κέντρο Μύθος\, Αδελιανός Κάμπος\, Ρέθυμνο\, Ρεθύμνου\, Greece
CATEGORIES:καρναβάλι 2025 εκδηλώσεις,κρητική μουσική
ATTACH;FMTTYPE=image/jpeg:https://rethemnos.gr/wp-content/uploads/2026/03/IMG_6324.jpeg
END:VEVENT
BEGIN:VEVENT
DTSTART;TZID=Europe/Athens:20260220T213000
DTEND;TZID=Europe/Athens:20260220T213000
DTSTAMP:20260424T193143
CREATED:20251231T224536Z
LAST-MODIFIED:20260219T124918Z
UID:344392-1771623000-1771623000@rethemnos.gr
SUMMARY:Πάρτι της Καρναβαλικής Ομάδας «Μαλλιά Κουβάρια»
DESCRIPTION:Το πάρτι της Καρναβαλικής Ομάδας «Μαλλιά Κουβάρια» θα πραγματοποιηθεί στο Bonobo Bar. \nΠαρασκευή 20 Φεβρουαρίου 2026 – Έναρξη 21:30. \n 
URL:https://rethemnos.gr/event/parti-karnavalikis-omadas-mallia-koyvaria/
LOCATION:Bonobo Bar\, Ελευθερίου Βενιζέλου 47\, Ρέθυμνο\, Ρεθύμνου\, 74100\, Ελλάδα
CATEGORIES:καρναβάλι 2025 εκδηλώσεις,πάρτι
ATTACH;FMTTYPE=image/jpeg:https://rethemnos.gr/wp-content/uploads/2026/01/344.jpg
END:VEVENT
BEGIN:VEVENT
DTSTART;TZID=Europe/Athens:20260213T220000
DTEND;TZID=Europe/Athens:20260213T220000
DTSTAMP:20260424T193143
CREATED:20260116T091647Z
LAST-MODIFIED:20260202T180401Z
UID:381481-1771020000-1771020000@rethemnos.gr
SUMMARY:«50 αποχρώσεις των Σάτυρων Vol. 5»: To party της ομάδας «Σάτυροι» στο Bonobo
DESCRIPTION:«50 αποχρώσεις των Σάτυρων Vol.5»: To party των Σάτυρων (ΑΝΤΙ-ΚΑΠΝΙΣΤΕΣ) στο Bonobo Bar. \nΠέμπτη 13 Φεβρουαρίου 2026 \n 
URL:https://rethemnos.gr/event/50-apochroseis-ton-satyron-vol-5/
LOCATION:Bonobo Bar\, Ελευθερίου Βενιζέλου 47\, Ρέθυμνο\, Ρεθύμνου\, 74100\, Ελλάδα
CATEGORIES:καρναβάλι 2025 εκδηλώσεις,καρναβάλι 2026 εκδηλώσεις,πάρτι
ATTACH;FMTTYPE=image/png:https://rethemnos.gr/wp-content/uploads/2025/02/23434.png
END:VEVENT
END:VCALENDAR