BEGIN:VCALENDAR
VERSION:2.0
PRODID:-//Rethemnos Live - ECPv6.15.20//NONSGML v1.0//EN
CALSCALE:GREGORIAN
METHOD:PUBLISH
X-ORIGINAL-URL:https://rethemnos.gr
X-WR-CALDESC:Events for Rethemnos Live
REFRESH-INTERVAL;VALUE=DURATION:PT1H
X-Robots-Tag:noindex
X-PUBLISHED-TTL:PT1H
BEGIN:VTIMEZONE
TZID:Europe/Athens
BEGIN:DAYLIGHT
TZOFFSETFROM:+0200
TZOFFSETTO:+0300
TZNAME:EEST
DTSTART:20250330T010000
END:DAYLIGHT
BEGIN:STANDARD
TZOFFSETFROM:+0300
TZOFFSETTO:+0200
TZNAME:EET
DTSTART:20251026T010000
END:STANDARD
BEGIN:DAYLIGHT
TZOFFSETFROM:+0200
TZOFFSETTO:+0300
TZNAME:EEST
DTSTART:20260329T010000
END:DAYLIGHT
BEGIN:STANDARD
TZOFFSETFROM:+0300
TZOFFSETTO:+0200
TZNAME:EET
DTSTART:20261025T010000
END:STANDARD
BEGIN:DAYLIGHT
TZOFFSETFROM:+0200
TZOFFSETTO:+0300
TZNAME:EEST
DTSTART:20270328T010000
END:DAYLIGHT
BEGIN:STANDARD
TZOFFSETFROM:+0300
TZOFFSETTO:+0200
TZNAME:EET
DTSTART:20271031T010000
END:STANDARD
END:VTIMEZONE
BEGIN:VEVENT
DTSTART;TZID=Europe/Athens:20260325T130000
DTEND;TZID=Europe/Athens:20260325T130000
DTSTAMP:20260426T023125
CREATED:20260322T180200Z
LAST-MODIFIED:20260323T183135Z
UID:429447-1774443600-1774443600@rethemnos.gr
SUMMARY:Ο Μπάμπης Βουλγαράκης στο Nostos of Melambes
DESCRIPTION:Ο Μπάμπης Βουλγαράκης με τη λύρα του μαζί με τους Στέλιο Ηλιάκη (λαούτο) και Μπάμπη Γαϊτανάκη (κιθάρα) ζωντανά στο Nostos of Melambes. \nΤετάρτη 25 Μαρτίου – Έναρξη 13:00. \nΤηλέφωνα κρατήσεων: 6955892330 – 2832041568
URL:https://rethemnos.gr/event/o-mpampis-voylgarakis-sto-nostos-of-melambes/
LOCATION:Nostos Μελαμπες\, Melampes\, Ρεθύμνου\, 740 53\, Ελλάδα
CATEGORIES:κρητική μουσική
ATTACH;FMTTYPE=image/jpeg:https://rethemnos.gr/wp-content/uploads/2025/08/884.jpg
END:VEVENT
BEGIN:VEVENT
DTSTART;TZID=Europe/Athens:20260325T180000
DTEND;TZID=Europe/Athens:20260325T180000
DTSTAMP:20260426T023125
CREATED:20251002T220047Z
LAST-MODIFIED:20260317T121541Z
UID:369479-1774461600-1774461600@rethemnos.gr
SUMMARY:Ο Αναστάσης Μπούχλης και ο Αντώνης Κουράκης στο Αλλού γι' Αλλού
DESCRIPTION:Ο Αναστάσης Μπούχλης με τον Αντώνη Κουράκη με το συγκρότημα τους στο μεζεδοπωλείο Αλλού γι’ Αλλού. \nΤετάρτη 25 Μαρτίου – Έναρξη 18:00 \nΤηλ κρατήσεων 6974025703.
URL:https://rethemnos.gr/event/anastasis-mpouxlis-antonis-koyrakis-allou-gi-allou/
LOCATION:Μεζεδοπωλείο Αλλού γι’ αλλού\, Νικολάου Πλαστήρα 2\, Ρέθυμνο\, Ρεθύμνου\, 74100\, Ελλάδα
CATEGORIES:κρητική μουσική
ATTACH;FMTTYPE=image/jpeg:https://rethemnos.gr/wp-content/uploads/2019/07/79352566_2768515526544435_4956048541941235712_o.jpg
END:VEVENT
END:VCALENDAR