BEGIN:VCALENDAR
VERSION:2.0
PRODID:-//Rethemnos Live - ECPv6.15.20//NONSGML v1.0//EN
CALSCALE:GREGORIAN
METHOD:PUBLISH
X-WR-CALNAME:Rethemnos Live
X-ORIGINAL-URL:https://rethemnos.gr
X-WR-CALDESC:Events for Rethemnos Live
REFRESH-INTERVAL;VALUE=DURATION:PT1H
X-Robots-Tag:noindex
X-PUBLISHED-TTL:PT1H
BEGIN:VTIMEZONE
TZID:Europe/Athens
BEGIN:DAYLIGHT
TZOFFSETFROM:+0200
TZOFFSETTO:+0300
TZNAME:EEST
DTSTART:20250330T010000
END:DAYLIGHT
BEGIN:STANDARD
TZOFFSETFROM:+0300
TZOFFSETTO:+0200
TZNAME:EET
DTSTART:20251026T010000
END:STANDARD
BEGIN:DAYLIGHT
TZOFFSETFROM:+0200
TZOFFSETTO:+0300
TZNAME:EEST
DTSTART:20260329T010000
END:DAYLIGHT
BEGIN:STANDARD
TZOFFSETFROM:+0300
TZOFFSETTO:+0200
TZNAME:EET
DTSTART:20261025T010000
END:STANDARD
BEGIN:DAYLIGHT
TZOFFSETFROM:+0200
TZOFFSETTO:+0300
TZNAME:EEST
DTSTART:20270328T010000
END:DAYLIGHT
BEGIN:STANDARD
TZOFFSETFROM:+0300
TZOFFSETTO:+0200
TZNAME:EET
DTSTART:20271031T010000
END:STANDARD
END:VTIMEZONE
BEGIN:VEVENT
DTSTART;TZID=Europe/Athens:20260426T200000
DTEND;TZID=Europe/Athens:20260426T200000
DTSTAMP:20260425T151535
CREATED:20260424T133003Z
LAST-MODIFIED:20260424T133137Z
UID:452560-1777233600-1777233600@rethemnos.gr
SUMMARY:«Απ’ τη μεριά τσ’ανατολής…»: Μια κρητική μουσική βραδιά στο Αντίβαρο
DESCRIPTION:Μια μουσική βραδιά με το άρωμα της ανατολικής Κρήτης θα μας χαρίσουν οι καταξιωμένοι μουσικοί Δημήτρης Σγουρός\, Μιχάλης Κονταξάκης και Γιώργος Ψαράκης\, την Κυριακή 26 Απριλίου\, στο θέατρο «Αντίβαρο» στις 8:00 μ.μ. \nΚαι οι τρεις έχουν ενσωματώσει στο παίξιμό τους το ηχόχρωμα και τα ιδιαίτερα χαρακτηριστικά της μουσικής έκφρασης της ανατολικής Κρήτης\, όπως τα βίωσαν στον τόπο καταγωγής τους\, δηλαδή την Κριτσά\, το Χουδέτσι και το Μοχό\, που αποτελούσαν και αποτελούν τρεις ισχυρότατους πόλους της κρητικής ενδοχώρας. \nΤαυτόχρονα όμως\, έχουν καταφέρει να δημιουργήσουν το προσωπικό τους ύφος\, το οποίο είναι έντονα αναγνωρίσιμο και στη δισκογραφία τους.  \nΕίναι σίγουρο ότι θα απολαύσουμε ένα πολύ ενδιαφέροντα διάλογο ανάμεσα στη λύρα\, το λυράκι\, το μαντολίνο και το λαούτο\, με τον αυθορμητισμό που διακρίνει και τους τρεις μουσικούς αλλά και με τις διακυμάνσεις και τα απρόοπτα που χαρακτηρίζουν πάντα την τελετουργία της «παρέας» στην Κρήτη. \nΚαλή αντάμωση λοιπόν!
URL:https://rethemnos.gr/event/ap-ti-meria-ts-anatolis-mia-kritiki-moysiki-vradia-sto-antivaro/
LOCATION:Θέατρο Αντίβαρο\, Κριτοβουλίδου 15\, Ρέθυμνο\, Ρεθύμνου\, 74100\, Greece
CATEGORIES:κρητική μουσική
ATTACH;FMTTYPE=image/png:https://rethemnos.gr/wp-content/uploads/2026/04/IMG_7143.png
END:VEVENT
END:VCALENDAR