BEGIN:VCALENDAR
VERSION:2.0
PRODID:-//Rethemnos Live - ECPv6.15.20//NONSGML v1.0//EN
CALSCALE:GREGORIAN
METHOD:PUBLISH
X-WR-CALNAME:Rethemnos Live
X-ORIGINAL-URL:https://rethemnos.gr
X-WR-CALDESC:Events for Rethemnos Live
REFRESH-INTERVAL;VALUE=DURATION:PT1H
X-Robots-Tag:noindex
X-PUBLISHED-TTL:PT1H
BEGIN:VTIMEZONE
TZID:Europe/Athens
BEGIN:DAYLIGHT
TZOFFSETFROM:+0200
TZOFFSETTO:+0300
TZNAME:EEST
DTSTART:20250330T010000
END:DAYLIGHT
BEGIN:STANDARD
TZOFFSETFROM:+0300
TZOFFSETTO:+0200
TZNAME:EET
DTSTART:20251026T010000
END:STANDARD
BEGIN:DAYLIGHT
TZOFFSETFROM:+0200
TZOFFSETTO:+0300
TZNAME:EEST
DTSTART:20260329T010000
END:DAYLIGHT
BEGIN:STANDARD
TZOFFSETFROM:+0300
TZOFFSETTO:+0200
TZNAME:EET
DTSTART:20261025T010000
END:STANDARD
BEGIN:DAYLIGHT
TZOFFSETFROM:+0200
TZOFFSETTO:+0300
TZNAME:EEST
DTSTART:20270328T010000
END:DAYLIGHT
BEGIN:STANDARD
TZOFFSETFROM:+0300
TZOFFSETTO:+0200
TZNAME:EET
DTSTART:20271031T010000
END:STANDARD
END:VTIMEZONE
BEGIN:VEVENT
DTSTART;TZID=Europe/Athens:20260425T170000
DTEND;TZID=Europe/Athens:20260425T203000
DTSTAMP:20260424T174927
CREATED:20260406T130317Z
LAST-MODIFIED:20260420T112043Z
UID:378168-1777136400-1777149000@rethemnos.gr
SUMMARY:Η παράσταση «Τα Τρία Παραμύθια» στο Cineland Παντελής
DESCRIPTION:Το παιδικό θέατρο «Δελφινάκι» παρουσιάζει την παράσταση «ΤΑ 3 ΠΑΡΑΜΥΘΙΑ». \nΤο θέατρο Δελφινάκι από την αρχή της διαδρομής του\, που ξεκίνησε πριν από 40 χρόνια\, παραμένει αφοσιωμένο στο κλασικό παραμύθι. Ο λόγος είναι προφανής. Η δυναμική αυτών των παραμυθιών που μεγάλωσαν τόσες γενιές είναι τεράστια και οι συμβολισμοί τους αμέτρητοι. \nΜια υπέροχη μουσικό-θεατρική παράσταση με τα 3 ξεχωριστά κλασικά Παραμύθια: ο Παπουτσωμένος Γάτος\, τα 3 Γουρουνάκια και η Κοκκινοσκουφίτσα. Όπου μέσα από την δράση\, τις διάφορες κωμικές καταστάσεις\, τη μουσική\, τα τραγούδια και όλο τον σκηνικό διάκοσμο βγαίνει όλη εκείνη η ομορφιά των αισθημάτων\, που γεννά το κάθε παραμύθι. \nΗθοποιοί: Ειρήνη Κοτζάσοβα\, Σοφιάννα Γρηγοριάδη\, Θέμιδα Γκέκου\, Πρόδρομος Παναγιωτόπουλος\, Χρυσάνθη Λάζαρη\, Γιώργος Γρηγοριάδης\nΣκηνοθεσία: Γιώργος Γρηγοριάδης \nΟι παραστάσεις θα πραγματοποιηθούν στον κινηματογράφο «CINELAND ΠΑΝΤΕΛΗΣ»\, το Σάββατο 25 Απριλίου. Ώρες παραστάσεων: 17.00 και 19.00. \nΤιμή εισιτηρίου: 10€\, προπώληση από το ταμείο του κινηματογράφου και εδώ: ow.ly/aejo50Qxwp0 \nΠληροφορίες: 6982004677
URL:https://rethemnos.gr/event/i-parastasi-ta-tria-paramythia-sto-cineland-pantelis/
LOCATION:Cineland Παντελής\, Εμμανουήλ Πορτάλιου 3\, Ρέθυμνο\, Ρεθύμνου\, Ελλάδα
CATEGORIES:παιδική παράσταση
ATTACH;FMTTYPE=image/jpeg:https://rethemnos.gr/wp-content/uploads/2026/04/3.jpg
END:VEVENT
BEGIN:VEVENT
DTSTART;TZID=Europe/Athens:20260508T170000
DTEND;TZID=Europe/Athens:20260508T203000
DTSTAMP:20260424T174927
CREATED:20260415T072010Z
LAST-MODIFIED:20260415T072335Z
UID:451688-1778259600-1778272200@rethemnos.gr
SUMMARY:H παράσταση «Το Γκρούφαλο» στο Cineland Παντελής
DESCRIPTION:Ένας ποντικός βγήκε βόλτα στο βαθύ\, σκοτεινό δάσος… Ψάχνοντας το φουντούκι του\, συνάντησε την πονηρή αλεπού\, την εκκεντρική κουκουβάγια και το φίδι που πάει σε όλα τα πάρτι. \nΘα καταφέρει να σωθεί ο ποντικός από τα πεινασμένα πλάσματα του δάσους μέσα από την ιστορία του τρομερού Γκρούφαλο; \nΕξάλλου δεν υπάρχει Γκρούφαλο – ή μήπως… υπάρχει; \n \nΣχετικά με την παράσταση: \nΗ σύλληψη της ιδέας για τη δημιουργία του θεατρικού έγινε το 1999. Το έργο πρωτοανέβηκε στην Αγγλία το 2001. 24 χρόνια μετά\, το έργο μεταφράστηκε και προσαρμόστηκε για το ελληνικό κοινό και παρουσιάζεται σε θέατρα σε καλοκαιρινή περιοδεία στην Ελλάδα. \nΗ μαγική\, μουσική θεατρική παράσταση για παιδιά βασισμένη στα επιτυχημένα βιβλία\, συνεχίζει και κάνει περιοδεία σε πολλές πόλεις του κόσμου όπως στο West End του Λονδίνου (10 σεζόν)\, στο Broadway της Νέας Υόρκης (2 σεζόν) και στο πανέμορφο θέατρο του Όπερα Χαουζ στο Σύντνευ. \nΟι London Times το έχουν αναφέρει ως ένα «ακαταμάχητα γοητευτικό θεατρικό έργο για παιδιά και οικογένειες». \nΚατάλληλο για παιδιά από 3 – 8 ετών.\nΔιάρκεια 1 ώρα και 10 λεπτά με το διάλειμμα. \nCineland Παντελής (Εμμ. Πορτάλιου 3-5\, Ρέθυμνο)\nΠαρασκευή 8 Μαΐου – Παραστάσεις 17:00 & 19:00\nΕισιτήρια 12 & 14 ευρώ – Προπώληση more.com
URL:https://rethemnos.gr/event/to-gkroyfalo-se-periodeia/
LOCATION:Cineland Παντελής\, Εμμανουήλ Πορτάλιου 3\, Ρέθυμνο\, Ρεθύμνου\, Ελλάδα
CATEGORIES:παιδική παράσταση
ATTACH;FMTTYPE=image/jpeg:https://rethemnos.gr/wp-content/uploads/2026/04/photo.jpg
END:VEVENT
BEGIN:VEVENT
DTSTART;TZID=Europe/Athens:20260522T170000
DTEND;TZID=Europe/Athens:20260522T180000
DTSTAMP:20260424T174927
CREATED:20260322T184040Z
LAST-MODIFIED:20260407T123232Z
UID:249545-1779469200-1779472800@rethemnos.gr
SUMMARY:H παράσταση «Πλούτο - Το πιο διάσημο σκυλάκι στον κόσμο» στο Cineland Παντελής
DESCRIPTION:Η πιο όμορφη και τρυφερή ΠΑΙΔΙΚΗ ΘΕΑΤΡΙΚΗ ΠΑΡΑΣΤΑΣΗ\, του πιο γνωστού σκύλου του κόσμου\, έρχεται αυτό το καλοκαίρι σε περιοδεία σε όλη την Ελλάδα! \nΟ παιχνιδιάρης και αγαπητός σε όλους σκύλος του Μίκυ Μάους (από την πρώτη ταινία του Mickey Mouse Steamboat Willie 1928) γνωρίζει καινούριους φίλους\, τον Πούπι και τη Νιαουρίτσα\, δυο χαριτωμένα ζωάκια\, που υιοθετούνται από τον κύριο Αγαπησιάρη. \nΟ Πλούτο προσπαθεί με κάθε τρόπο να γίνει κι αυτός αγαπητός στον κύριο Αγαπησιάρη\, αλλά με τις γκάφες του πετυχαίνει ακριβώς το αντίθετο! Όταν βλέπει πόσο ο κύριος Αγαπησιάρης αγαπά τα ποδήλατα\, του έρχεται μια λαμπρή ιδέα! Αρχίζει μαθήματα ποδηλασίας προκειμένου να κερδίσει την προσοχή του! Θα τα καταφέρει άραγε; Σίγουρα θα χρειαστεί τη βοήθεια του Πούπι\, της Νιαουρίτσας\, αλλά και τη δική σας! \nΜια ιστορία για τη σημασία της συντροφικότητας\, της αποδοχής\, της αγάπης και της ζεστής επικοινωνίας μεταξύ ανθρώπων και ζώων \, έρχεται να ξεσηκώσει μικρούς και μεγάλους σε μια διαδραστική παιδική θεατρική παράσταση γεμάτη μουσική\, χιούμορ και δράση. \nΣκηνοθεσία: Νίκος Λημνιός\nΚείμενο/ Στίχοι τραγουδιών: Κακούρη Γλυκερία\nΒοηθός Σκηνοθέτη / Χορογραφίες: Νάντια Αντωνίου\nΣύνθεση ενορχήστρωση μουσικής: Γιώργος Πέτρου\nΣχεδιασμός φωτισμών: Δημήτρης Χύτος\nΥπεύθυνος χειρισμού ειδικών εφέ: Γιώργος Ανδρουλάκης\nΟπτική επικοινωνία: Άρης Σομπότης\nΚατασκευή σκηνικού: ALL ABOUT PRINTING\nΠαραγωγή: Θεατρική Διάδραση Υπηρεσίες Θεατρικού Θιάσου \nΠαίζουν οι ηθοποιοί: Νάντια Αντωνίου\, Κώνσταντίνος Πλώτας\, Ραφαέλα Καβαζαράκη\, Άγγελος Μπέσσας \nCineland Παντελής (Εμμ. Πορτάλιου 3-5\, Ρέθυμνο).\nΠαρασκευή 22 Μαΐου – Έναρξη 17:00. \nΠροπώληση more.com
URL:https://rethemnos.gr/event/h-parastasi-ployto-to-pio-diasimo-skylaki-ston-kosmo-sto-cineland-pantelis/
LOCATION:Cineland Παντελής\, Εμμανουήλ Πορτάλιου 3\, Ρέθυμνο\, Ρεθύμνου\, Ελλάδα
CATEGORIES:παιδική παράσταση
ATTACH;FMTTYPE=image/jpeg:https://rethemnos.gr/wp-content/uploads/2026/03/32343.jpg
END:VEVENT
END:VCALENDAR