BEGIN:VCALENDAR
VERSION:2.0
PRODID:-//Rethemnos Live - ECPv6.15.20//NONSGML v1.0//EN
CALSCALE:GREGORIAN
METHOD:PUBLISH
X-WR-CALNAME:Rethemnos Live
X-ORIGINAL-URL:https://rethemnos.gr
X-WR-CALDESC:Events for Rethemnos Live
REFRESH-INTERVAL;VALUE=DURATION:PT1H
X-Robots-Tag:noindex
X-PUBLISHED-TTL:PT1H
BEGIN:VTIMEZONE
TZID:Europe/Athens
BEGIN:DAYLIGHT
TZOFFSETFROM:+0200
TZOFFSETTO:+0300
TZNAME:EEST
DTSTART:20240331T010000
END:DAYLIGHT
BEGIN:STANDARD
TZOFFSETFROM:+0300
TZOFFSETTO:+0200
TZNAME:EET
DTSTART:20241027T010000
END:STANDARD
BEGIN:DAYLIGHT
TZOFFSETFROM:+0200
TZOFFSETTO:+0300
TZNAME:EEST
DTSTART:20250330T010000
END:DAYLIGHT
BEGIN:STANDARD
TZOFFSETFROM:+0300
TZOFFSETTO:+0200
TZNAME:EET
DTSTART:20251026T010000
END:STANDARD
BEGIN:DAYLIGHT
TZOFFSETFROM:+0200
TZOFFSETTO:+0300
TZNAME:EEST
DTSTART:20260329T010000
END:DAYLIGHT
BEGIN:STANDARD
TZOFFSETFROM:+0300
TZOFFSETTO:+0200
TZNAME:EET
DTSTART:20261025T010000
END:STANDARD
END:VTIMEZONE
BEGIN:VEVENT
DTSTART;TZID=Europe/Athens:20250607T210000
DTEND;TZID=Europe/Athens:20250607T210000
DTSTAMP:20260424T084825
CREATED:20250526T082149Z
LAST-MODIFIED:20250531T081126Z
UID:422378-1749330000-1749330000@rethemnos.gr
SUMMARY:Η θεατρική συμπεριληπτική ομάδα ΑμεΑ «Ρόδα» παρουσιάζει την παράσταση «Ένα παιδί μετράει τ' άστρα»
DESCRIPTION:Η Θεατρική συμπεριληπτική ομάδα ΑμεΑ «ΡΟΔΑ» παρουσιάζει την παράσταση “Ένα παιδί μετράει τ’ άστρα” του Μεν. Λουντέμη στο Ατσιπόπουλο Ρεθύμνου το Σάββατο 7 Ιουνίου στις 21:00\, στο πλαίσιο του «A Festival – Φεστιβάλ παραστατικών τεχνών για την αναπηρία». \nΗ παράσταση διοργανώνεται από το Δήμο Ρεθύμνου σε συνδιοργάνωση με το Σύλλογο Γονέων Ατόμων με Αυτισμό Ρεθύμνου και τελείται με την υποστήριξη του Δήμου Ηρακλείου. \nΤο βιβλίο που έχει μεγαλώσει γενιές και γενιές εφήβων στην Ελλάδα\, παρουσιάζεται στην σκηνή από τα μέλη της ομάδας σε μορφή δραματοποιημένης αφήγησης. Ο κεντρικός ήρωας\, ο Μέλιος\, αγωνίζεται κόντρα σε όλα τα τείχη που του υψώνει η κοινωνία της εποχής του\, προκειμένου να αποκτήσει γνώση\, να γνωρίσει τον κόσμο και να σπάσει κοινωνικά στερεότυπα και ταμπού. \nΗ Θεατρική συμπεριληπτική ομάδα ΑμεΑ “ΡΟΔΑ” εδώ και τρία χρόνια ταξιδεύει σε θεατρικούς δρόμους\, δίνοντας τη δυνατότητα στα μέλη της να επικοινωνήσουν και να εκφραστούν μέσα από την Τέχνη του Θεάτρου. Η παράσταση “Ένα παιδί μετράει τ’ άστρα” είναι η πρώτη της συνομιλία με το θεατρικό κοινό και έχει αποσπάσει θετικά σχόλια κάθε φορά που έχει παρουσιαστεί. \nΣας περιμένουμε για να ξανανιώσουμε παιδιά και να μετρήσουμε τ’ άστρα μαζί. \nΔιασκευή – Θεατρική διδασκαλία: Κωνσταντίνα Πάλλη\nΥποστήριξη και οργάνωση παραγωγής: Έφη Πασπαλάκη\nMουσική: Χάρης Μανουσάκης\nΤο τραγούδι “Η θάλασσα” ερμηνεύει η Εμμανουέλα Νινιράκη\nΕπιμέλεια κομμώσεων και μακιγιάζ: Ευα Κοκαράκη\nΟ ζωγραφικός πίνακας φιλοτεχνήθηκε από την εικαστικό Ειρήνη Κλαρνέτατζη\nΣχεδιασμός λογότυπου: Ραφαήλ Μίγκλης \nΠαίζουν με αλφαβητική σειρά: Μαρία Βαϊλάκη\, Νίκος Γαστεράτος\, Βιβή Ηλιάκη\, Γιώργος Ηλιάκης\, Γιώργος Ιερωνυμάκης\, Μαρία Καλλέργη\, Μανώλης Καρπαθιωτάκης\, Ειρήνη Κλαρνέτατζη\, Παρίσης Λαζαρίδης\, Ραφαήλ Μακρυγιαννάκης\, Φιλοθέη Μαρτιμιανάκη\, Μαριάννα Μπαλτζάκη\, Μαρία Νανοπούλου\, Γεωργία Ξημεράκη\, Γιώργος Παναγιωτάκης\, Νίκη Παπαδημητρίου\, Εμμανουέλα Πατσουράκη\, Στέλιος Σαβοϋδάκης\, Γαρυφαλλιά Σεληνιωτάκη\, Μαρίνα Σπυριδάκη\, Ειρήνη Σταυρακάκη\, Έλενα Στρατήγη\, Στέφανος Σφακιανάκης\, Κωνσταντίνος Τσαγκατάκης\, Αγγέλα Σπιθάκη Τσικριτσάκη\, Μανώλης Χουρδάκης. \nΕμψυχωτές: Γιώργος Τσικριτσάκης\, Αλέξανδρος Τσαούσης.
URL:https://rethemnos.gr/event/i-theatriki-symperiliptiki-omada-amea-roda-paroysiazei-tin-parastasi-ena-paidi-metraei-t-039-astra/
LOCATION:Ατσιπόπουλο\, Ατσιπόπουλο\, Ατσιπόπουλο\, Ρεθύμνου\, 74100\, Ελλάδα
CATEGORIES:θέατρο
ATTACH;FMTTYPE=image/jpeg:https://rethemnos.gr/wp-content/uploads/2025/05/12-3-1.jpg
END:VEVENT
BEGIN:VEVENT
DTSTART;TZID=Europe/Athens:20250611T213000
DTEND;TZID=Europe/Athens:20250611T213000
DTSTAMP:20260424T084825
CREATED:20250602T122929Z
LAST-MODIFIED:20250603T101331Z
UID:423159-1749677400-1749677400@rethemnos.gr
SUMMARY:Την παράσταση ΕΙΡΗΝΗ του Αριστοφάνη θα παρουσιάσει η Θεατρική Ομάδα ΑμεΑ ΑΝΤΙΗΡΩΕΣ με τη Θεατρική Ομάδα του 1ου ΕΠΑΛ Ρεθύμνου
DESCRIPTION:Τετάρτη 11 και Πέμπτη 12 Ιουνίου 2025\nΧώρος: Θέατρο Ερωφίλη – Φορτέτσα\nΩρα: 21.30 \nΗ μεικτή θεατρική ομάδα Αντιήρωες\, του Συλλόγου Γονέων και Φίλων Ατόμων με Αυτισμό\, παρουσιάζει τη νέα της θεατρική παραγωγή. Αυτή τη χρονιά συμπράττει με την θεατρική ομάδα του 1ου ΕΠΑΛ Ρεθύμνου και δημιουργούν ένα σύγχρονο αριστοφανικό σύμπαν. \n“Έμπνευση και οδηγός αποτέλεσε η μεταφορά του Δημοσθένη Παπαμάρκου σε libretto\, για την μουσικοθεατρική παράσταση Ειρήνη\, του Νίκου Κυπουργού. Η ευρηματικότητα και η προσέγγιση τους\, μας αποκάλυψε μια σύγχρονη ανάγνωση των σημαινόντων και νύξεων του αριστοφανικού έργου\, που αφορά ταυτόχρονα το παρόν μας και το ειδικό πλαίσιο μέσα στο οποίο ζούμε και δημιουργούμε. \nΟ αριστοφανικός λόγος\, αιχμηρός\, εύστοχος\, σαρκαστικός\, ποιητικός και απελευθερωμένος από καθωσπρεπισμούς\, μας φανερώνει πώς το κωμικό βρίσκεται μέσα στο τραγικό\, πώς το ατομικό γίνεται συλλογικό και πώς η κατάκτηση μεγάλων Ιδεών περνάει μέσα από τις μικρές ασήμαντες καθημερινές μας Ιστορίες. \nΜε σεβασμό προς το κείμενο του Δ. Παμαμάρκου\, κρατήσαμε όλα εκείνα τα στοιχεία που χαρακτηρίζουν τη μεταφορά του κειμένου τού\, προσαρμόζοντάς το στις δικές μας ανάγκες και ιδιαίτερες ικανότητες. Περιορίσαμε στοιχεία που δεν συνάδουν με τη σύνθεση της ομάδας μας και με εμβόλιμες προσθήκες που δημιουργήθηκαν από την ομάδα\, συνδέουν με αμεσότητα την προσωπική τους αντίληψη με την έννοιας της Ειρήνης\, της κοινής προσπάθειας και την αξία της αποδοχής κάθε ανθρώπου. \nΤαυτότητα παράστασης \nΕιρήνη του Αριστοφάνη\n11 και 12 Ιουνίου 2024\, στις 21:30 μ.μ.\nΘέατρο Ερωφίλη\, Φορτέτζα \nΕίσοδος ελεύθερη. \nΣυντελεστές:\nΒασισμένο στην μεταφορά του Δημοσθένη Παπαμάρκου και του Νίκου Κηπουργού\nΠροσαρμογή – προσθήκη κειμένων: Κωνσταντίνα Γιασεμίδου\nΣκηνοθεσία: Κωνσταντίνα Γιασεμίδου – Γιάννης Μπλέτας\nΧορογραφίες – κινησιολογία: Κωνσταντίνα Γιασεμίδου\nΚινηματογράφηση – μοντάζ: Γιάννης Μπλέτας\nΒοηθοί σκηνοθεσίας: Αναστασία Βασιλειάδου\, Μαρία Σκαμνάκη\nΣύνθεση πρωτότυπης μουσικής και ζωντανής εκτέλεσης επί σκηνής: Κρουστά παιζουν ζωντανά επι σκηνής συμμετέχοντες του προγράμματος “Η Τέχνη του Ρυθμού στην Εκπαίδευση-Μουσικη στην Κοινότητα” \nΕπιμέλεια σκηνικών και κουστουμιών: Κωνσταντίνα Γιασεμίδου – Γιάννης Μπλέτας\nΧώρος φιλοξενίας προβών: Χώρος πολιτισμού “Σημείο”.\nΠαραγωγή: Σύλλογος Γονέων και Φίλων Ατόμων με Αυτισμό\nΔιεύθυνση Παραγωγής: Ειρήνη Κλάδου\nΟργάνωση Παραγωγής: Παύλος Μελισσινός\nΕπικοινωνία – Δημόσιες σχέσεις : Ειρήνη Κλάδου\, Γαβριήλ Τσουντάνης- INTERBRAIN\nΚουστούμια: Εθνική Λυρική Σκηνή \nΣυμμετέχουν αλφαβητικά οι ηθοποιοί: Γιώργος Αργβλιάνι\, Πηνελόπη Βαμιεδάκη\, Αναστασία Βασιλειάδου \, Στέλιος Βουρβαχάκης\, Οδυσσέας Γασπαράκης\, Μαρία Δραμιτινού\, Ειρήνη Κλάδου\, Στελλίτσα Λαγουδάκη\, Παναγιώτης Λύκος\, Φίλιππος Μαυροματάκης\, Ίρις Μπιρλιράκη\, Χρύσα Μιχελιδάκη\, Ειρήνη Ντουμπάρλα\,\, Κώστας Μίσα\, Στελλιάννα Παπαδάκη\, Κώστας Παπαδάκης\, Δέσποινα Πετσαγκουράκη\, Αργυρώ Πισκοπάκη\, Άγγελος Πονηρός\, Νεκταρία Μαρία Ρηγινιώτη\, Μαρία Σκαμνάκη\, Λευτέρης Σκλαβάκης\, Μανώλης Σταυρουλάκης\, Ραφαέλα Φραγκιαδάκη\, Ανδρέας Χρυσός. \nΤα κοστούμια της παράστασης είναι παραχώρηση του Βεστιαρίου της Εθνικής Λυρικής Σκηνής. \nΕυχαριστούμε θερμά τον Δημοσθένη Παπαμάρκο για την παραχώρηση των πνευματικών δικαιωμάτων του κειμένου \nΗ παραχώρηση για τα πνευματικά δικαιώματα της μεταφοράς του κειμένου της Ειρήνης του Αριστοφάνη\, έγινε από τον Δημοσθένη Παπαμάρκο\, σε μουσική – ενορχήστρωση του Νίκου Κυπουργού\, για την παράσταση του Εθνικού Θεάτρου στο Φεστιβάλ Αθηνών_ Επιδαύρου το 2016. \nΕυχαριστούμε τους : Αθήνα Βερυκάκη\, Χρυσούλα Σκεπετζή \, Σοφία Καλημέρη \, Γεωργία Ανυφαντάκη\, Δέσποινα Ανυφαντάκη\, Γιώργο Κουμεντακη\, Μάρα Δανδόλου\, Αντωνία Πιοτογιαννάκη και όσους ακόμα βοήθησαν και βοηθούν με οποιονδήποτε τρόπο.
URL:https://rethemnos.gr/event/tin-parastasi-eirini-toy-aristofani-tha-paroysiasei-i-theatriki-omada-amea-antiiroes-me-ti-theatriki-omada-toy-1oy-epal-rethymnoy/
LOCATION:Θέατρο Ερωφίλη\, Erofili Theatre\, Ρέθυμνο\, Ρεθύμνου\, 74100\, Greece
CATEGORIES:θέατρο,φεστιβάλ
ATTACH;FMTTYPE=image/jpeg:https://rethemnos.gr/wp-content/uploads/2025/06/eirini.jpg
END:VEVENT
BEGIN:VEVENT
DTSTART;TZID=Europe/Athens:20250613T193000
DTEND;TZID=Europe/Athens:20250613T230000
DTSTAMP:20260424T084825
CREATED:20250531T074125Z
LAST-MODIFIED:20250613T052031Z
UID:422962-1749843000-1749855600@rethemnos.gr
SUMMARY:Έκθεση Φωτογραφίας με θέμα «Αγγίζοντας το μαζί» του Στέφανου Πατεράκη & «Αντιηρώες» του Αστρινού Αλεξάκη
DESCRIPTION:Έκθεση Φωτογραφίας με θέμα «Αγγίζοντας το μαζί» του Στέφανου Πατεράκη & «Αντιηρώες» του Αστρινού Αλεξάκη θα πραγματοποιηθεί από Τετάρτη 11 έως Παρασκευή 13 Ιουνίου\, από 19:30 – 23:00 στην Αίθουσα Πυροβολικού (Κάστρο Φορτέτσα) στο πλαίσιο του A Festival\, του 1ου Φεστιβάλ Παραστατικών Τεχνών για την Αναπηρία στο Ρέθυμνο.
URL:https://rethemnos.gr/event/ekthesi-fotografias-me-thema-aggizontas-to-mazi-toy-stefanoy-pateraki-amp-antiiroes-toy-astrinoy-alexaki/
LOCATION:Φορτέτζα\, Κάστρο Φορτέτζα\, Ρέθυμνο\, Ρεθύμνου\, 74100\, Ελλάδα
CATEGORIES:έκθεση φωτογραφίας
ATTACH;FMTTYPE=image/jpeg:https://rethemnos.gr/wp-content/uploads/2025/05/1-a-fest.jpg
END:VEVENT
BEGIN:VEVENT
DTSTART;TZID=Europe/Athens:20250615T203000
DTEND;TZID=Europe/Athens:20250615T203000
DTSTAMP:20260424T084825
CREATED:20250611T082149Z
LAST-MODIFIED:20250612T120614Z
UID:424168-1750019400-1750019400@rethemnos.gr
SUMMARY:Συναυλίες στο πλαίσιο του A Festival
DESCRIPTION:Για πρώτη χρονιά φέτος ο Δήμος Ρεθύμνης διοργανώνει ένα Φεστιβάλ Παραστατικών Τεχνών με θέμα την αναπηρία σε συνδιοργάνωση με το Σύλλογο Γονέων και Φίλων Ατόμων με Αυτισμό Ρεθύμνου. \nΤο όνομα του φεστιβάλ “A festival” αρχίζει με το Α όπως η Αποδοχή και η Αγάπη που πρέπει να περιβάλλει τις τέχνες (Αrts) με την ισότιμη πρόσβαση στην τέχνη για τα Άτομα με Αυτισμό και νοητική ή κινητική Αναπηρία. \nΚυριακή 15 Ιουνίου 2025 \nΧώρος: Πλατεία Γάλλου\, Πολιτιστικός Σύλλογος Γάλλου\nΩρα: 20.30 \n«Όλα μοιάζουν Καλοκαίρι»\nΣύμπραξη Νεανικής Χορωδίας ΚΔΑΠ ΑμεΑ Ρεθύμνου με την Παιδική χορωδία Δήμου Μυλοποτάμου\,\nΜαέστρος – συντονιστής: Βαγγέλης Λινοξυλάκης \n \n«Από την Ιρλανδία στην Κρήτη με την τέχνη του ρυθμού».\nΟμάδα Κρουστών – πρόγραμμα «Η Τέχνη του ρυθμού στην εκπαίδευση – Η Μουσική στην Κοινότητα».\nΣυντονιστής: Γιάννης Παπατζανής και μεγάλη ομάδα καλλιτεχνών. \nΗ εκδήλωση τελείται με την υποστήριξη του Δήμου Ρεθύμνης και φιλοξενείται από τον Πολιτιστικό Σύλλογο Γάλλου.
URL:https://rethemnos.gr/event/synaylies-sto-plaisio-toy-a-festival/
LOCATION:Γάλλος\, Γάλλος Ρεθύμνου\, Ρέθυμνο\, Ρεθύμνου\, Ελλάδα
CATEGORIES:ζωντανή μουσική
ATTACH;FMTTYPE=image/jpeg:https://rethemnos.gr/wp-content/uploads/2025/06/a-festival.jpg
END:VEVENT
BEGIN:VEVENT
DTSTART;TZID=Europe/Athens:20250625T210000
DTEND;TZID=Europe/Athens:20250625T210000
DTSTAMP:20260424T084825
CREATED:20250609T082810Z
LAST-MODIFIED:20250624T115250Z
UID:423804-1750885200-1750885200@rethemnos.gr
SUMMARY:Η αυλαία του 1ου Φεστιβάλ Παραστατικών Τεχνών στο Θόλο της Φορτέτζας με «ΑΠΟΧΡΩΣΕΙΣ ΑΝΑΠΗΡΙΑΣ»
DESCRIPTION:Την Τετάρτη 25 Ιουνίου 2025\, στις 21.00\, στο Θόλο του Φρουρίου Φορτέτζα στο Ρέθυμνο\, κλείνει η αυλαία του 1ου Φεστιβάλ Παραστατικών Τεχνών για την αναπηρία που έγινε σε συνδιοργανώση του Δήμου Ρεθύμνου με το Σύλλογο Γονέων και Φίλων Ατόμων με Αυτισμό Ρεθύμνου. \nΣτο Θόλο στη Φορτέτσα θα γίνει σειρά προβολών ταινιών μικρού μήκους με θέμα την αναπηρία. \nΟι ταινίες επιλέχθηκαν προσεκτικά από τον Καλλιτεχνικό Διευθυντή του φεστιβάλ Γιάννη Μπλέτα\, σκηνοθέτη – κινηματογραφιστή\, με προτάσεις από τον Αντιδήμαρχο Πολιτισμού Δήμου Ρεθύμνου – Μάνο Τσάκωνα και την Ειρήνη Κλάδου πρόεδρο του Συλλόγου γονέων και φίλων ατόμων με αυτισμό Ρεθύμνου\, ώστε να αγκαλιάσουν κατα το δυνατόν το φάσμα των αναπηριών. \nΟι ταινίες που θα παρουσιαστούν κατά σειρά είναι οι παρακάτω: \n1. “Εμείς Οι ΑυτΟιστικοί”\nΗ αρχική σκέψη της δημιουργίας της ταινίας ανήκει στην ΑΜΚΕ “Αβάλη”.\nΣτόχος υπήρξε να καταφέρουν μέσα από την ταινία οι αυτιστικοί\, να κάνουν γνώστες τις σκέψεις τους\, στιγμές τις ζωής τους αλλά και τρόπους επικοινωνίας ώστε να εκφράσουν έστω το λιγότερο…τις ανάγκες τους! Πρωταγωνιστές είναι ο Βασίλης\, ο Ιωάννης\, ο Δαμιανός\, ο Γρηγόρης και οι γονείς τους. \nΠαραγωγή : ΑΒΑΛΗ”\nΈρευνα – θεματικές: Σοφία Γραβάνη – μητέρα.\nΣκηνοθεσία – λήψεις – μοντάζ: Δημήτρης Βρακάς – σκηνοθέτης.\nΣχολιασμός: Ευθαλία Καδέρογλου – Ειδική παιδαγωγός\nΜαζί μας θα βρίσκεται η μητέρα του Βασίλη\, Ελισσάβετ Μπενάκη. \n2. “Δήθεν”\nΗ προετοιμασία του πάρτι για την πιο δήθεν αποφοίτηση από το Πανεπιστήμιο Κρήτης της Μαρίας. Όλη η ομάδα των Αντιηρώων προετοιμάζει με αγωνία την έκπληξη\, σε ένα πάρτι που είναι καλεσμένοι όλοι.\nΈνα ντοκιμαντέρ μικρού μήκους που δημιουργήθηκε από την ίδια την ομάδα των Αντιηρώων! \nΣκηνοθεσία- Σενάριο : Αντιήρωες\nΠαραγωγή : Σύλλογος γονέων και φίλων με αυτισμό Ρεθύμνου\nΜοντάζ : Γιάννης Μπλέτας\nΚαθοδήγηση : Γιάννης Σακαρίδης\, σκηνοθέτης – τ. διευθυντής Φεστιβάλ ταινιών μικρού μήκους Δράμας\, Ντενίς Νικολάκου Ψυχολόγος – Ψυχοθεραπεύτρια – Υπεύθυνη cinema therapy.\nΧώρος φιλοξενίας Γυρισμάτων : ΣΗΜΕΙΟ \nΗ ταινία πραγματοποιήθηκε στα πλαίσια σεμιναρίου για τον κινηματογράφο σε συνεργασία με τον Γιάννη Σακαρίδη και τη Ντενίς Νικολάκου\, αλλά και το Διεθνές Φεστιβάλ ταινιών μικρού μήκους Δράμας.\nΜαζί μας θα σχολιάσουν η πρωταγωνίστρια Μαρία Δραμιτινού και η συνοδός – μητέρα του Οδυσσέα\, Αργυρώ Πισκοπάκη\, Συνοδός ΑμεΑ ΚΤΕΛ Ρεθύμνου\, ενώ θα παρέμβει όποιος ΑΝΤΙΗΡΩΑΣ πήρε μέρος. \n3. “Δ’ Λυκείου”\nΟ Νίκος είναι απόφοιτος της Δ’ Λυκείου ενός Ενιαίου Ειδικού Επαγγελματικού Γυμνασίου-Λυκείου. Συναντάει την Αντιγόνη (κοινωνική λειτουργό) και μιλάνε για την εμπειρία του από τον στρατό\, την πυγμαχία και τις κοινές τους αναμνήσεις από τα σχολεία που υπήρξαν μαζί. Μοιράζονται τα συναισθήματα και τις σκέψεις τους\, ονειρεύονται μαζί και συγκινούνται αναπολώντας. \nΣκηνοθεσία-Σενάριο: Αιμιλία Βακουφάρη\nΔιεύθυνση φωτογραφίας: Στάθης Γαλαζούλας\nΜοντάζ: Ξενοφών Αγγελόπουλος\nΜουσική: Μιχάλης Βρέττας\nΠαραγωγή: Ένωση Ελληνικού Ντοκιμαντέρ\nΣτην συντροφιά μας θα βρίσκεται η σκηνοθέτης – δημιουργός : Αιμιλία Βακουφάρη\, Εκπαιδευτικός Προσαρμοσμένης Φυσικής Αγωγής-Προπονήτρια Στίβου ΑμεΑ.\ \n4. “Οταν ο Ηχος σωπαίνει”\nΤι δουλειά έχουν αυτοί εδώ;\nΗ αλήθεια είναι ότι η επιστροφή στα θρανία σε μεγάλη ηλικία δεν είναι εύκολη υπόθεση. Στην περίπτωση όμως της Μαρίας και του Χρήστου η πρόκληση είναι ακόμα δυσκολότερη. \nΗ ταινία δημιουργήθηκε στο πλαίσιο σχεδίου δράσης το σχολικό έτος 2021-2022 από εκπαιδευόμενους/ες του Α΄ κύκλου του Σχολείου Δεύτερης Ευκαιρίας Χανίων\, με την υποστήριξη της δημιουργικής ομάδας του Φεστιβάλ Κινηματογράφου Χανίων.\nΣκηνοθεσία – σενάριο: Η ομάδα\nΥπεύθυνοι εκπαιδευτικοί : Ευφροσύνη Τζιαφάλια – Σμαράγδη Γαλημιτάκη.\nΘα παραβρεθεί στο σχολιασμό η μία από τις δύο υπεύθυνες\, η Ευφροσύνη Τζιαφάλια \n5. “Τα κορδόνια του”\nΗ ταινία του Γυμνασίου Αλικιανού Χανίων. Μια Ταινία που δημιουργήθηκε στο πλαίσιο των εκπαιδευτικών προγραμμάτων του 6ου Φεστιβάλ Κινηματογράφου Χανίων – «cine-mathimata» – το σχολικό έτος 2017/2018. Πρόκειται για την τρίτη κατά σειρά ταινία του σχολείου. Ο πρωταγωνιστής δίνει μεγάλο αγώνα για να μάθει να δένει τα κορδόνια του. Κάθε τι εύκολο για άλλους είναι για τον ίδιο και τη μητέρα του ένα δύσκολο ταξίδι. Ίσως φτάνουν στον προορισμό τους αργότερα\, έχουν όμως συνοδοιπόρους την αποδοχή\, την κατανόηση και την αγάπη. \nΠρωταγωνιστής\, ο Μιχάλης\, ένα παιδί με ήπιες διαταραχές στο φάσμα του αυτισμού\, ο οποίος με συνοδοιπόρο τη μητέρα του και τον παππού του μαθαίνει να κάνει τα δύσκολα απλά\, όπως να δένει τα κορδόνια του. Βασικό στοιχείο της σχέσης τους η αγάπη.Οι τρεις ευχές του; «Να ζούσε ο πατέρας μου\, να μην είχα τα προβλήματα που έχω στο σχολείο και να είχα περισσότερους φίλους» \nΟι δύο ταινίες ΟΤΑΝ Ο ΗΧΟΣ ΣΩΠΑΙΝΕΙ και ΤΑ ΚΟΡΔΟΝΙΑ ΤΟΥ δημιουργήθηκαν στο πλαίσιο των εκπαιδευτικών προγραμμάτων του Φεστιβάλ Κινηματογράφου Χανίων.\nΕυχαριστούμε θερμά για την παραχώρηση προβολής των 2 ταινιών το Φεστιβάλ Κινηματογράφου Χανίων και τον Ματθαίο Φραντζεσκάκη\, καλλιτεχνικό διευθυντή.\nΣτο τέλος των προβολών θα ακολουθήσει συζήτηση σε πάνελ από τους προσκεκλημένους των ταινιών\, την οποία θα συντονίσει από μέρους του A Festival η Ειρήνη Κλάδου – Εκπαιδευτικός Ειδικής Αγωγής\, πρόεδρος συλλόγου ατόμων με αυτισμό και ο Καλλιτεχνικός Διευθυντής του Φεστιβάλ Σκηνοθέτης Γιάννης Μπλέτας. \nΗ είσοδος είναι ελεύθερη για το κοινό.
URL:https://rethemnos.gr/event/a-festival-provoles-tainion-mikroy-mikoys-me-titlo-apochroseis-anapirias/
LOCATION:Λόφος Φορτέτζα\, Fortezza Ρέθυμνο\, Ρέθυμνο\, Ρεθύμνου\, 74100\, Greece
CATEGORIES:προβολή
ATTACH;FMTTYPE=image/jpeg:https://rethemnos.gr/wp-content/uploads/2025/06/a-festival.jpg
END:VEVENT
END:VCALENDAR