BEGIN:VCALENDAR
VERSION:2.0
PRODID:-//Rethemnos Live - ECPv6.15.20//NONSGML v1.0//EN
CALSCALE:GREGORIAN
METHOD:PUBLISH
X-ORIGINAL-URL:https://rethemnos.gr
X-WR-CALDESC:Events for Rethemnos Live
REFRESH-INTERVAL;VALUE=DURATION:PT1H
X-Robots-Tag:noindex
X-PUBLISHED-TTL:PT1H
BEGIN:VTIMEZONE
TZID:Europe/Athens
BEGIN:DAYLIGHT
TZOFFSETFROM:+0200
TZOFFSETTO:+0300
TZNAME:EEST
DTSTART:20240331T010000
END:DAYLIGHT
BEGIN:STANDARD
TZOFFSETFROM:+0300
TZOFFSETTO:+0200
TZNAME:EET
DTSTART:20241027T010000
END:STANDARD
BEGIN:DAYLIGHT
TZOFFSETFROM:+0200
TZOFFSETTO:+0300
TZNAME:EEST
DTSTART:20250330T010000
END:DAYLIGHT
BEGIN:STANDARD
TZOFFSETFROM:+0300
TZOFFSETTO:+0200
TZNAME:EET
DTSTART:20251026T010000
END:STANDARD
BEGIN:DAYLIGHT
TZOFFSETFROM:+0200
TZOFFSETTO:+0300
TZNAME:EEST
DTSTART:20260329T010000
END:DAYLIGHT
BEGIN:STANDARD
TZOFFSETFROM:+0300
TZOFFSETTO:+0200
TZNAME:EET
DTSTART:20261025T010000
END:STANDARD
END:VTIMEZONE
BEGIN:VEVENT
DTSTART;TZID=Europe/Athens:20250813T210000
DTEND;TZID=Europe/Athens:20250813T210000
DTSTAMP:20260423T124431
CREATED:20250703T085252Z
LAST-MODIFIED:20250807T050744Z
UID:396120-1755118800-1755118800@rethemnos.gr
SUMMARY:Ο Αναστάσης Μπούχλης και ο Αντώνης Κουράκης στον Άγιο Ανδρέα Ρεθύμνου
DESCRIPTION:Ο Αναστάσης Μπούχλης και ο Αντώνης Κουράκης με το συγκρότημα τους\, στο πανηγύρι που διοργανώνει ο Πολιτιστικός Σύλλογος στον Άγιο Ανδρέα του Δήμου Ρεθύμνου. \nΤετάρτη 13 Αυγούστου – Έναρξη 21.00. \nΕίσοδος 20€ με πλήρες μενού. Κάτω των 10 ετών δωρεάν.
URL:https://rethemnos.gr/event/o-anastasis-mpoychlis-kai-o-antonis-koyrakis-ston-agio-andrea-rethymnoy/
LOCATION:Άγιος Ανδρέας Ρεθύμνου\, Άγιος Ανδρέας Ρεθύμνου\, Άγιος Ανδρέας Ρεθύμνου\, Ρεθύμνου\, 74100\, Ελλάδα
CATEGORIES:κρητική μουσική
END:VEVENT
END:VCALENDAR