BEGIN:VCALENDAR
VERSION:2.0
PRODID:-//Rethemnos Live - ECPv6.15.20//NONSGML v1.0//EN
CALSCALE:GREGORIAN
METHOD:PUBLISH
X-WR-CALNAME:Rethemnos Live
X-ORIGINAL-URL:https://rethemnos.gr
X-WR-CALDESC:Events for Rethemnos Live
REFRESH-INTERVAL;VALUE=DURATION:PT1H
X-Robots-Tag:noindex
X-PUBLISHED-TTL:PT1H
BEGIN:VTIMEZONE
TZID:Europe/Athens
BEGIN:DAYLIGHT
TZOFFSETFROM:+0200
TZOFFSETTO:+0300
TZNAME:EEST
DTSTART:20250330T010000
END:DAYLIGHT
BEGIN:STANDARD
TZOFFSETFROM:+0300
TZOFFSETTO:+0200
TZNAME:EET
DTSTART:20251026T010000
END:STANDARD
BEGIN:DAYLIGHT
TZOFFSETFROM:+0200
TZOFFSETTO:+0300
TZNAME:EEST
DTSTART:20260329T010000
END:DAYLIGHT
BEGIN:STANDARD
TZOFFSETFROM:+0300
TZOFFSETTO:+0200
TZNAME:EET
DTSTART:20261025T010000
END:STANDARD
BEGIN:DAYLIGHT
TZOFFSETFROM:+0200
TZOFFSETTO:+0300
TZNAME:EEST
DTSTART:20270328T010000
END:DAYLIGHT
BEGIN:STANDARD
TZOFFSETFROM:+0300
TZOFFSETTO:+0200
TZNAME:EET
DTSTART:20271031T010000
END:STANDARD
END:VTIMEZONE
BEGIN:VEVENT
DTSTART;TZID=Europe/Athens:20260419T210000
DTEND;TZID=Europe/Athens:20260419T210000
DTSTAMP:20260424T191830
CREATED:20260416T155114Z
LAST-MODIFIED:20260416T155409Z
UID:451851-1776632400-1776632400@rethemnos.gr
SUMMARY:Παράσταση stand up comedy από τους SUCC στο Ρέθυμνο
DESCRIPTION:Κυριακή 19 Απριλίου. Κυριακή του Θωμά. Είναι η Κυριακή που ο Χριστός αναγκάστηκε μετά από τόση ταλαιπωρία\, να γυρίσει στη γη\, για να εμφανιστεί μπροστά στον Θωμά και να του πει: «Τι δεν καταλαβαίνεις ρε άπιστε; Αναστήθηκα. Κορόιδα είναι οι άλλοι 11….10 βασικά\, που δεν ρωτήσανε τίποτα; Μέχρι και ο Πέτρος \,που ήταν και πιο άπιστος από σένα\, έκανε τον δύσκολο μέχρι να κάνει κικιρίκου το κοκόρι… Μην με σκας!» \nΟνομάζεται και Κυριακή του Αντίπασχα\, οι ιερείς τελούν τρισάγιο στην εκκλησία του κοιμητηρίου των Σουρμένων υπέρ αναπαύσεως των ψυχών των απανταχού κεκοιμημένων Ποντίων\, και στην Κρήτη στο Ρέθυμνο παραδοσιακά γίνεται μια παράσταση stand up comedy. Θα ήταν ακόμα πιο παραδοσιακό\, αν γινόταν με κρητικούς χορούς\, όργανα ή εστω είχε γίνει τουλάχιστον άλλη μια φορά… \nΤην Κυριακή του Θωμά\, τιμούμε όλους τους άπιστους\, με μια παράσταση stand up comedy στο Ρέθυμνο στο Antika Irish Pub (Αραμπαζόγλου 42\, Παλιά πόλη\, Ρέθυμνο). Την Αθηναϊκή άπιστη σκηνή αντιπροσωπεύει ο Αλέξανδρος Πασπαρδάνης\, που όπως στην αφίσα πάντα κοιτάζει έτσι με ύφος τον ουρανό\, ψιθυρίζοντας «αλήθεια τώρα; Νερό σε κρασί; Και γιατί όχι κόκα κόλα; όλο παπάτζες…» \nΤην Κρητική άπιστη σκηνή αντιπροσωπεύουν ο άπιστος Στέλιος Ανδρεαδάκης\, ο δύσπιστος Μάνος Παπαδάκης και ο ευκολόπιστος Μιχάλης Λαζανάκης. \nΚυριακή 19 Απριλίου\nAntika Irish Pub\nΑραμπαζόγλου 42 \, Ρέθυμνο\nΏρα έναρξης 21:00 \nΕίσοδος 5€\nTηλ κρατήσεων 6982266412 – 6987066410
URL:https://rethemnos.gr/event/parastasi-stand-up-comedy-apo-toys-succ-sto-rethymno/
LOCATION:Antika Irish Bar\, Αραμπατζόγλου\, Rethymno\, Ρεθύμνου\, 741 31\, Greece
CATEGORIES:stand up comedy
ATTACH;FMTTYPE=image/webp:https://rethemnos.gr/wp-content/uploads/2026/04/05932.webp
END:VEVENT
END:VCALENDAR