BEGIN:VCALENDAR
VERSION:2.0
PRODID:-//Rethemnos Live - ECPv6.15.20//NONSGML v1.0//EN
CALSCALE:GREGORIAN
METHOD:PUBLISH
X-ORIGINAL-URL:https://rethemnos.gr
X-WR-CALDESC:Events for Rethemnos Live
REFRESH-INTERVAL;VALUE=DURATION:PT1H
X-Robots-Tag:noindex
X-PUBLISHED-TTL:PT1H
BEGIN:VTIMEZONE
TZID:Europe/Athens
BEGIN:DAYLIGHT
TZOFFSETFROM:+0200
TZOFFSETTO:+0300
TZNAME:EEST
DTSTART:20240331T010000
END:DAYLIGHT
BEGIN:STANDARD
TZOFFSETFROM:+0300
TZOFFSETTO:+0200
TZNAME:EET
DTSTART:20241027T010000
END:STANDARD
BEGIN:DAYLIGHT
TZOFFSETFROM:+0200
TZOFFSETTO:+0300
TZNAME:EEST
DTSTART:20250330T010000
END:DAYLIGHT
BEGIN:STANDARD
TZOFFSETFROM:+0300
TZOFFSETTO:+0200
TZNAME:EET
DTSTART:20251026T010000
END:STANDARD
BEGIN:DAYLIGHT
TZOFFSETFROM:+0200
TZOFFSETTO:+0300
TZNAME:EEST
DTSTART:20260329T010000
END:DAYLIGHT
BEGIN:STANDARD
TZOFFSETFROM:+0300
TZOFFSETTO:+0200
TZNAME:EET
DTSTART:20261025T010000
END:STANDARD
END:VTIMEZONE
BEGIN:VEVENT
DTSTART;TZID=Europe/Athens:20250718T220000
DTEND;TZID=Europe/Athens:20250718T220000
DTSTAMP:20260423T123304
CREATED:20250615T090426Z
LAST-MODIFIED:20250707T161109Z
UID:394295-1752876000-1752876000@rethemnos.gr
SUMMARY:Εκδήλωση του Ν. Ο.ΠΕ. Ρεθύμνου με τον Αναστάση Μπούχλη και τον Αντώνη Κουρακη
DESCRIPTION:Ο Νέος Ο.ΠΕ. Ρεθύμνου σας προσκαλεί στη μεγάλη μουσικοχορευτική βραδιά που διοργανώνει την Παρασκευή 18 Ιουλίου\, στον προαύλιο χώρο του γηπέδου Γάλλου! \nΜαζί μας οι μοναδικοί Αναστάσης Μπούχλης και Αντώνης Κουράκης\, σε μια βραδιά γεμάτη μουσική\, χορό\, παρέα και αυθεντική κρητική διασκέδαση! \nΏρα έναρξης: 22:00\nΤηλέφωνο κρατήσεων: 6972 341915
URL:https://rethemnos.gr/event/ekdilosi-toy-n-o-pe-rethymnoy-me-ton-anastasi-mpoychli-kai-ton-antoni-koyraki/
LOCATION:Γήπεδο Γάλλου\, Gallos\, Ρέθυμνο\, 741 50\, Greece
CATEGORIES:κρητική μουσική
ATTACH;FMTTYPE=image/jpeg:https://rethemnos.gr/wp-content/uploads/2025/05/IMG_8985.jpeg
END:VEVENT
END:VCALENDAR