BEGIN:VCALENDAR
VERSION:2.0
PRODID:-//Rethemnos Live - ECPv6.15.20//NONSGML v1.0//EN
CALSCALE:GREGORIAN
METHOD:PUBLISH
X-WR-CALNAME:Rethemnos Live
X-ORIGINAL-URL:https://rethemnos.gr
X-WR-CALDESC:Events for Rethemnos Live
REFRESH-INTERVAL;VALUE=DURATION:PT1H
X-Robots-Tag:noindex
X-PUBLISHED-TTL:PT1H
BEGIN:VTIMEZONE
TZID:Europe/Athens
BEGIN:DAYLIGHT
TZOFFSETFROM:+0200
TZOFFSETTO:+0300
TZNAME:EEST
DTSTART:20250330T010000
END:DAYLIGHT
BEGIN:STANDARD
TZOFFSETFROM:+0300
TZOFFSETTO:+0200
TZNAME:EET
DTSTART:20251026T010000
END:STANDARD
BEGIN:DAYLIGHT
TZOFFSETFROM:+0200
TZOFFSETTO:+0300
TZNAME:EEST
DTSTART:20260329T010000
END:DAYLIGHT
BEGIN:STANDARD
TZOFFSETFROM:+0300
TZOFFSETTO:+0200
TZNAME:EET
DTSTART:20261025T010000
END:STANDARD
BEGIN:DAYLIGHT
TZOFFSETFROM:+0200
TZOFFSETTO:+0300
TZNAME:EEST
DTSTART:20270328T010000
END:DAYLIGHT
BEGIN:STANDARD
TZOFFSETFROM:+0300
TZOFFSETTO:+0200
TZNAME:EET
DTSTART:20271031T010000
END:STANDARD
END:VTIMEZONE
BEGIN:VEVENT
DTSTART;TZID=Europe/Athens:20260706T180000
DTEND;TZID=Europe/Athens:20260706T235500
DTSTAMP:20260422T184940
CREATED:20260401T080538Z
LAST-MODIFIED:20260417T063611Z
UID:426167-1783360800-1783382100@rethemnos.gr
SUMMARY:White Party στο Cavo στο Ρέθυμνο
DESCRIPTION:Οι δημιουργοί του Chania Beach Party επιστρέφουν δυναμικά και παρουσιάζουν για 4η συνεχόμενη χρονιά το απόλυτο καλοκαιρινό event! \nΤο White Party είναι ένα πάρτι χωρίς όρια και περιορισμούς… με μία και μοναδική προϋπόθεση: να ντυθείς στα λευκά και να ζήσεις την εμπειρία. \nΜετά την τεράστια επιτυχία της περσινής διοργάνωσης\, το White Party επιστρέφει στο Cavo Rethymno\, φέρνοντας ξανά το μοναδικό του vibe στην Κρήτη. Εμπνευσμένο από το θρυλικό Sensation White Party\, που ξεκίνησε στην Ολλανδία το 2000 και πραγματοποιείται σε μεγάλες πόλεις παγκοσμίως\, το event υπόσχεται μια αξέχαστη εμπειρία. \nΑυτό που κάνει το συγκεκριμένο event τόσο ξεχωριστό είναι το αυστηρό dress code. Η είσοδος επιτρέπεται αποκλειστικά σε όσους ακολουθούν τον κανόνα του λευκού ντυσίματος. Είναι ο ένας και μοναδικός όρος που θέτουν οι διοργανωτές — και αυτός που δημιουργεί τη μοναδική ατμόσφαιρα της βραδιάς. \nΔευτέρα 6 Ιουλίου – Έναρξη 18:00.\nDresscode: Αυστηρά λευκά\nSpecial effect – Face painting – Dance acts \nΠροπώληση: 10€ από το whiteparty.gr\nΣτην είσοδο: 15€ \nΚρατήσεις: 697 911 5513 (whatsapp / viber) \n 
URL:https://rethemnos.gr/event/white-party-sto-cavo-sto-rethymno/
LOCATION:Cavo Rethymno\, Ακρωτηρίου 13\, Ρέθυμνο\, Ρεθύμνου\, 74100\, Ελλάδα
CATEGORIES:πάρτι
ATTACH;FMTTYPE=image/jpeg:https://rethemnos.gr/wp-content/uploads/2025/07/wp26.jpg
END:VEVENT
END:VCALENDAR