BEGIN:VCALENDAR
VERSION:2.0
PRODID:-//Rethemnos Live - ECPv6.15.20//NONSGML v1.0//EN
CALSCALE:GREGORIAN
METHOD:PUBLISH
X-WR-CALNAME:Rethemnos Live
X-ORIGINAL-URL:https://rethemnos.gr
X-WR-CALDESC:Events for Rethemnos Live
REFRESH-INTERVAL;VALUE=DURATION:PT1H
X-Robots-Tag:noindex
X-PUBLISHED-TTL:PT1H
BEGIN:VTIMEZONE
TZID:Europe/Athens
BEGIN:DAYLIGHT
TZOFFSETFROM:+0200
TZOFFSETTO:+0300
TZNAME:EEST
DTSTART:20250330T010000
END:DAYLIGHT
BEGIN:STANDARD
TZOFFSETFROM:+0300
TZOFFSETTO:+0200
TZNAME:EET
DTSTART:20251026T010000
END:STANDARD
BEGIN:DAYLIGHT
TZOFFSETFROM:+0200
TZOFFSETTO:+0300
TZNAME:EEST
DTSTART:20260329T010000
END:DAYLIGHT
BEGIN:STANDARD
TZOFFSETFROM:+0300
TZOFFSETTO:+0200
TZNAME:EET
DTSTART:20261025T010000
END:STANDARD
BEGIN:DAYLIGHT
TZOFFSETFROM:+0200
TZOFFSETTO:+0300
TZNAME:EEST
DTSTART:20270328T010000
END:DAYLIGHT
BEGIN:STANDARD
TZOFFSETFROM:+0300
TZOFFSETTO:+0200
TZNAME:EET
DTSTART:20271031T010000
END:STANDARD
END:VTIMEZONE
BEGIN:VEVENT
DTSTART;TZID=Europe/Athens:20260429T190000
DTEND;TZID=Europe/Athens:20260429T190000
DTSTAMP:20260423T125218
CREATED:20260422T125819Z
LAST-MODIFIED:20260422T125819Z
UID:452310-1777489200-1777489200@rethemnos.gr
SUMMARY:Συναυλία Εκκλησιαστικής Μουσικής στη μνήμη του Παύλου Βλαστού
DESCRIPTION:Την Τετάρτη 29 Απριλίου 2026\, ξεκινούν οι εκδηλώσεις που διοργανώνει η Χορωδία και Ορχήστρα «Παύλος Βλαστός» με την ευκαιρία της συμπλήρωσης 100 χρόνων από τον θάνατο του Πατέρα της Κρητικής Λαογραφίας\, Παύλου Βλαστού (1926–2026). \nΥπενθυμίζεται\, ότι στο πλαίσιο της επετείου η Χορωδία και Ορχήστρα «Παύλος Βλαστός» οργανώνει ένα μεγάλο πρόγραμμα εκδηλώσεων καθ’ όλη τη διάρκεια του έτους σε συνεργασία με την Ιερά Μητρόπολη Ρεθύμνης και Αυλοποτάμου\, την Ιερά Μητρόπολη Λάμπης Συβρίτου και Σφακίων\, την Περιφερειακή Ενότητα Ρεθύμνου – Περιφέρειας Κρήτης\, τον Δήμο Ρεθύμνης\, τον Δήμο Αμαρίου και την Ιστορική – Λαογραφική Εταιρεία Ρεθύμνης. \nΗ πρώτη εκδήλωση θα πραγματοποιηθεί την Τετάρτη 29 Απριλίου 2026 στον Ιερό Ναό Αγίων Τεσσάρων Μαρτύρων και ώρα 19:00 όπου θα τελεστεί Αρχιερατικό Ιερό Μνημόσυνο για τον Παύλο Βλαστό και θα ακολουθήσει συναυλία Εκκλησιαστικής Μουσικής. \nΣτην συναυλία θα συμμετάσχουν ο Βυζαντινός Χορός Χανίων με Χοράρχη τον κ. Ιωάννη Καστρινάκη και η Χορωδία και Ορχήστρα «Παύλος Βλαστός» με Χοράρχη τον κ. Αντώνιο Μιχελουδάκη. \nΗ είσοδος είναι ελεύθερη για το κοινό. \n 
URL:https://rethemnos.gr/event/synaylia-ekklisiastikis-moysikis-sti-mnimi-toy-payloy-vlastoy/
LOCATION:Αίθουσα Ι.Ν. Τεσσάρων Μαρτύρων\, Πλατεία Τεσσάρων Μαρτύρων\, Ρέθυμνο\, Ρεθύμνου\, 74100\, Ελλάδα
CATEGORIES:συναυλία
ATTACH;FMTTYPE=image/jpeg:https://rethemnos.gr/wp-content/uploads/2026/04/1-1.jpg
END:VEVENT
END:VCALENDAR