BEGIN:VCALENDAR
VERSION:2.0
PRODID:-//Rethemnos Live - ECPv6.15.20//NONSGML v1.0//EN
CALSCALE:GREGORIAN
METHOD:PUBLISH
X-ORIGINAL-URL:https://rethemnos.gr
X-WR-CALDESC:Events for Rethemnos Live
REFRESH-INTERVAL;VALUE=DURATION:PT1H
X-Robots-Tag:noindex
X-PUBLISHED-TTL:PT1H
BEGIN:VTIMEZONE
TZID:Europe/Athens
BEGIN:DAYLIGHT
TZOFFSETFROM:+0200
TZOFFSETTO:+0300
TZNAME:EEST
DTSTART:20250330T010000
END:DAYLIGHT
BEGIN:STANDARD
TZOFFSETFROM:+0300
TZOFFSETTO:+0200
TZNAME:EET
DTSTART:20251026T010000
END:STANDARD
BEGIN:DAYLIGHT
TZOFFSETFROM:+0200
TZOFFSETTO:+0300
TZNAME:EEST
DTSTART:20260329T010000
END:DAYLIGHT
BEGIN:STANDARD
TZOFFSETFROM:+0300
TZOFFSETTO:+0200
TZNAME:EET
DTSTART:20261025T010000
END:STANDARD
BEGIN:DAYLIGHT
TZOFFSETFROM:+0200
TZOFFSETTO:+0300
TZNAME:EEST
DTSTART:20270328T010000
END:DAYLIGHT
BEGIN:STANDARD
TZOFFSETFROM:+0300
TZOFFSETTO:+0200
TZNAME:EET
DTSTART:20271031T010000
END:STANDARD
END:VTIMEZONE
BEGIN:VEVENT
DTSTART;TZID=Europe/Athens:20260425T183000
DTEND;TZID=Europe/Athens:20260425T183000
DTSTAMP:20260424T025940
CREATED:20260421T201946Z
LAST-MODIFIED:20260421T201946Z
UID:452221-1777141800-1777141800@rethemnos.gr
SUMMARY:Εκδήλωση με θέμα: «Οι Αρχιτέκτονες του Ρεθύμνου παρουσιάζουν»
DESCRIPTION:Ο Σύλλογος Αρχιτεκτόνων Ρεθύμνου\, συνεχίζοντας τις δράσεις ανοίγματος προς την κοινωνία\, διοργανώνει εκδήλωση με θέμα: «Οι Αρχιτέκτονες του Ρεθύμνου παρουσιάζουν». \nΗ εκδήλωση αυτή\, ανοιχτή στο κοινό\, θα πραγματοποιηθεί το Σάββατο 25 Απριλίου 2026 στις 18:30 το απόγευμα\, στο Μουσείο Σύγχρονης Τέχνης Κρήτης\, στην οδό Μεσολογγίου 32\, στην παλιά πόλη του Ρεθύμνου. \nΚατά τη διάρκειά της θα γίνει σύντομη ηλεκτρονική παρουσίαση υλοποιημένων ή υπό υλοποίηση αρχιτεκτονικών έργων από τους δημιουργούς τους. Θα ακολουθήσει στρογγυλό τραπέζι με ανοικτή συζήτηση. \nΣκοπός της εκδήλωσης είναι να αναδειχθούν τόσο οι αρχιτεκτονικές ποιότητες των έργων\, όσο και οι δυσκολίες που χρειάστηκε να ξεπεραστούν μέχρι την υλοποίηση τους. Ελπίζουμε ότι η συζήτηση πάνω σε αυτές τις δυσκολίες και η κοινοποίηση τους θα τις αμβλύνει\, κάνοντας έτσι πιο διάχυτη την ποιοτική Αρχιτεκτονική στον τόπο μας. \nΗ είσοδος είναι ελεύθερη για το κοινό.
URL:https://rethemnos.gr/event/ekdilosi-me-thema-oi-architektones-toy-rethymnoy-paroysiazoyn/
LOCATION:Μουσείο Σύγχρονης Τέχνης Κρήτης\, Μεσολογγίου 32\, Ρέθυμνο\, Ρεθύμνου\, Ελλάδα
CATEGORIES:ενημερωτική εκδήλωση
ATTACH;FMTTYPE=image/jpeg:https://rethemnos.gr/wp-content/uploads/2026/04/IMG_7101.jpeg
END:VEVENT
END:VCALENDAR