BEGIN:VCALENDAR
VERSION:2.0
PRODID:-//Rethemnos Live - ECPv6.15.20//NONSGML v1.0//EN
CALSCALE:GREGORIAN
METHOD:PUBLISH
X-WR-CALNAME:Rethemnos Live
X-ORIGINAL-URL:https://rethemnos.gr
X-WR-CALDESC:Events for Rethemnos Live
REFRESH-INTERVAL;VALUE=DURATION:PT1H
X-Robots-Tag:noindex
X-PUBLISHED-TTL:PT1H
BEGIN:VTIMEZONE
TZID:Europe/Athens
BEGIN:DAYLIGHT
TZOFFSETFROM:+0200
TZOFFSETTO:+0300
TZNAME:EEST
DTSTART:20240331T010000
END:DAYLIGHT
BEGIN:STANDARD
TZOFFSETFROM:+0300
TZOFFSETTO:+0200
TZNAME:EET
DTSTART:20241027T010000
END:STANDARD
BEGIN:DAYLIGHT
TZOFFSETFROM:+0200
TZOFFSETTO:+0300
TZNAME:EEST
DTSTART:20250330T010000
END:DAYLIGHT
BEGIN:STANDARD
TZOFFSETFROM:+0300
TZOFFSETTO:+0200
TZNAME:EET
DTSTART:20251026T010000
END:STANDARD
BEGIN:DAYLIGHT
TZOFFSETFROM:+0200
TZOFFSETTO:+0300
TZNAME:EEST
DTSTART:20260329T010000
END:DAYLIGHT
BEGIN:STANDARD
TZOFFSETFROM:+0300
TZOFFSETTO:+0200
TZNAME:EET
DTSTART:20261025T010000
END:STANDARD
END:VTIMEZONE
BEGIN:VEVENT
DTSTART;TZID=Europe/Athens:20251101T170000
DTEND;TZID=Europe/Athens:20251101T210000
DTSTAMP:20260425T001126
CREATED:20251016T054712Z
LAST-MODIFIED:20251029T102616Z
UID:436127-1762016400-1762030800@rethemnos.gr
SUMMARY:Διήμερο διεπιστημονικό συμπόσιο με θέμα τον «Κάνναβο»
DESCRIPTION:Το Διήμερο Διεπιστημονικό Συμπόσιο καλείται να διερευνήσει τις ιδεολογικές\, πραγματικές\, γεωγραφικές\, γεωμετρικές και κατασκευαστικές προεκτάσεις της μνημοσύνης ενός Καννάβου. \nΑκαδημαϊκοί από τον χώρο των Πολυτεχνικών/Πανεπιστημιακών Σχολών\, των ανθρωπιστικών επιστημών\, δάσκαλοι της εκπαίδευσης και της Τέχνης πραγματεύονται και αναρωτιούνται μαζί μας\, επιζητώντας διάλογο. Καταθέτουν το σύνολο των σκέψεών τους\, των οποίων την ορθότητα θα διερευνήσουμε. \nΠερί τίνος λοιπόν πρόκειται; \nΟ Κάνναβος εμφανίζεται στη ζωή μας με θέαση ή χωρίς θέαση; Ορατά ή αόρατα\, με πλαστή αρμονία ή χωρίς αυτήν; Εξυπηρετεί ή όχι τη σωστή διαβίωσή μας; Αντιμετωπίζουμε τα κτίσματα ως αντικείμενα ύψιστου ενδιαφέροντος που διαθέτουν μνήμη; Η εκάστοτε εμπειρία μαζί τους αποτελεί το αποτέλεσμα της ψυχολογικής κατάστασης\, σε συνδυασμό με τα δεδομένα του περιβάλλοντος μια συγκεκριμένη χρονική στιγμή; Διαμορφώνουμε και ανταποκρινόμαστε ανάλογα με τα δεδομένα της εποχής; Χαράζουμε αυτοτέλειες ή εγκλεισμούς; Κατασκευάζουμε μηχανές με αυξανόμενη ταχύτητα; Ανατινάζουμε τον κύκλο του πολιτισμού και τον κύκλο της βαρβαρότητας εντός και εκτός χώρου και ορίων; Μπορεί ο προβολέας της Τέχνης και γενικότερα των ανθρωπιστικών επιστημών\, να φωτίσει το κοινωνικό τραύμα και να πάψει να φωτίζει παραπλανητικά τον εαυτό της; Ο χρόνος στον χώρο δημιουργεί ταυτότητες; Χρειαζόμαστε νέους τρόπους αφήγησης\, που δεν αποσιωπούν την καλλιέργεια της μνήμης; Έχουμε πίστη\, η οποία θεμελιώνει τη μνήμη κι αν ναι\, τη διατηρούμε; Τελικά είναι ο Κάνναβος η σωτηρία της ψυχής; \nΕρωτήματα\, που δεν επιδέχονται απαραίτητα οριστικές απαντήσεις\, επειδή – η Τέχνη τουλάχιστον – υπάρχει και μακροημερεύει χάρη στα αναπάντητα ερωτήματα. \nΌλοι οι συμμετέχοντες θα λάβουν βεβαίωση συμμετοχής. \nΕπιπλέον: \nΩς προπομπός και φινάλε στο Συμπόσιο\, στον ισόγειο χώρο του κτηρίου\, από 30 Οκτωβρίου έως 4 Νοεμβρίου\, θα προβάλλονται σε βίντεο τρεις ερευνητικές – διπλωματικές εργασίες φοιτητών Αρχιτεκτονικής του Πολυτεχνείου Κρήτης\, με κεντρική αναφορά τον Κάνναβο. Ώρες προβολών: 6.00 – 9.00 μ.μ. \nΠρόγραμμα συμποσίου και συμμετοχές: \n1η Ημέρα: Σάββατο 1 Νοεμβρίου\, ώρα 17:00 \nΣυντονισμός: Σκεύος Παπαϊωάννου\, Ομ. Καθηγητής Κοινωνιολογίας και πρ. Κοσμήτωρ της Σχολής Κοινωνικών Επιστημών\, (Πανεπιστήμιο Κρήτης) \n5.15-5.30μ.μ. Μάνος Τσάκωνας\, Αρχιτέκτων\, Αντιδήμαρχος Πολιτισμού Δήμου Ρεθύμνης\n“Δίλημμα” \n5.30-5.45μ.μ. Νίκος Σκουτέλης\, Καθηγητής Αρχιτεκτονικού Σχεδιασμού (Πολυτεχνείο Κρήτης)\n“Ο κάνναβος του Δαίδαλου“ \n5.45-6.00μ.μ. Μανόλης Τζανάκης\, Αν. Καθηγητής Κοινωνιολογίας της Ασθένειας και των Ιατρικών Θεσμών (Πανεπιστήμιο Κρήτης)\n“Το πολύσημο του ψυχιατρικού εγκλεισμού: μαρτυρίες και ερμηνείες των αδιεξόδων” \n6.00-6.15μ.μ. Αλέξης Τζομπανάκης\, Αν. Καθηγητής Αρχιτεκτονικού Σχεδιασμού (Πολυτεχνείο Κρήτης)\n“O κάνναβος μεταξύ σταθερότητας και μετασχηματισμού. Aπό την ‘κυριολεκτική’ στην ‘φαινομενική’ ουδετερότητα“ \n6.15-6.30μ.μ. Nτόρα Αλιγιζάκη\, Ψυχολόγος\, BSc\, MSc\, Υπ. Διδάκτωρ (Πανεπιστήμιο Κρήτης)\n“Μονάδες Φροντίδας Ηλικιωμένων. Χώρος και το αίσθημα της Ελευθερίας” \n6.30-7.00μ.μ. Συζήτηση \n7.00-7.15μ.μ. Διάλειμμα \nΣυντονισμός: Κωνσταντίνος Σπανουδάκης\, Καθηγητής Αρχαίας Ελληνικής Φιλολογίας (Πανεπιστήμιο Κρήτης) \n7.15-7.30μ.μ. Κλήμης Ασλανίδης\, Αν. Καθηγητής Αρχιτεκτονικού Σχεδιασμού και Αποκατάστασης Ιστορικών κτηρίων (Πολυτεχνείο Κρήτης)\n“Δάση υποστυλωμάτων“ \n7.30-7.45μ.μ. Σκεύος Παπαϊωάννου\,Ομ. Καθηγητής Κοινωνιολογίας και πρ. Κοσμήτορας της Σχολής Κοινωνικών Επιστημών (Πανεπιστήμιο Κρήτης)\n“Ο κάνναβος στην κοινωνιολογική θεωρία και εφαρμοσμένη κοινωνιολογία” \n7.45-8.00μ.μ. Ηλίας Κουρκούτας\, Καθηγητής Ψυχολογίας Παιδικών και Εφηβικών Διαταραχών (Πανεπιστήμιο Κρήτης)\n“Transitional spaces: Ενδιάμεσοι-Μεταβατικοί χώροι σε ατομικό και κοινωνικό επίπεδο και η ικανότητα συμβολοποίησης” \n8.00-8.15μ.μ. Μαριάννα Καλαϊτζιδάκη\, Αν. Καθηγήτρια Βιολογίας-Περιβαλλοντικής Εκπαίδευσης (Πανεπιστήμιο Κρήτης)\n“Περί Ορίων…Χωρίς όρια” \n8.15-8.30μ.μ. Αλιγιζάκη Μαριλένα\, Εικαστικός\, Διδάκτωρ ΑΣΚΤ Αθήνας\n“Λογότυπα ως κάνναβος ταυτότητας: συμβολικές και αισθητικές δομές αυτοοργανωμένων ομάδων και κοινοτήτων αντίστασης στον δημόσιο χώρο” \n8.30-9.00μ.μ. Συζήτηση
URL:https://rethemnos.gr/event/diimero-diepistimoniko-symposio-me-thema-ton-kannavo/
LOCATION:Σπίτι του Πολιτισμού\, Βερνάδου 10\, Ρέθυμνο\, Ρεθύμνου\, 74100\, Ελλάδα
CATEGORIES:συνέδριο
ATTACH;FMTTYPE=image/jpeg:https://rethemnos.gr/wp-content/uploads/2025/10/11-2.jpg
END:VEVENT
BEGIN:VEVENT
DTSTART;TZID=Europe/Athens:20251102T170000
DTEND;TZID=Europe/Athens:20251102T210000
DTSTAMP:20260425T001127
CREATED:20251016T054712Z
LAST-MODIFIED:20251029T102653Z
UID:436246-1762102800-1762117200@rethemnos.gr
SUMMARY:Διήμερο διεπιστημονικό συμπόσιο με θέμα τον «Κάνναβο»
DESCRIPTION:Το Διήμερο Διεπιστημονικό Συμπόσιο καλείται να διερευνήσει τις ιδεολογικές\, πραγματικές\, γεωγραφικές\, γεωμετρικές και κατασκευαστικές προεκτάσεις της μνημοσύνης ενός Καννάβου. \nΑκαδημαϊκοί από τον χώρο των Πολυτεχνικών/Πανεπιστημιακών Σχολών\, των ανθρωπιστικών επιστημών\, δάσκαλοι της εκπαίδευσης και της Τέχνης πραγματεύονται και αναρωτιούνται μαζί μας\, επιζητώντας διάλογο. Καταθέτουν το σύνολο των σκέψεών τους\, των οποίων την ορθότητα θα διερευνήσουμε. \nΠερί τίνος λοιπόν πρόκειται; \nΟ Κάνναβος εμφανίζεται στη ζωή μας με θέαση ή χωρίς θέαση; Ορατά ή αόρατα\, με πλαστή αρμονία ή χωρίς αυτήν; Εξυπηρετεί ή όχι τη σωστή διαβίωσή μας; Αντιμετωπίζουμε τα κτίσματα ως αντικείμενα ύψιστου ενδιαφέροντος που διαθέτουν μνήμη; Η εκάστοτε εμπειρία μαζί τους αποτελεί το αποτέλεσμα της ψυχολογικής κατάστασης\, σε συνδυασμό με τα δεδομένα του περιβάλλοντος μια συγκεκριμένη χρονική στιγμή; Διαμορφώνουμε και ανταποκρινόμαστε ανάλογα με τα δεδομένα της εποχής; Χαράζουμε αυτοτέλειες ή εγκλεισμούς; Κατασκευάζουμε μηχανές με αυξανόμενη ταχύτητα; Ανατινάζουμε τον κύκλο του πολιτισμού και τον κύκλο της βαρβαρότητας εντός και εκτός χώρου και ορίων; Μπορεί ο προβολέας της Τέχνης και γενικότερα των ανθρωπιστικών επιστημών\, να φωτίσει το κοινωνικό τραύμα και να πάψει να φωτίζει παραπλανητικά τον εαυτό της; Ο χρόνος στον χώρο δημιουργεί ταυτότητες; Χρειαζόμαστε νέους τρόπους αφήγησης\, που δεν αποσιωπούν την καλλιέργεια της μνήμης; Έχουμε πίστη\, η οποία θεμελιώνει τη μνήμη κι αν ναι\, τη διατηρούμε; Τελικά είναι ο Κάνναβος η σωτηρία της ψυχής; \nΕρωτήματα\, που δεν επιδέχονται απαραίτητα οριστικές απαντήσεις\, επειδή – η Τέχνη τουλάχιστον – υπάρχει και μακροημερεύει χάρη στα αναπάντητα ερωτήματα. \nΌλοι οι συμμετέχοντες θα λάβουν βεβαίωση συμμετοχής. \nΕπιπλέον: \nΩς προπομπός και φινάλε στο Συμπόσιο\, στον ισόγειο χώρο του κτηρίου\, από 30 Οκτωβρίου έως 4 Νοεμβρίου\, θα προβάλλονται σε βίντεο τρεις ερευνητικές – διπλωματικές εργασίες φοιτητών Αρχιτεκτονικής του Πολυτεχνείου Κρήτης\, με κεντρική αναφορά τον Κάνναβο. Ώρες προβολών: 6.00 – 9.00 μ.μ. \nΠρόγραμμα συμποσίου \n2η Ημέρα: Κυριακή 2 Νοεμβρίου\, ώρα 17:00 \nΣυντονισμός: Χατζημιχαηλίδης Κυριάκος\, Σκηνοθέτης\, Παραγωγός \n5.15 – 5.30μ.μ. Δήμητρα Βλασσάκη: Αρχιτέκτων\n“Από τις Ιπποδάμειες μέχρι τις Σύγχρονες πόλεις: ερμηνεία του ορθογωνικού καννάβου στην Ευρώπη” \n5.30-5.45μ.μ. Σουζάνα Χούλια-Καπελώνη\, Επίτιμη Διευθύντρια Αρχαιοτήτων\n“Στα ερείπια της Ολύνθου…” \n5.45-6.00μ.μ. Αναστασία Βλατίτση: Αρχιτέκτων\n“Κάνναβος και νέες σχεδιασμένες πόλεις: ο ρόλος του ορθοκανονικού συστήματος στην οργάνωση του χώρου” \n6.00-6.15μ.μ. Πετρούλα Βαρθαλίτου & Νίκος Μαραγκουδάκης\, Αρχαιολόγοι\n“Κάνναβος: Ορθολογισμός του χώρου και του χρόνου” \n6.15-6.30μ.μ. Σοφία Θανάσουλα & Εύα Δερμάτη\, Υποψ. Διδακτ. Εγκληματολογικής Ψυχολογίας (Πανεπιστήμιο Κρήτης)\n“Εκτός καννάβου: Αφηγήσεις από το πεδίο του Ποινικού Εγκλεισμού και της Τοξικοεξάρτησης” \n6.30-6.45μ.μ. Καίτη Ρεμπατσουλέα & Κυριακή Φλουρή\, Νηπιαγωγοί\n“Τα παρεξηγημένα όρια” \n6.45-7.00μ.μ. Συζήτηση \n7.00-7.30μ.μ. Διάλειμμα \nΣυντονισμός: Κωστής Καπελώνης\, Σκηνοθέτης\, Ηθοποιός \n7.30-7.45μ.μ. Χατζημιχαηλίδης Κυριάκος\, Σκηνοθέτης\, Παραγωγός\n“Ο Κάνναβος ως ένα ζωτικό πλαίσιο ύπαρξης” \n7.45-8.00μ.μ. Άννα Μαχαιριανάκη\, Σκηνογράφος-Ενδυματολόγος\n“Αποδομώντας τον κάνναβο της κλειστής θεατρικής σκηνής\, χαράσσουμε νέους δρόμους δημιουργίας\, νέες σχέσεις και νέα ιερότητα στην επιτέλεση της θεατρικής πράξης” \n8.00-8.15μ.μ. Γιώργης Καπελώνης\, Χημικός\, Φωτογράφος\n“Φανερός και κρυφός κάνναβος στη φωτογραφία” \n8.15-8.30μ.μ. Γιάννης Μπλέτας\, Ηθοποιός\, Σκηνοθέτης\, Κινηματογραφιστής & Ειρήνη Κλάδου Εκπαιδευτικός\, “Stelianna” (ντοκιμαντέρ μικρού μήκους για τον αυτισμό) \n8.30-8.45 μ.μ. Αλέξανδρος Πέρρος Ηθοποιός & Σοφία Τσοτουλίδου\, Χορεύτρια\nPerformance: ” Ύμνος Ορίων “ \n8.45-9.15 μ.μ. Συζήτηση
URL:https://rethemnos.gr/event/diimero-diepistimoniko-symposio-me-thema-ton-kannavo-2/
LOCATION:Σπίτι του Πολιτισμού\, Βερνάδου 10\, Ρέθυμνο\, Ρεθύμνου\, 74100\, Ελλάδα
CATEGORIES:συνέδριο
ATTACH;FMTTYPE=image/jpeg:https://rethemnos.gr/wp-content/uploads/2025/10/11-2.jpg
END:VEVENT
BEGIN:VEVENT
DTSTART;TZID=Europe/Athens:20251107T190000
DTEND;TZID=Europe/Athens:20251107T190000
DTSTAMP:20260425T001127
CREATED:20250111T112349Z
LAST-MODIFIED:20251107T061652Z
UID:409348-1762542000-1762542000@rethemnos.gr
SUMMARY:Ξενάγηση στην έκθεση με τίτλο «Σημειωματάρια της Φαιστού» του Μανώλη Ζαχαριουδάκη
DESCRIPTION:Το 8ο Φεστιβάλ Τέχνης Ν.Σ. σε συνδιοργάνωση με το Τμήμα Πολιτισμού του Δήμου Ρεθύμνης και την Art Gallery Μορφές παρουσιάζει την ατομική έκθεση με τίτλο «Σημειωματάρια της Φαιστού» του Μανώλη Ζαχαριουδάκη. \nΤην Παρασκευή 7 Νοεμβρίου\, στις 19.00 θα πραγματοποιηθεί ξενάγηση και συζήτηση με τον Μανώλη Ζαχαριουδάκη στο χώρο της έκθεσης\, στην Art Gallery Μορφές (Γοβατζιδάκη 18\, Παλιά πόλη\, Ρέθυμνο) \nO Μανώλης Ζαχαριουδάκης εκθέτει έργα της περιόδου 2020-2025\, που δημιουργήθηκαν στην περιοχή της Φαιστού σαν ένα ημερολόγιο\, εξ ου και ο τίτλος της έκθεσης «Σημειωματάρια της Φαιστού». \nΟ καλλιτέχνης επιθυμεί να τονίσει την ύλη και το απτό των έργων\, δίνοντάς τους όγκο και βάρος. Οι πρώτες ύλες είναι το τσιμέντο\, το ασβεστοκονίαμα\, αλλά και κλαδιά\, καλάμια και ξύλα που περισυλλέχθηκαν σε χωράφια και παραλίες της περιοχής. Οι τεχνικές είναι διαφορετικές: νωπογραφία\, ύφανση\, συναρμογή\, σκόνες χρωμάτων\, κόλλες κ.ά. Τα θέματα παρουσιάζουν επίσης ποικιλία: μνήμες\, μύθοι\, αστερισμοί\, εικόνες της καθημερινότητας\, αναφορές και σχόλια σε βιβλία και στην ιστορία της τέχνης.\nΗ ποικιλία των υλικών\, των τεχνικών\, των μεθόδων κατασκευής και των θεμάτων\, την οποία βλέπουμε στα «Σημειωματάρια της Φαιστού»\, χαρακτηρίζει όλο το έργο του Μ. Ζαχαριουδάκη: ζωγραφική\, κατασκευές\, συναρμογή αντικειμένων\, μικρά γλυπτά\, αλλά και ψηφιακά έργα κατασκευασμένα στον υπολογιστή.
URL:https://rethemnos.gr/event/xenagisi-stin-ekthesi-me-titlo-simeiomataria-tis-faistoy-toy-manoli-zacharioydaki/
LOCATION:Γκαλερί Μορφές\, Γοβατζιδάκη 18\, Ρέθυμνο\, Ρεθύμνου\, Ελλάδα
CATEGORIES:ξενάγηση
ATTACH;FMTTYPE=image/jpeg:https://rethemnos.gr/wp-content/uploads/2025/01/5768_1.jpg
END:VEVENT
BEGIN:VEVENT
DTSTART;TZID=Europe/Athens:20251112T190000
DTEND;TZID=Europe/Athens:20251112T190000
DTSTAMP:20260425T001127
CREATED:20251107T114752Z
LAST-MODIFIED:20251107T114752Z
UID:438341-1762974000-1762974000@rethemnos.gr
SUMMARY:Ξενάγηση στην έκθεση σύγχρονης τέχνης με θέμα: Κάνναβος (ως ίχνος\, χώρος\, κάδρο\, όριο\, ουτοπία…)
DESCRIPTION:Την Τετάρτη 12 Νοεμβρίου\, ώρα 7 μ.μ. κθα γίνει ξενάγηση στην Έκθεση Σύγχρονης Τέχνης με θέμα: Κάνναβος (ως ίχνος\, χώρος\, κάδρο\, όριο\, ουτοπία…). \nΤο 8ο Φεστιβάλ Τέχνης Ν.Σ. σε συνδιοργάνωση με το Τμήμα Πολιτισμού του Δήμου Ρεθύμνης σας προσκαλεί την Τετάρτη 12 Νοεμβρίου στις 7 μ.μ. σε μία ξενάγηση στην Έκθεση Σύγχρονης Τέχνης με θέμα: Κάνναβος (ως ίχνος\, χώρος\, κάδρο\, όριο\, ουτοπία…) που πραγματοποιείται στο Σπίτι του Πολιτισμού από 15 Οκτωβρίου έως 22 Νοεμβρίου 2025. \nΣτην Έκθεση\, 40 Έλληνες και Κύπριοι καλλιτέχνες\, πολλοί απ’ αυτούς καθηγητές Καλών Τεχνών\, συνδιαλέγονται με την έννοια και την ατμόσφαιρα μιας περιοχής καθορισμένης\, οριοθετημένης και προσδιορισμένης\, με προεκτάσεις εννοιολογικές ή μη\, που εκπέμπουν SOS. \nΣτην εποχή μας και σ’ έναν κόσμο με πολίτες έγκλειστους στα κελιά της εικονικής πραγματικότητας\, περιχαρακωμένους στην ασφυκτική τους ιδιώτευση\, αγωνιούμε για την ανθρώπινη κατάσταση\, όπως αυτή διαμορφώνεται στον 21 ο αιώνα\, όπου η φορεμένη απόσταση ασφαλείας του ενός πολίτη από τον άλλον είναι το μεγάλο τους άλλοθι. \nΜ’ έναν κάνναβο των ορίων και του ανταγωνιστικού χώρου\, με μια δομή που τον ετεροκαθορίζει να οριοθετεί χώρους εγκλεισμού ή υποτιθέμενης ελευθεριότητας. Με τον υπαρξιακό μας προσανατολισμό να λαλεί και να χορεύει. Να αναζητά και να αποφεύγει. Να συγκρούεται και να εθελοτυφλεί. Να αναγνωρίζει\, ενώ την ίδια στιγμή να λησμονά. Εν κατακλείδι\, να παρατηρεί το τραύμα που αιμορραγεί\, σ’ ένα κατά παραγγελία υποτιθέμενο εργαστήριο συνύπαρξης. \n\n			\n				\n			\n			\n				\n			\n			\n				\n			\n		\n\nΕπιμέλεια έκθεσης: Χρυσούλα Σκεπετζή\, Κωστής Καπελώνης \nΣυμμετέχουν: \nΝίκος Αλεξίου\, Μαριλένα Αλιγιζάκη\, Ειρήνη Βαζούκου\, Βαγγέλης Δασκαλάκης\, Ανδρέας Δεβετζής\, Χριστίνα Δουζένη\, Ευδοξία\, Μανώλης Ζαχαριουδάκης\, Αρίων Ζουγανέας\, Ελένη Ιωαννίδου\, Ιωάννα Καζάκη\, Βίκυ Καμμένου\, Δήμητρα Κανέλλη\, Γιώργης Καπελώνης\, Κωστής Καπελώνης\, Γιώργος Καλστίδης\, Κατερίνα Καρούλια\, Δέσποινα Κατζαγιαννάκη\, Μαρία Κομπατσιάρη\, Χάρης Κοντοσφύρης & Σοφία Αντωνακάκη\, Κώστας Κουνάλης\, Σαβέλλα Μιχαήλ\, Παναγιώτης Μιχαήλ & Μαρία Πετρίδη\, Ισμήνη Μπονάτσου\, Κωνσταντίνα Μπολιεράκη\, Δέσποινα Μυριοκεφαλιτάκη\, Κώστας Παγωμένος\, Άρτεμις Ποταμιάνου\, Ελευθερία Προφητηλιώτη\, Χρυσούλα Σκεπετζή\, Βασίλης Σολιδάκης\, Χουρίκ Τοροσιάν\, Ειρήνη Τόφα\, Βίκυ Τσαλαματά\, Ράνια Φραγκουλίδου\, Δήμητρα Χανιώτη\, Κυριάκος Χατζημιχαηλίδης & ο μεταλλοτεχνίτης Θεόδωρος Κεραμιανός. \nINFO: \nΞενάγηση: Τετάρτη 12 Νοεμβρίου\, στις 7 μ.μ.\nΧώρος: Σπίτι του Πολιτισμού (Ε. Βερνάρδου 12\, Ρέθυμνο)\nΔιάρκεια έκθεσης:15 Οκτωβρίου έως 22 Νοεμβρίου 2025\nΏρες λειτουργίας: καθημερινά 6 μ.μ. – 9 μ.μ. εκτός Δευτέρας\nΤηλέφωνο Επικοινωνίας για ξεναγήσεις σχολείων 6976955084
URL:https://rethemnos.gr/event/xenagisi-stin-ekthesi-sygchronis-technis-me-thema-kannavos-os-ichnos-choros-kadro-orio-oytopia/
LOCATION:Σπίτι του Πολιτισμού\, Βερνάδου 10\, Ρέθυμνο\, Ρεθύμνου\, 74100\, Ελλάδα
CATEGORIES:ξενάγηση
ATTACH;FMTTYPE=image/jpeg:https://rethemnos.gr/wp-content/uploads/2025/11/collage_4.jpg
END:VEVENT
BEGIN:VEVENT
DTSTART;TZID=Europe/Athens:20251114T190000
DTEND;TZID=Europe/Athens:20251114T210000
DTSTAMP:20260425T001127
CREATED:20251111T065151Z
LAST-MODIFIED:20251111T065151Z
UID:438540-1763146800-1763154000@rethemnos.gr
SUMMARY:Παρουσίαση της ποιητικής συλλογής του Ηλία Κουρκούτα «Ο σκύλος της αγάπης»
DESCRIPTION:Το 8ο Φεστιβάλ Τέχνης Ν.Σ. με την υποστήριξη του Δήμου Ρεθύμνης\, παρουσιάζει την ποιητική συλλογή του Ηλία Κουρκούτα «Ο σκύλος της αγάπης» από τις εκδόσεις ΤΟΠΟΣ\, την Παρασκευή 14 Νοεμβρίου\, στις 7.00 μ.μ. στο Σπίτι του Πολιτισμού \nΟμιλητές: \nΑντώνης Χουρδάκης\, Καθηγητής Ιστορίας\, ΠΤΔΕ\nΒασιλική Βασιλούδη\, Επικ. Καθηγήτρια Παιδικής Λογοτεχνίας\, ΠΤΔΕ\nΠάνος Ιωάννου\, Καθηγητής Ιστορίας της Τέχνης\, ΠΚ \nΤη βραδιά θα συνοδεύει\, με μελωδίες βιολοντσέλου\, ο μουσικός Μπερνάρντ. \nΑπαγγελίες:\nΜυρτώ Μαρκάκη\, ηθοποιός\nΆννα – Μαρία Γεωργούση\, εκπαιδευτικός \nΟ Ηλίας Κουρκούτας γεννήθηκε στη Λάρισα. Είναι Κλινικός Ψυχολόγος και Καθηγητής στο ΠΤΔΕ του Πανεπιστημίου Κρήτης. Ως προς το ποιητικό έργο\, έχει δημοσιεύσει σε σημαντικά ελληνικά λογοτεχνικά περιοδικά όπως τα Ποιείν\, Φρέαρ\, Bibliotheque\, Fractal\, Νέο Πλανόδιο\, Οδός Πανός\, Χάρτης\, Θράκα\, Εξιτήριο\, Μονόκλ και Book Culture. Έχει επίσης δημοσιεύσει σε αγγλικά (Versopolis Review)\, ιταλικά (Inverso) καθώς και σε ισπανικά & λατινοαμερικάνικα περιοδικά. Έχει επιμεληθεί μία συλλογή στα γαλλικά με ποιήματά του και ποιήματα Βέλγων και Γάλλων ποιητών και ένα ψυχαναλυτικό δοκίμιο για την προσωπικότητα του Paul Gauguin. \nΗ τελευταία του συλλογή ποιημάτων «Ο σκύλος της αγάπης» έλαβε εξαιρετικές κριτικές στον λογοτεχνικό κόσμο (Δ. Αγγελής\, Λ. Καλλέργη\, Ε. Κορνέτη\, Γ. Ρούσκας\, Γ. Σαράτσης) και επιλέχθηκε ανάμεσα στους τίτλους για το βραβείο κοινού («Διαγωνισμός Public»). Μια συλλογή παλαιών και νέων ποιημάτων μόλις κυκλοφόρησε στα ισπανικά\, με τίτλο “Ατίθασα άλογα στη μοναξιά της επιθυμίας” (‘Caballos indómitos en la soledad del deseo’)\, σε μετάφραση του μεγάλου ισπανού Ελληνιστή José Antonio Moreno Jurado (μεταφραστή του Ελύτη\, Σεφέρη\, Ερωτόκριτου\, Ποιητών Γενιάς του ’30 & Νέων Ποιητών)\, επίτιμου Δρ του Ιονίου Παν/μίου.
URL:https://rethemnos.gr/event/paroysiasi-tis-poiitikis-syllogis-toy-ilia-koyrkoyta-o-skylos-tis-agapis/
LOCATION:Σπίτι του Πολιτισμού\, Βερνάδου 10\, Ρέθυμνο\, Ρεθύμνου\, 74100\, Ελλάδα
CATEGORIES:παρουσίαση βιβλίου
ATTACH;FMTTYPE=image/jpeg:https://rethemnos.gr/wp-content/uploads/2025/11/unnamed-60.jpg
END:VEVENT
BEGIN:VEVENT
DTSTART;TZID=Europe/Athens:20251122T180000
DTEND;TZID=Europe/Athens:20251122T200000
DTSTAMP:20260425T001127
CREATED:20251118T114258Z
LAST-MODIFIED:20251118T114258Z
UID:439052-1763834400-1763841600@rethemnos.gr
SUMMARY:Βιωματικό εργαστήρι PLEXUS για ενήλικο κοινό στο 8ο Φεστιβάλ Τέχνης Ν.Σ.
DESCRIPTION:Εξερευνώντας τα όρια της τέχνης και της έκφρασης από τους [nomades artcore] \nΤο 8ο Φεστιβάλ Τέχνης Ν.Σ. σε συνδιοργάνωση με το Τμήμα Πολιτισμού του Δήμου Ρεθύμνης σας προσκαλεί στην τελευταία του εκδήλωση για το 2025. \nΤο Σάββατο 22 Νοεμβρίου η ομάδα [nomades artcore]\, μετά την ολοκλήρωση του καλλιτεχνικού εργαστηρίου PLEXUS και τη μεγάλη ανταπόκριση από εκπαιδευτικούς και μαθητές/τριες της Β΄βάθμιας Εκπαίδευσης Ρεθύμνου\, ανοίγει για μία μόνο ημέρα το εργαστήρι για ενήλικο κοινό. \nΈνα θεατρικό εικαστικό εργαστήρι\, μια βιωματική περιήγηση\, που θα συνομιλήσει με τα έργα της έκθεσης\, θα εμπνευστεί από την θεματική του και θα συνθέσει νέες αναπαραστάσεις μέσα από το βλέμμα των συμμετεχόντων. \nΜε αφορμή την έκθεση και με εργαλεία τις τεχνικές θεάτρου\, οι συμμετέχοντες/ουσες θα έρθουν σε επαφή με την τέχνη των εικαστικών και της αρχιτεκτονικής\, θα κατανοήσουν την έννοια του ορίου\, της διερεύνησης και διεύρυνσης αυτού και την ελευθερία της ατομικής και συλλογικής έκφρασης\, ώστε να συνθέσουν το δικό τους ζωντανό γλυπτό. \nΠώς ερμηνεύουμε έργα σύγχρονης τέχνης; Πώς συνομιλούν με το παρόν και με τις δικές μας εμπειρίες; \nΈνα θεατρικό εργαστήριο που θα μας δώσει την δυνατότητα να γνωρίσουμε την έννοια του Καννάβου με βιωματικό τρόπο. Στόχος να αναπτύξουμε την κριτική μας ικανότητα εκτός των συμβατικών πλαισίων\, να εστιάσουμε στην αφαίρεση\, το συμβολισμό και την πειραματική φύση της μοντέρνας τέχνης\, να δώσουμε τις δικές μας ερμηνείες και να ευαισθητοποιηθούμε σε σημαντικά θέματα οξύνοντας την κοινωνική μας συνείδηση. \nΤο 8th N.S. Art Festival 2025\, πραγματεύεται την έννοια του Καννάβου ως ίχνος\, χώρος\, κάδρο\, όριο\, ουτοπία.\nΕπιμέλεια έκθεσης: Χρυσούλα Σκεπετζή και  Κωστής Καπελώνης. \nΤαυτότητα Εργαστηρίου: \nΣάββατο 22 Νοεμβρίου 2025 – ώρα: 18:00 – 19:45\nΜέγιστος αριθμός συμμετεχόντων: 20 άτομα\nΤόπος διεξαγωγής:  Σπίτι του Πολιτισμού\, Ρέθυμνο\nΕίσοδος Δωρεάν. Μόνο με κράτησης θέσεων\nΕπικοινωνία: oi.nomades@gmail.com |6949745793 \nΔημιουργία εργαστηρίου: Κωνσταντίνα Γιασεμίδου\, Πέτρος Ρούσσος\, Γιάννης Σιούτης \nΤο εργαστήριο πραγματοποιήθηκε για τα σχολεία με την αιγίδα και την χρηματοδότηση του Υπουργείου Πολιτισμού και Αθλητισμού. \nΗ μουσικο-θεατρική παράσταση του Σταύρου Σιόλα “Της Άρνης το Νερό και άλλα μουσικά μονόπρακτα” –  που ήταν προγραμματισμένη για την ίδια ημέρα –  αναβάλλεται λόγω τεχνικών προβλημάτων.
URL:https://rethemnos.gr/event/viomatiko-ergastiri-plexus-gia-eniliko-koino-sto-8o-festival-technis-n-s/
LOCATION:Σπίτι του Πολιτισμού\, Βερνάδου 10\, Ρέθυμνο\, Ρεθύμνου\, 74100\, Ελλάδα
CATEGORIES:εργαστήρι
ATTACH;FMTTYPE=image/jpeg:https://rethemnos.gr/wp-content/uploads/2025/11/PLEXUS.jpg
END:VEVENT
BEGIN:VEVENT
DTSTART;TZID=Europe/Athens:20251122T180000
DTEND;TZID=Europe/Athens:20251122T210000
DTSTAMP:20260425T001127
CREATED:20250920T070637Z
LAST-MODIFIED:20251123T093756Z
UID:433698-1763834400-1763845200@rethemnos.gr
SUMMARY:Έκθεση σύγχρονης τέχνης «Κάνναβος» στο Σπίτι του Πολιτισμού
DESCRIPTION:Το 8ο Φεστιβάλ Τέχνης Ν.Σ. σε συνδιοργάνωση με το Τμήμα Πολιτισμού του Δήμου Ρεθύμνης παρουσιάζει από 15 Οκτωβρίου στο Ρέθυμνο\, την Έκθεση Σύγχρονης Τέχνης με θέμα: «Κάνναβος (ως ίχνος\, χώρος\, κάδρο\, όριο\, ουτοπία…)» \nΣτην Έκθεση Σύγχρονης Τέχνης με θέμα τον Κάνναβο\, 40 Έλληνες και Κύπριοι καλλιτέχνες\, πολλοί απ’ αυτούς καθηγητές Καλών Τεχνών\, συνδιαλέγονται με την έννοια και την ατμόσφαιρα μιας περιοχής καθορισμένης\, οριοθετημένης και προσδιορισμένης\, με προεκτάσεις εννοιολογικές ή μη\, που εκπέμπουν SOS. \nΣτην εποχή μας και σ’ έναν κόσμο με πολίτες έγκλειστους στα κελιά της εικονικής πραγματικότητας\, περιχαρακωμένους στην ασφυκτική τους ιδιώτευση\, αγωνιούμε για την ανθρώπινη κατάσταση\, όπως αυτή διαμορφώνεται στον 21ο αιώνα\, όπου η φορεμένη απόσταση ασφαλείας του ενός πολίτη από τον άλλον είναι το μεγάλο τους άλλοθι. \nΜ’ έναν κάνναβο των ορίων και του ανταγωνιστικού χώρου\, με τη δομή που τον ετεροκαθορίζει να οριοθετεί χώρους εγκλεισμού ή υποτιθέμενης ελευθεριότητας. Με τον υπαρξιακό μας προσανατολισμό να λαλεί και να χορεύει. Να αναζητά και να αποφεύγει. Να συγκρούεται και να εθελοτυφλεί. Να αναγνωρίζει\, ενώ την ίδια στιγμή να λησμονά. Εν κατακλείδι\, να παρατηρεί το τραύμα που αιμορραγεί\, σ’ ένα κατά παραγγελία υποτιθέμενο εργαστήριο συνύπαρξης. \nΕπιμέλεια έκθεσης: Χρυσούλα Σκεπετζή\, Κωστής Καπελώνης \nΣυμμετέχουν: Νίκος Αλεξίου\, Μαριλένα Αλιγιζάκη\, Ειρήνη Βαζούκου\, Βαγγέλης Δασκαλάκης\, Ανδρέας Δεβετζής\, Χριστίνα Δουζένη\, Ευδοξία\, Μανώλης Ζαχαριουδάκης\, Αρίων Ζουγανέας\, Ελένη Ιωαννίδου\, Ιωάννα Καζάκη\, Βίκυ Καμμένου\, Δήμητρα Κανέλλη\, Γιώργης Καπελώνης\, Κωστής Καπελώνης\, Γιώργος Καλστίδης\, Κατερίνα Καρούλια\, Δέσποινα Κατζαγιαννάκη\, Μαρία Κομπατσιάρη\, Χάρης Κοντοσφύρης & Σοφία Αντωνακάκη\, Κώστας Κουνάλης\, Σαβέλλα Μιχαήλ\, Παναγιώτης Μιχαήλ& Μαρία Πετρίδη\, Ισμήνη Μπονάτσου\, Κωνσταντίνα Μπολιεράκη\, Δέσποινα Μυριοκεφαλιτάκη\, Κώστας Παγωμένος\, Άρτεμις Ποταμιάνου\, Ελευθερία Προφητηλιώτη\, Χρυσούλα Σκεπετζή\, Βασίλης Σολιδάκης\, Χουρίκ Τοροσιάν\, Βίκυ Τσαλαματά\, Ράνια Φραγκουλίδου\, Δήμητρα Χανιώτη\, Κυριάκος Χατζημιχαηλίδης & ο μεταλλοτεχνίτης Θεόδωρος Κεραμιανός. \nINFO: \nΧώρος: Σπίτι του Πολιτισμού (Ε. Βερνάρδου 12\, Ρέθυμνο)\nΔιάρκεια έκθεσης: 15 Οκτωβρίου έως 22 Νοεμβρίου 2025\nΏρες λειτουργίας: καθημερινά 6μμ – 9μμ\, εκτός Δευτέρας. \nΤηλέφωνο επικοινωνίας για ξεναγήσεις σχολείων 6976955084​.
URL:https://rethemnos.gr/event/ekthesi-sygchronis-technis-kannavos-sto-spiti-toy-politismoy/
LOCATION:Σπίτι του Πολιτισμού\, Βερνάδου 10\, Ρέθυμνο\, Ρεθύμνου\, 74100\, Ελλάδα
CATEGORIES:εικαστική έκθεση
ATTACH;FMTTYPE=image/jpeg:https://rethemnos.gr/wp-content/uploads/2025/09/8_3.jpg
END:VEVENT
END:VCALENDAR