BEGIN:VCALENDAR
VERSION:2.0
PRODID:-//Rethemnos Live - ECPv6.15.20//NONSGML v1.0//EN
CALSCALE:GREGORIAN
METHOD:PUBLISH
X-ORIGINAL-URL:https://rethemnos.gr
X-WR-CALDESC:Events for Rethemnos Live
REFRESH-INTERVAL;VALUE=DURATION:PT1H
X-Robots-Tag:noindex
X-PUBLISHED-TTL:PT1H
BEGIN:VTIMEZONE
TZID:Europe/Athens
BEGIN:DAYLIGHT
TZOFFSETFROM:+0200
TZOFFSETTO:+0300
TZNAME:EEST
DTSTART:20250330T010000
END:DAYLIGHT
BEGIN:STANDARD
TZOFFSETFROM:+0300
TZOFFSETTO:+0200
TZNAME:EET
DTSTART:20251026T010000
END:STANDARD
BEGIN:DAYLIGHT
TZOFFSETFROM:+0200
TZOFFSETTO:+0300
TZNAME:EEST
DTSTART:20260329T010000
END:DAYLIGHT
BEGIN:STANDARD
TZOFFSETFROM:+0300
TZOFFSETTO:+0200
TZNAME:EET
DTSTART:20261025T010000
END:STANDARD
BEGIN:DAYLIGHT
TZOFFSETFROM:+0200
TZOFFSETTO:+0300
TZNAME:EEST
DTSTART:20270328T010000
END:DAYLIGHT
BEGIN:STANDARD
TZOFFSETFROM:+0300
TZOFFSETTO:+0200
TZNAME:EET
DTSTART:20271031T010000
END:STANDARD
END:VTIMEZONE
BEGIN:VEVENT
DTSTART;TZID=Europe/Athens:20260403T220000
DTEND;TZID=Europe/Athens:20260403T220000
DTSTAMP:20260426T040830
CREATED:20260304T092215Z
LAST-MODIFIED:20260330T145710Z
UID:358400-1775253600-1775253600@rethemnos.gr
SUMMARY:Κρητική βραδιά με τον Ηλία Γιαλιτάκη
DESCRIPTION:Ο Ηλίας Γιαλιτάκης με το συγκρότημα του στο Μεζεδοπωλείο Αλλού γι’ Αλλού (Νικ. Πλαστήρα 2\, Παλιά πόλη). \nΤηλέφωνο κρατήσεων 6974025703.
URL:https://rethemnos.gr/event/kritiki-vradia-me-ton-ilia-gialitaki/
LOCATION:Μεζεδοπωλείο Αλλού γι’ αλλού\, Νικολάου Πλαστήρα 2\, Ρέθυμνο\, Ρεθύμνου\, 74100\, Ελλάδα
CATEGORIES:κρητική μουσική
ATTACH;FMTTYPE=image/jpeg:https://rethemnos.gr/wp-content/uploads/2024/11/gialitakis.jpg
END:VEVENT
BEGIN:VEVENT
DTSTART;TZID=Europe/Athens:20260403T220000
DTEND;TZID=Europe/Athens:20260403T220000
DTSTAMP:20260426T040830
CREATED:20260313T104007Z
LAST-MODIFIED:20260331T094712Z
UID:450653-1775253600-1775253600@rethemnos.gr
SUMMARY:Κρητική βραδιά με τον Κώστα Κακουδάκη και το Μιχάλη Πετσάκη
DESCRIPTION:Ο Κώστας Κακουδάκης και ο Μιχάλης Πετσάκης ζωντανά στην Ταβέρνα Πόπη \nΠαρασκευή 3 Απριλίου 2026 – Έναρξη 22:00. \nΤηλ επικοινωνίας: 2831072270 & 6973002263.
URL:https://rethemnos.gr/event/kritiki-vradia-me-ton-kosta-kakoydaki-kai-to-michali-petsaki/
LOCATION:Ταβέρνα Πόπη\, Ταβέρνα Πόπη\, Ρέθυμνο\, Ρεθύμνου\, 74100\, Ελλάδα
CATEGORIES:κρητική μουσική
ATTACH;FMTTYPE=image/jpeg:https://rethemnos.gr/wp-content/uploads/2019/11/208206_o.jpg
ORGANIZER;CN="%CE%A4%CE%B1%CE%B2%CE%AD%CF%81%CE%BD%CE%B1 %CE%A0%CF%8C%CF%80%CE%B7":MAILTO:2831072270
END:VEVENT
BEGIN:VEVENT
DTSTART;TZID=Europe/Athens:20260403T220000
DTEND;TZID=Europe/Athens:20260403T220000
DTSTAMP:20260426T040830
CREATED:20260322T215246Z
LAST-MODIFIED:20260330T053454Z
UID:437788-1775253600-1775253600@rethemnos.gr
SUMMARY:Ο Στέφανος Γαβαλάς και ο Αποστόλης Τζαγκαράκης ζωντανά στο Liakoni
DESCRIPTION:Ο Στέφανος Γαβαλάς και ο Αποστόλης Τζαγκαράκης με το συγκρότημα τους\, ζωντανά στο Liakoni (Άρη Βελουχιώτη 32\, Παραλιακή Ρεθύμνου). \nΠαρασκευή 3 Απριλίου – Έναρξη 22:00. \nΤηλ. για κρατήσεις 6980032740.
URL:https://rethemnos.gr/event/o-stefanos-gavalas-kai-o-apostolis-tzagkarakis-zontana-sto-liakoni/
LOCATION:Liakoni Beach\, Ari Velouchioti\, Rethymno\, Ρεθύμνου\, 741 33
CATEGORIES:κρητική μουσική
ATTACH;FMTTYPE=image/jpeg:https://rethemnos.gr/wp-content/uploads/2026/03/IMG_6683.jpeg
END:VEVENT
END:VCALENDAR