BEGIN:VCALENDAR
VERSION:2.0
PRODID:-//Rethemnos Live - ECPv6.15.20//NONSGML v1.0//EN
CALSCALE:GREGORIAN
METHOD:PUBLISH
X-ORIGINAL-URL:https://rethemnos.gr
X-WR-CALDESC:Events for Rethemnos Live
REFRESH-INTERVAL;VALUE=DURATION:PT1H
X-Robots-Tag:noindex
X-PUBLISHED-TTL:PT1H
BEGIN:VTIMEZONE
TZID:Europe/Athens
BEGIN:DAYLIGHT
TZOFFSETFROM:+0200
TZOFFSETTO:+0300
TZNAME:EEST
DTSTART:20250330T010000
END:DAYLIGHT
BEGIN:STANDARD
TZOFFSETFROM:+0300
TZOFFSETTO:+0200
TZNAME:EET
DTSTART:20251026T010000
END:STANDARD
BEGIN:DAYLIGHT
TZOFFSETFROM:+0200
TZOFFSETTO:+0300
TZNAME:EEST
DTSTART:20260329T010000
END:DAYLIGHT
BEGIN:STANDARD
TZOFFSETFROM:+0300
TZOFFSETTO:+0200
TZNAME:EET
DTSTART:20261025T010000
END:STANDARD
BEGIN:DAYLIGHT
TZOFFSETFROM:+0200
TZOFFSETTO:+0300
TZNAME:EEST
DTSTART:20270328T010000
END:DAYLIGHT
BEGIN:STANDARD
TZOFFSETFROM:+0300
TZOFFSETTO:+0200
TZNAME:EET
DTSTART:20271031T010000
END:STANDARD
END:VTIMEZONE
BEGIN:VEVENT
DTSTART;TZID=Europe/Athens:20260426T200000
DTEND;TZID=Europe/Athens:20260426T200000
DTSTAMP:20260426T005424
CREATED:20260424T133003Z
LAST-MODIFIED:20260424T133137Z
UID:452560-1777233600-1777233600@rethemnos.gr
SUMMARY:«Απ’ τη μεριά τσ’ανατολής…»: Μια κρητική μουσική βραδιά στο Αντίβαρο
DESCRIPTION:Μια μουσική βραδιά με το άρωμα της ανατολικής Κρήτης θα μας χαρίσουν οι καταξιωμένοι μουσικοί Δημήτρης Σγουρός\, Μιχάλης Κονταξάκης και Γιώργος Ψαράκης\, την Κυριακή 26 Απριλίου\, στο θέατρο «Αντίβαρο» στις 8:00 μ.μ. \nΚαι οι τρεις έχουν ενσωματώσει στο παίξιμό τους το ηχόχρωμα και τα ιδιαίτερα χαρακτηριστικά της μουσικής έκφρασης της ανατολικής Κρήτης\, όπως τα βίωσαν στον τόπο καταγωγής τους\, δηλαδή την Κριτσά\, το Χουδέτσι και το Μοχό\, που αποτελούσαν και αποτελούν τρεις ισχυρότατους πόλους της κρητικής ενδοχώρας. \nΤαυτόχρονα όμως\, έχουν καταφέρει να δημιουργήσουν το προσωπικό τους ύφος\, το οποίο είναι έντονα αναγνωρίσιμο και στη δισκογραφία τους.  \nΕίναι σίγουρο ότι θα απολαύσουμε ένα πολύ ενδιαφέροντα διάλογο ανάμεσα στη λύρα\, το λυράκι\, το μαντολίνο και το λαούτο\, με τον αυθορμητισμό που διακρίνει και τους τρεις μουσικούς αλλά και με τις διακυμάνσεις και τα απρόοπτα που χαρακτηρίζουν πάντα την τελετουργία της «παρέας» στην Κρήτη. \nΚαλή αντάμωση λοιπόν!
URL:https://rethemnos.gr/event/ap-ti-meria-ts-anatolis-mia-kritiki-moysiki-vradia-sto-antivaro/
LOCATION:Θέατρο Αντίβαρο\, Κριτοβουλίδου 15\, Ρέθυμνο\, Ρεθύμνου\, 74100\, Greece
CATEGORIES:κρητική μουσική
ATTACH;FMTTYPE=image/png:https://rethemnos.gr/wp-content/uploads/2026/04/IMG_7143.png
END:VEVENT
BEGIN:VEVENT
DTSTART;TZID=Europe/Athens:20260501T130000
DTEND;TZID=Europe/Athens:20260501T130000
DTSTAMP:20260426T005424
CREATED:20260413T123059Z
LAST-MODIFIED:20260422T124133Z
UID:397446-1777640400-1777640400@rethemnos.gr
SUMMARY:Ο Μιχάλης Χαρκιολάκης και ο Γιώργος Κουδουμογιαννάκης στα Αγγελιανά
DESCRIPTION:Ο Μιχάλης Χαρκιολάκης και ο Γιώργος Κουδουμογιαννάκης ζωντανά στα Αγγελιανά\, την Πρωτομαγιά\, Παρασκευή 1 Μαΐου. \nΈναρξη 13.00 – Είσοδος ελεύθερη. \nΔιοργάνωση: Πολιτιστικός Σύλλογος Αγγελιανών. \n 
URL:https://rethemnos.gr/event/o-michalis-charkiolakis-kai-o-giorgos-koydoymogiannakis-sta-aggeliana/
LOCATION:Αγγελιανά Μυλοποτάμου\, Αγγελιανά\, Ρεθύμνου\, Ελλάδα
CATEGORIES:κρητική μουσική
ATTACH;FMTTYPE=image/jpeg:https://rethemnos.gr/wp-content/uploads/2024/08/01526.jpg
END:VEVENT
BEGIN:VEVENT
DTSTART;TZID=Europe/Athens:20260501T140000
DTEND;TZID=Europe/Athens:20260501T140000
DTSTAMP:20260426T005424
CREATED:20260404T205103Z
LAST-MODIFIED:20260416T115807Z
UID:396262-1777644000-1777644000@rethemnos.gr
SUMMARY:Ο Γιάννης Γιαννακάκης στην Ταβέρνα «Το Φράγμα»
DESCRIPTION:Ο Γιάννης Γιαννακάκης με το συγκρότημα του στην Ταβέρνα «Το Φράγμα» στους Ποταμούς Αμαρίου\, την Παρασκευή 1 Μαΐου 2026. \nΈναρξη 14:00. \nΤηλ. 28310 75125 \n 
URL:https://rethemnos.gr/event/o-giannis-giannakakis-stin-taverna-to-fragma/
LOCATION:Ταβέρνα Το Φράγμα\, Ρέθυμνο\, Ρεθύμνου\, 741 50\, Greece
CATEGORIES:κρητική μουσική
ATTACH;FMTTYPE=image/jpeg:https://rethemnos.gr/wp-content/uploads/2025/08/111-2.jpg
END:VEVENT
BEGIN:VEVENT
DTSTART;TZID=Europe/Athens:20260501T150000
DTEND;TZID=Europe/Athens:20260501T150000
DTSTAMP:20260426T005424
CREATED:20260404T060449Z
LAST-MODIFIED:20260422T094939Z
UID:436709-1777647600-1777647600@rethemnos.gr
SUMMARY:Ο Δημήτρης Ξυλούρης (Κίτρος) στην Ταβέρνα «Το Ρομάντζο του Ναυάρχου»
DESCRIPTION:Κρητική μουσική με το Δημήτρη Ξυλούρη (Κίτρος) στην Ταβέρνα «Το Ρομάντζο του Ναυάρχου» (Λούτρα Ρεθύμνου). \nΠαρασκευή 1 Μαΐου 2026 – Έναρξη 15:00 \nΤηλ. 6944 32 6455.
URL:https://rethemnos.gr/event/kritiki-moysiki-me-to-dimitri-xyloyri-kitros-stin-taverna-to-romantzo-toy-nayarchoy/
LOCATION:Ταβέρνα Το Ρομάντζο του Ναυάρχου\, Loutra\, Ρεθύμνου\, 741 00\, Greece
CATEGORIES:κρητική μουσική
ATTACH;FMTTYPE=image/jpeg:https://rethemnos.gr/wp-content/uploads/2026/04/42554-1.jpg
END:VEVENT
BEGIN:VEVENT
DTSTART;TZID=Europe/Athens:20260501T150000
DTEND;TZID=Europe/Athens:20260501T150000
DTSTAMP:20260426T005424
CREATED:20260422T122657Z
LAST-MODIFIED:20260422T122657Z
UID:452298-1777647600-1777647600@rethemnos.gr
SUMMARY:Ο Μανώλης Κατσαμάς στις Ατσιπάδες
DESCRIPTION:Ο Μανώλης Κατσαμάς την Πρωτομαγιά\, Παρασκευή 1 Μαΐου στις Ατσιπάδες. \nΏρα έναρξης 15:00. \nΔιοργάνωση Πολιτιστικός Σύλλογος Ατσιπάδων.
URL:https://rethemnos.gr/event/o-manolis-katsamas-stis-atsipades/
LOCATION:Ατσιπάδες\, Ατσιπάδες\, Ατσιπάδες Ρεθύμνου\, Ρεθύμνου\, Ελλάδα
CATEGORIES:κρητική μουσική
ATTACH;FMTTYPE=image/jpeg:https://rethemnos.gr/wp-content/uploads/2026/04/318.jpg
END:VEVENT
BEGIN:VEVENT
DTSTART;TZID=Europe/Athens:20260501T160000
DTEND;TZID=Europe/Athens:20260501T230000
DTSTAMP:20260426T005424
CREATED:20260412T190130Z
LAST-MODIFIED:20260420T122121Z
UID:204845-1777651200-1777676400@rethemnos.gr
SUMMARY:Ο Πέτρος Μαρούλης στην Ταβέρνα Πόπη
DESCRIPTION:Ο Πέτρος Μαρούλης με το συγκρότημα του στην Ταβέρνα Πόπη. \nΈναρξη 16:00. \nΤηλ επικοινωνίας: 2831072270 & 6973002263
URL:https://rethemnos.gr/event/petros-maroylis-taverna-popi/
LOCATION:Ταβέρνα Πόπη\, Ταβέρνα Πόπη\, Ρέθυμνο\, Ρεθύμνου\, 74100\, Ελλάδα
CATEGORIES:κρητική μουσική
ATTACH;FMTTYPE=image/jpeg:https://rethemnos.gr/wp-content/uploads/2022/08/maroulis.jpg
ORGANIZER;CN="%CE%A4%CE%B1%CE%B2%CE%AD%CF%81%CE%BD%CE%B1 %CE%A0%CF%8C%CF%80%CE%B7":MAILTO:2831072270
END:VEVENT
END:VCALENDAR