BEGIN:VCALENDAR
VERSION:2.0
PRODID:-//Rethemnos Live - ECPv6.15.20//NONSGML v1.0//EN
CALSCALE:GREGORIAN
METHOD:PUBLISH
X-WR-CALNAME:Rethemnos Live
X-ORIGINAL-URL:https://rethemnos.gr
X-WR-CALDESC:Events for Rethemnos Live
REFRESH-INTERVAL;VALUE=DURATION:PT1H
X-Robots-Tag:noindex
X-PUBLISHED-TTL:PT1H
BEGIN:VTIMEZONE
TZID:Europe/Athens
BEGIN:DAYLIGHT
TZOFFSETFROM:+0200
TZOFFSETTO:+0300
TZNAME:EEST
DTSTART:20240331T010000
END:DAYLIGHT
BEGIN:STANDARD
TZOFFSETFROM:+0300
TZOFFSETTO:+0200
TZNAME:EET
DTSTART:20241027T010000
END:STANDARD
BEGIN:DAYLIGHT
TZOFFSETFROM:+0200
TZOFFSETTO:+0300
TZNAME:EEST
DTSTART:20250330T010000
END:DAYLIGHT
BEGIN:STANDARD
TZOFFSETFROM:+0300
TZOFFSETTO:+0200
TZNAME:EET
DTSTART:20251026T010000
END:STANDARD
BEGIN:DAYLIGHT
TZOFFSETFROM:+0200
TZOFFSETTO:+0300
TZNAME:EEST
DTSTART:20260329T010000
END:DAYLIGHT
BEGIN:STANDARD
TZOFFSETFROM:+0300
TZOFFSETTO:+0200
TZNAME:EET
DTSTART:20261025T010000
END:STANDARD
END:VTIMEZONE
BEGIN:VEVENT
DTSTART;TZID=Europe/Athens:20250629T213000
DTEND;TZID=Europe/Athens:20250629T213000
DTSTAMP:20260424T131319
CREATED:20250609T045359Z
LAST-MODIFIED:20250611T054204Z
UID:397553-1751232600-1751232600@rethemnos.gr
SUMMARY:Η Χρύσπα και ο Στέλιος Βαμβακάς ζωντανά στον Πλατανιά Ρεθύμνου
DESCRIPTION:«Δύο καρδιές\, μία ρίζα»: Μεγάλη συναυλία του Στέλιου Βαμβακά με τη Χρύσπα\, την Κυριακή 29 Ιουνίου\, στον χώρο του Platanias Parking στον Πλατανιά Ρεθύμνου. \nΈναρξη: 19:00 με DJ Set. \nΣας περιμένουμε όλους! \nΚρατήσεις: 693 670 1289 & 28310 52478.
URL:https://rethemnos.gr/event/chryspa-stelios-vamvakas-zontana-ston-platania-rethymnoy/
LOCATION:Platanias Parking\, Μάχης Κρήτης 139\, Πλατανιάς Ρεθυμνο\, Ρεθύμνου\, 74100\, Ελλάδα
CATEGORIES:ζωντανή μουσική,κρητική μουσική
ATTACH;FMTTYPE=image/jpeg:https://rethemnos.gr/wp-content/uploads/2024/08/ee1.jpg
END:VEVENT
END:VCALENDAR