BEGIN:VCALENDAR
VERSION:2.0
PRODID:-//Rethemnos Live - ECPv6.15.20//NONSGML v1.0//EN
CALSCALE:GREGORIAN
METHOD:PUBLISH
X-ORIGINAL-URL:https://rethemnos.gr
X-WR-CALDESC:Events for Rethemnos Live
REFRESH-INTERVAL;VALUE=DURATION:PT1H
X-Robots-Tag:noindex
X-PUBLISHED-TTL:PT1H
BEGIN:VTIMEZONE
TZID:Europe/Athens
BEGIN:DAYLIGHT
TZOFFSETFROM:+0200
TZOFFSETTO:+0300
TZNAME:EEST
DTSTART:20250330T010000
END:DAYLIGHT
BEGIN:STANDARD
TZOFFSETFROM:+0300
TZOFFSETTO:+0200
TZNAME:EET
DTSTART:20251026T010000
END:STANDARD
BEGIN:DAYLIGHT
TZOFFSETFROM:+0200
TZOFFSETTO:+0300
TZNAME:EEST
DTSTART:20260329T010000
END:DAYLIGHT
BEGIN:STANDARD
TZOFFSETFROM:+0300
TZOFFSETTO:+0200
TZNAME:EET
DTSTART:20261025T010000
END:STANDARD
BEGIN:DAYLIGHT
TZOFFSETFROM:+0200
TZOFFSETTO:+0300
TZNAME:EEST
DTSTART:20270328T010000
END:DAYLIGHT
BEGIN:STANDARD
TZOFFSETFROM:+0300
TZOFFSETTO:+0200
TZNAME:EET
DTSTART:20271031T010000
END:STANDARD
END:VTIMEZONE
BEGIN:VEVENT
DTSTART;TZID=Europe/Athens:20260223T130000
DTEND;TZID=Europe/Athens:20260223T190000
DTSTAMP:20260423T045126
CREATED:20260218T090303Z
LAST-MODIFIED:20260219T061552Z
UID:383548-1771851600-1771873200@rethemnos.gr
SUMMARY:Καθαρά Δευτέρα στο Μέρωνα Αμαρίου
DESCRIPTION:Σιμώσετε στον Μέρωνα\, την Καθαρά Δευτέρα\,\nνα κάμουμε Σαρακοστή στο δροσερόν αέρα… \nΦασόλια\, ελιές\, γλυκό κρασί και μουζουδές θα βρείτε\,\nμα ανε πεινάτε πλιά πολύ\, τη βούργια να κρατείτε \nΑρκούδες\, Χότζας\, Προξενιό\, Καμήλα και λεράδες\,\nθα’ρθούνε να γλεντίσουνε με τσοι καταχανάδες \nΟ Πολιτιστικός Σύλλογος Μέρωνα καλεί χωριανούς και φίλους να ανοίξουμε την Σαρακοστή και να περάσουμε όμορφα στο χώρο του Παλιού Σχολειού την Καθαρά Δευτέρα και από ώρα 1 μ.μ. \nΘα μας διασκεδάσει το συγκρότημα των: Χαράλαμπου Αγγελάκη Λύρα – Τραγούδι\, Βαγγέλη Προβιά Λαγούτο και Αλέξη Αλεβυζάκη Λαγούτο – Τραγούδι. \nΚαλές Απόκριες σε όλους με υγεία!
URL:https://rethemnos.gr/event/kathara-deytera-sto-merona-amarioy/
LOCATION:Μέρωνας\, Μέρωνας\, Μέρωνας\, Ρεθύμνου\, Ελλάδα
CATEGORIES:κρητική μουσική,λαογραφική εκδήλωση
ATTACH;FMTTYPE=image/jpeg:https://rethemnos.gr/wp-content/uploads/2024/03/merons.jpg
END:VEVENT
END:VCALENDAR