BEGIN:VCALENDAR
VERSION:2.0
PRODID:-//Rethemnos Live - ECPv6.15.20//NONSGML v1.0//EN
CALSCALE:GREGORIAN
METHOD:PUBLISH
X-ORIGINAL-URL:https://rethemnos.gr
X-WR-CALDESC:Events for Rethemnos Live
REFRESH-INTERVAL;VALUE=DURATION:PT1H
X-Robots-Tag:noindex
X-PUBLISHED-TTL:PT1H
BEGIN:VTIMEZONE
TZID:Europe/Athens
BEGIN:DAYLIGHT
TZOFFSETFROM:+0200
TZOFFSETTO:+0300
TZNAME:EEST
DTSTART:20240331T010000
END:DAYLIGHT
BEGIN:STANDARD
TZOFFSETFROM:+0300
TZOFFSETTO:+0200
TZNAME:EET
DTSTART:20241027T010000
END:STANDARD
BEGIN:DAYLIGHT
TZOFFSETFROM:+0200
TZOFFSETTO:+0300
TZNAME:EEST
DTSTART:20250330T010000
END:DAYLIGHT
BEGIN:STANDARD
TZOFFSETFROM:+0300
TZOFFSETTO:+0200
TZNAME:EET
DTSTART:20251026T010000
END:STANDARD
BEGIN:DAYLIGHT
TZOFFSETFROM:+0200
TZOFFSETTO:+0300
TZNAME:EEST
DTSTART:20260329T010000
END:DAYLIGHT
BEGIN:STANDARD
TZOFFSETFROM:+0300
TZOFFSETTO:+0200
TZNAME:EET
DTSTART:20261025T010000
END:STANDARD
END:VTIMEZONE
BEGIN:VEVENT
DTSTART;TZID=Europe/Athens:20250731T210000
DTEND;TZID=Europe/Athens:20250731T210000
DTSTAMP:20260423T165450
CREATED:20250728T082208Z
LAST-MODIFIED:20250730T084340Z
UID:428856-1753995600-1753995600@rethemnos.gr
SUMMARY:«Ροδίνεια 2025» στα Φραντζεσκιανά Μετόχια
DESCRIPTION:Ο Πολιτιστικός Σύλλογος Φραντζεσκιανών Μετοχίων «Ανδρέας Ροδινός» σας προσκαλεί στα «Ροδίνεια 2025». \nΦραντζεσκιανά Μετόχια – Πέμπτη 31 Ιουλίου – Έναρξη 21.00. \nΣυμπράττει ο Παγκρήτιος Σύλλογος Καλλιτεχνών Κρητικής Μουσικής – Χορευτικά πλαισιώνει τη βραδιά ο Όμιλος Βρακοφόρων Κρήτης. \n 
URL:https://rethemnos.gr/event/rodineia-2025-sta-frantzeskiana-metochia/
LOCATION:Φραντζεσκιανά Μετόχια\, Frantzeskiana Metochia\, Ρεθύμνου\, 741 50\, Greece
CATEGORIES:κρητική μουσική
ATTACH;FMTTYPE=image/jpeg:https://rethemnos.gr/wp-content/uploads/2025/07/IMG_9811.jpeg
END:VEVENT
END:VCALENDAR