BEGIN:VCALENDAR
VERSION:2.0
PRODID:-//Rethemnos Live - ECPv6.15.20//NONSGML v1.0//EN
CALSCALE:GREGORIAN
METHOD:PUBLISH
X-WR-CALNAME:Rethemnos Live
X-ORIGINAL-URL:https://rethemnos.gr
X-WR-CALDESC:Events for Rethemnos Live
REFRESH-INTERVAL;VALUE=DURATION:PT1H
X-Robots-Tag:noindex
X-PUBLISHED-TTL:PT1H
BEGIN:VTIMEZONE
TZID:Europe/Athens
BEGIN:DAYLIGHT
TZOFFSETFROM:+0200
TZOFFSETTO:+0300
TZNAME:EEST
DTSTART:20250330T010000
END:DAYLIGHT
BEGIN:STANDARD
TZOFFSETFROM:+0300
TZOFFSETTO:+0200
TZNAME:EET
DTSTART:20251026T010000
END:STANDARD
BEGIN:DAYLIGHT
TZOFFSETFROM:+0200
TZOFFSETTO:+0300
TZNAME:EEST
DTSTART:20260329T010000
END:DAYLIGHT
BEGIN:STANDARD
TZOFFSETFROM:+0300
TZOFFSETTO:+0200
TZNAME:EET
DTSTART:20261025T010000
END:STANDARD
BEGIN:DAYLIGHT
TZOFFSETFROM:+0200
TZOFFSETTO:+0300
TZNAME:EEST
DTSTART:20270328T010000
END:DAYLIGHT
BEGIN:STANDARD
TZOFFSETFROM:+0300
TZOFFSETTO:+0200
TZNAME:EET
DTSTART:20271031T010000
END:STANDARD
END:VTIMEZONE
BEGIN:VEVENT
DTSTART;TZID=Europe/Athens:20260426T203000
DTEND;TZID=Europe/Athens:20260426T203000
DTSTAMP:20260424T190629
CREATED:20260406T074430Z
LAST-MODIFIED:20260421T061354Z
UID:280731-1777235400-1777235400@rethemnos.gr
SUMMARY:Προβολή της ταινίας «Ημερολόγια Μοτοσικλέτας» από την Κινηματογραφική Λέσχη Ρεθύμνου
DESCRIPTION:Η Κινηματογραφική Λέσχη Ρεθύμνου\, την Κυριακή 26 Απριλίου 2026 στις 20:30\, παρουσιάζει το βιογραφικό\, δραματικό\, road movie συμπαραγωγής Αργεντινής\, Γαλλίας\, Ηνωμένου Βασιλείου & ΗΠΑ του 2004\, “Ημερολόγια Μοτοσικλέτας / The Motorcycle Diaries / Diarios de Motocicleta”\, σε σκηνοθεσία του Walter Salles. \nΗ προβολή θα πραγματοποιηθεί στο “Κέντρο Βυζαντινών Τεχνών”\, στην οδό Εθνικής Αντιστάσεως 84\, στην παλιά πόλη του Ρεθύμνου. \nΣύνοψη της ταινίας \nΤο 1952\, ο 23χρονος φοιτητής ιατρικής Ερνέστο Γκεβάρα και ο φίλος του\, ο 29χρονος βιοχημικός Αλμπέρτο Γρανάδο\, ξεκινούν ένα φιλόδοξο ταξίδι από το Μπουένος Άιρες για να διασχίσουν τη Λατινική Αμερική πάνω σε μια παλιά\, ταλαιπωρημένη μοτοσικλέτα Norton 500\, που αποκαλούσαν La Poderosa. Αυτό που ξεκινά ως μια νεανική περιπέτεια γεμάτη δίψα για ζωή\, κορίτσια και διασκέδαση\, εξελίσσεται σε μια βαθιά πνευματική και πολιτική αφύπνιση. Κατά τη διάρκεια της διαδρομής τους έρχονται αντιμέτωποι με την ακραία φτώχεια και την κοινωνική αδικία\, βλέπουν την εκμετάλλευση των ιθαγενών εργατών στα ορυχεία\, εργάζονται εθελοντικά σε μια αποικία λεπρών στον Αμαζόνιο\, όπου ο Ερνέστο αρχίζει να αισθάνεται μια βαθιά σύνδεση με τους περιθωριοποιημένους ανθρώπους. \nΈνα υπαρξιακό road movie που χρησιμοποιεί το επιβλητικό τοπίο των Άνδεων και του Αμαζονίου ως καθρέφτη της εσωτερικής διαδρομής των πρωταγωνιστών\, καταλήγοντας στο συμπέρασμα ότι το πιο μακρινό ταξίδι είναι αυτό που οδηγεί στη συνειδητοποίηση του σκοπού της ζωής μας. \nΒραβεία – Διακρίσεις\nΗ ταινία απέσπασε 36 βραβεία και 49 υποψηφιότητες σε διάφορα φεστιβάλ κινηματογράφου. Κέρδισε το βραβείο Όσκαρ Καλύτερου Πρωτότυπου Τραγουδιού (2005) για το κομμάτι «Al Otro Lado Del Rio» του Jorge Drexler ενώ ήταν επίσης υποψήφια για το βραβείο Όσκαρ Διασκευασμένου Σεναρίου. \nΤΙΜΗ ΕΙΣΙΤΗΡΙΟΥ \nΓενικό εισιτήριο: 5€\nΣυνδρ/τές ΚΙΝΛΕΡ: 3€\nΜαθητές: 3€\nΦοιτητές: 3€\nΆνεργοι: 3€
URL:https://rethemnos.gr/event/provoli-tis-tainias-imerologia-motosikletas-apo-tin-kinimatografiki-leschi-rethymnoy/
LOCATION:Κέντρο Βυζαντινών Τεχνών\, Εθνικής Αντιστάσεως 82\, Ρέθυμνο\, Ρεθύμνου\, 74100
CATEGORIES:προβολή
ATTACH;FMTTYPE=image/jpeg:https://rethemnos.gr/wp-content/uploads/2026/03/unnamed-10.jpg
END:VEVENT
BEGIN:VEVENT
DTSTART;TZID=Europe/Athens:20260713T213000
DTEND;TZID=Europe/Athens:20260713T233000
DTSTAMP:20260424T190629
CREATED:20260301T084051Z
LAST-MODIFIED:20260306T081659Z
UID:425710-1783978200-1783985400@rethemnos.gr
SUMMARY:«Ένας ουρανός με αστέρια 2026»: Εβδομάδα κλασσικής ελληνικής κωμωδίας στο Ρέθυμνο
DESCRIPTION:Τα καλοκαίρια οι «Εμείς και Εμείς» (Καρναβαλική Ομάδα Ρεθύμνου)\, μαζί με εσάς δημιουργήσαμε μια γιορτή που μας περιμένει και φέτος κάτω από «Ένα Ουρανό γεμάτο Αστέρια»! \nΤα Επίκαιρα από το Αρχείο της ΕΡΤ\, η ξεχωριστή μουσική του ΝΙΚΟΥ ΜΑΜΑΓΚΑΚΗ\, τα Τοπικά μας Επίκαιρα και τόσα άλλα\, θα μας ταξιδέψουν νοσταλγικά στις εποχές προβολής των  ταινιών της ΦΙΝΟΣ ΦΙΛΜ στην πόλη μας. \nΑπό Δευτέρα 13 μέχρι Κυριακή 19 Ιουλίου 2025\, στο Δημοτικό Κήπο Ρεθύμνου\, με ώρα έναρξης κάθε προβολής τις 21.30. \nΓια έναν ακόμη περίπατο στο χθεσινό «Ρεθυμνάκι» και τους ανθρώπους του που κράτησαν και προχώρησαν την ιστορία του…
URL:https://rethemnos.gr/event/enas-oyranos-me-asteria-2026-evdomada-klassikis-ellinikis-komodias-sto-rethymn/
LOCATION:Δημοτικός Κήπος Ρεθύμνου\, Rethymnon Municipal Garden\, ΡΕΘΥΜΝΟ\, Ρεθύμνης\, 74132\, Greece
CATEGORIES:θεματική βραδιά,προβολή
ATTACH;FMTTYPE=image/jpeg:https://rethemnos.gr/wp-content/uploads/2025/06/33-1.jpg
END:VEVENT
END:VCALENDAR