BEGIN:VCALENDAR
VERSION:2.0
PRODID:-//Rethemnos Live - ECPv6.15.20//NONSGML v1.0//EN
CALSCALE:GREGORIAN
METHOD:PUBLISH
X-ORIGINAL-URL:https://rethemnos.gr
X-WR-CALDESC:Events for Rethemnos Live
REFRESH-INTERVAL;VALUE=DURATION:PT1H
X-Robots-Tag:noindex
X-PUBLISHED-TTL:PT1H
BEGIN:VTIMEZONE
TZID:Europe/Athens
BEGIN:DAYLIGHT
TZOFFSETFROM:+0200
TZOFFSETTO:+0300
TZNAME:EEST
DTSTART:20240331T010000
END:DAYLIGHT
BEGIN:STANDARD
TZOFFSETFROM:+0300
TZOFFSETTO:+0200
TZNAME:EET
DTSTART:20241027T010000
END:STANDARD
BEGIN:DAYLIGHT
TZOFFSETFROM:+0200
TZOFFSETTO:+0300
TZNAME:EEST
DTSTART:20250330T010000
END:DAYLIGHT
BEGIN:STANDARD
TZOFFSETFROM:+0300
TZOFFSETTO:+0200
TZNAME:EET
DTSTART:20251026T010000
END:STANDARD
BEGIN:DAYLIGHT
TZOFFSETFROM:+0200
TZOFFSETTO:+0300
TZNAME:EEST
DTSTART:20260329T010000
END:DAYLIGHT
BEGIN:STANDARD
TZOFFSETFROM:+0300
TZOFFSETTO:+0200
TZNAME:EET
DTSTART:20261025T010000
END:STANDARD
END:VTIMEZONE
BEGIN:VEVENT
DTSTART;TZID=Europe/Athens:20250524T193000
DTEND;TZID=Europe/Athens:20250524T193000
DTSTAMP:20260424T223046
CREATED:20250519T122503Z
LAST-MODIFIED:20250519T122503Z
UID:421723-1748115000-1748115000@rethemnos.gr
SUMMARY:Μαθητική εκδήλωση πιάνου από το Μουσικό Σχολείο Ρεθύμνου
DESCRIPTION:Το Μουσικό Σχολείο Ρεθύμνου προσκαλεί το κοινό σε μια ξεχωριστή μαθητική εκδήλωση πιάνου που θα πραγματοποιηθεί το Σάββατο 24 Μαΐου 2025 και ώρα 19:30\, στο Κέντρο Βυζαντινών Τεχνών (Εθνικής Αντιστάσεως 81\, Ρέθυμνο). \nΗ εκδήλωση αποτελεί μια ευκαιρία για το κοινό να γνωρίσει από κοντά το έργο και την πρόοδο των μαθητών\, αλλά και να απολαύσει ένα βράδυ γεμάτο μουσική\, ταλέντο και έμπνευση. \nΕίσοδος ελεύθερη \n 
URL:https://rethemnos.gr/event/mathitiki-ekdilosi-pianoy-apo-to-moysiko-scholeio-rethymnoy/
LOCATION:Κέντρο Βυζαντινών Τεχνών\, Εθνικής Αντιστάσεως 82\, Ρέθυμνο\, Ρεθύμνου\, 74100
CATEGORIES:ζωντανή μουσική
ATTACH;FMTTYPE=image/jpeg:https://rethemnos.gr/wp-content/uploads/2025/05/unnamed-6.jpg
END:VEVENT
END:VCALENDAR