BEGIN:VCALENDAR
VERSION:2.0
PRODID:-//Rethemnos Live - ECPv6.15.20//NONSGML v1.0//EN
CALSCALE:GREGORIAN
METHOD:PUBLISH
X-ORIGINAL-URL:https://rethemnos.gr
X-WR-CALDESC:Events for Rethemnos Live
REFRESH-INTERVAL;VALUE=DURATION:PT1H
X-Robots-Tag:noindex
X-PUBLISHED-TTL:PT1H
BEGIN:VTIMEZONE
TZID:Europe/Athens
BEGIN:DAYLIGHT
TZOFFSETFROM:+0200
TZOFFSETTO:+0300
TZNAME:EEST
DTSTART:20240331T010000
END:DAYLIGHT
BEGIN:STANDARD
TZOFFSETFROM:+0300
TZOFFSETTO:+0200
TZNAME:EET
DTSTART:20241027T010000
END:STANDARD
BEGIN:DAYLIGHT
TZOFFSETFROM:+0200
TZOFFSETTO:+0300
TZNAME:EEST
DTSTART:20250330T010000
END:DAYLIGHT
BEGIN:STANDARD
TZOFFSETFROM:+0300
TZOFFSETTO:+0200
TZNAME:EET
DTSTART:20251026T010000
END:STANDARD
BEGIN:DAYLIGHT
TZOFFSETFROM:+0200
TZOFFSETTO:+0300
TZNAME:EEST
DTSTART:20260329T010000
END:DAYLIGHT
BEGIN:STANDARD
TZOFFSETFROM:+0300
TZOFFSETTO:+0200
TZNAME:EET
DTSTART:20261025T010000
END:STANDARD
END:VTIMEZONE
BEGIN:VEVENT
DTSTART;TZID=Europe/Athens:20250601T200000
DTEND;TZID=Europe/Athens:20250601T200000
DTSTAMP:20260425T161927
CREATED:20250514T184134Z
LAST-MODIFIED:20250601T073332Z
UID:421308-1748808000-1748808000@rethemnos.gr
SUMMARY:«Από την Άλωση στην Πεντηκοστή»: Ύμνοι των Μαρτύρων της Αλώσεως και της Αγίας Πεντηκοστής
DESCRIPTION:Η χορωδία της Σχολής Εκκλησιαστικής Βυζαντινής Μουσικής της Ιεράς Μητροπόλεως Ρεθύμνης και Αυλοποτάμου\, υπό τη διεύθυνση του Εντιμολ. κ. Ευαγγέλου Καπαϊδονάκη\, Άρχοντος Μαΐστορος της Αγίας του Χριστού Μεγάλης Εκκλησίας\, Πρωτοψάλτου και Διευθυντού της Σχολής\, θα αποδώσει Ύμνους και Άσματα της Αλώσεως και Ύμνους της Αγίας Πεντηκοστής. \nΠρολόγιση: Γεώργιος Σηφάκης\, Θεολόγος\, Γραμματέας της Ιεράς Μητροπόλεως. \nΚΥΡΙΑΚΗ 1η ΙΟΥΝΙΟΥ 2025\nΩΡΑ: 8.00 μ.μ. – ΕΙΣΟΔΟΣ ΕΛΕΥΘΕΡΗ\nΚΕΝΤΡΙΚΗ ΑΙΘΟΥΣΑ ΚΕΝΤΡΟΥ «ΘΕΟΜΗΤΩΡ»
URL:https://rethemnos.gr/event/apo-tin-alosi-stin-pentikosti-ymnoi-ton-martyron-tis-aloseos-kai-tis-agias-pentikostis/
LOCATION:«Θεομήτωρ» Κέντρο Κοινωνικής και Πολιτιστικής Διακονίας\, Ψυχουντάκη Παντ. 5\, Rethymno\, Ρεθύμνου\, 741 32\, Greece
CATEGORIES:συναυλία
ATTACH;FMTTYPE=image/jpeg:https://rethemnos.gr/wp-content/uploads/2025/05/apo.tin_.alwsi_.stin_.pentikosti.jpg
END:VEVENT
BEGIN:VEVENT
DTSTART;TZID=Europe/Athens:20250601T203000
DTEND;TZID=Europe/Athens:20250601T203000
DTSTAMP:20260425T161927
CREATED:20250525T083432Z
LAST-MODIFIED:20250528T072718Z
UID:422317-1748809800-1748809800@rethemnos.gr
SUMMARY:1η Γιορτή του Μαθητή από την Α/θμια Εκπαίδευση Ν. Ρεθύμνης
DESCRIPTION:Με αφορμή το εκπαιδευτικό πρόγραμμα: “Χορωδία και Χορωδιακό Τραγούδι” που υλοποιείται τα τελευταία τρία χρόνια από την Πρωτοβάθμια Εκπαίδευση Ν. Ρεθύμνης\, πραγματοποιείται η «1η Γιορτή του Μαθητή». \nΗ Μουσική εκδήλωση θα πραγματοποιηθεί την Κυριακή 1η Ιουνίου 2025 και ώρα 20:30 στην Πλατεία Μικρασιατών με τη συμμετοχή των Χορωδιών των Σχολικών Μονάδων: 2ου – 7ου – 9ου – 13ου – 14ου – Άδελε & Αγκουσελιανών και θα συνοδεύει η Ορχήστρα της Πρωτοβάθμιας Εκπαίδευσης Ν. Ρεθύμνης. \nΓνωστά τραγούδια θα γεμίσουν την Πλατεία Μικρασιατών με μελωδίες και ρυθμούς που συγκινούν\, εμπνέουν και ενώνουν. Η μουσική θα ζωντανέψει μέσα από τις φωνές των μαθητών\, που με πάθος και αφοσίωση έχουν προετοιμαστεί για αυτή τη βραδιά. \nΚάθε τραγούδι θα είναι μια ιστορία\, κάθε μελωδία μια έκφραση της χαράς\, της δημιουργικότητας και της ομαδικότητας. \nΣτην εκδήλωση\, που διοργανώνεται από την Α/θμιας Εκπαίδευση Ν. Ρεθύμνης και συνδιοργανωτή το Δήμο Ρεθύμνης\, θα ακουστούν γνωστά ελληνικά και διεθνή κομμάτια\, ταξιδεύοντας το κοινό σε έναν κόσμο γεμάτο συναισθήματα. Οι μαθητές θα μοιραστούν τη χαρά της μουσικής και θα δημιουργήσουν αναμνήσεις που θα τους συνοδεύουν για μια ζωή. \nΜέσα από αυτή τη μουσική εμπειρία\, οι μαθητές ανακαλύπτουν τον εαυτό τους\, μαθαίνουν να εκφράζονται και να μοιράζονται τα συναισθήματά τους με το κοινό. \nΣυνδιοργανωτής της εκδήλωσης είναι ο Δήμος Ρεθύμνης
URL:https://rethemnos.gr/event/1i-giorti-toy-mathiti-apo-tin-a-thmia-ekpaideysi-n-rethymnis/
LOCATION:Πλατεία Μικρασιατών\, Πλατεία Μικρασιατών\, Ρέθυμνο\, Ρεθύμνου\, 74100\, Ελλάδα
CATEGORIES:ζωντανή μουσική
ATTACH;FMTTYPE=image/jpeg:https://rethemnos.gr/wp-content/uploads/2025/05/253-1.jpg
END:VEVENT
END:VCALENDAR