BEGIN:VCALENDAR
VERSION:2.0
PRODID:-//Rethemnos Live - ECPv6.15.20//NONSGML v1.0//EN
CALSCALE:GREGORIAN
METHOD:PUBLISH
X-ORIGINAL-URL:https://rethemnos.gr
X-WR-CALDESC:Events for Rethemnos Live
REFRESH-INTERVAL;VALUE=DURATION:PT1H
X-Robots-Tag:noindex
X-PUBLISHED-TTL:PT1H
BEGIN:VTIMEZONE
TZID:Europe/Athens
BEGIN:DAYLIGHT
TZOFFSETFROM:+0200
TZOFFSETTO:+0300
TZNAME:EEST
DTSTART:20250330T010000
END:DAYLIGHT
BEGIN:STANDARD
TZOFFSETFROM:+0300
TZOFFSETTO:+0200
TZNAME:EET
DTSTART:20251026T010000
END:STANDARD
BEGIN:DAYLIGHT
TZOFFSETFROM:+0200
TZOFFSETTO:+0300
TZNAME:EEST
DTSTART:20260329T010000
END:DAYLIGHT
BEGIN:STANDARD
TZOFFSETFROM:+0300
TZOFFSETTO:+0200
TZNAME:EET
DTSTART:20261025T010000
END:STANDARD
BEGIN:DAYLIGHT
TZOFFSETFROM:+0200
TZOFFSETTO:+0300
TZNAME:EEST
DTSTART:20270328T010000
END:DAYLIGHT
BEGIN:STANDARD
TZOFFSETFROM:+0300
TZOFFSETTO:+0200
TZNAME:EET
DTSTART:20271031T010000
END:STANDARD
END:VTIMEZONE
BEGIN:VEVENT
DTSTART;TZID=Europe/Athens:20260121T180000
DTEND;TZID=Europe/Athens:20260121T180000
DTSTAMP:20260426T042245
CREATED:20260115T062146Z
LAST-MODIFIED:20260115T062146Z
UID:443606-1769018400-1769018400@rethemnos.gr
SUMMARY:Παρουσίαση του βιβλίου «Ψυχική Υγεία και Σεξουαλικότητα: Η σεξουαλική εκπαίδευση στο σχολείο»
DESCRIPTION:Παρουσίαση του βιβλίου «Ψυχική Υγεία και Σεξουαλικότητα: Η σεξουαλική εκπαίδευση στο σχολείο» της Βασιλικής Μπουρτζέλη και της Μαργαρίτας Γερούκη\, θα πραγματοποιηθεί την Τετάρτη 21 Ιανουαρίου 2026\, στις 18:00\, στο Σπίτι του Πολιτισμού. \nΤο βιβλίο πραγματεύεται τη σχέση της ψυχικής υγείας με τη σεξουαλικότητα και αναδεικνύει τη σημασία της σεξουαλικής εκπαίδευσης στο σχολικό πλαίσιο\, μέσα από επιστημονική τεκμηρίωση και παιδαγωγική προσέγγιση. \nΤην εκδήλωση διοργανώνει ο Σύλλογος Εκπαιδευτικών Πρωτοβάθμιας Εκπαίδευσης Ρεθύμνου και η Α.ΞΕ.Π.Τ.
URL:https://rethemnos.gr/event/paroysiasi-toy-vivlioy-psychiki-ygeia-kai-sexoyalikotita-i-sexoyaliki-ekpaideysi-sto-scholeio/
LOCATION:Σπίτι του Πολιτισμού\, Βερνάδου 10\, Ρέθυμνο\, Ρεθύμνου\, 74100\, Ελλάδα
CATEGORIES:παρουσίαση βιβλίου
ATTACH;FMTTYPE=image/jpeg:https://rethemnos.gr/wp-content/uploads/2026/01/555.jpg
END:VEVENT
BEGIN:VEVENT
DTSTART;TZID=Europe/Athens:20260126T200000
DTEND;TZID=Europe/Athens:20260126T200000
DTSTAMP:20260426T042245
CREATED:20260121T100531Z
LAST-MODIFIED:20260126T060918Z
UID:378302-1769457600-1769457600@rethemnos.gr
SUMMARY:«Βασίλης Σκουλάς: Στο μετερίζι τσ’ ανθρωπιάς»: Παρουσίαση του βιβλίου του Κ. Μπαλαχούτη
DESCRIPTION:Η Δημόσια Κεντρική Βιβλιοθήκη Ρεθύμνου παρουσιάζει στο «Σπίτι του Πολιτισμού» τη Δευτέρα 26 Ιανουαρίου ώρα 20:00 τη βιογραφία του κρητικού καλλιτέχνη Βασίλη Σκουλά από τον Κώστα Μπαλαχούτη: «Βασίλης Σκουλάς: Στο μετερίζι τσ’ ανθρωπιάς»(εκδ. Όγδοο). \nΓια το βιβλίο θα μιλήσουν οι: \n\nΚώστας Σπανουδάκης\, τ. Αντιπρύτανης Π.Κ.\, Πρόεδρος Εφορευτικού Συμβουλίου της Δημόσιας Κεντρικής Βιβλιοθήκης Ρεθύμνου\nΚώστας Αποστολάκης\, Καθηγητής Πανεπιστημίου Κρήτης\nΓιώργης Καράτζης\, ποιητής.\n\nΠαρεμβαίνει ο συγγραφέας Κώστας Μπαλαχούτης. Ακολουθεί αντιφώνηση και μουσικός επίλογος από το Βασίλη Σκουλά. \nΤην εκδήλωση συντονίζει ο Γιώργος Παπακωνσταντής\, μέλος του Ε.Σ. της Δ.Κ.Β.Ρ. & Διοικητής του Νοσοκομείου Ρεθύμνου. \nΗ εκδήλωση τελεί υπό την αιγίδα του Δήμου Ρεθύμνης. Η είσοδος για το κοινό είναι ελεύθερη. \n 
URL:https://rethemnos.gr/event/vasilis-skoylas-sto-meterizi-ts-anthropias-paroysiasi-toy-vivlioy-toy-k-mpalachoyti/
LOCATION:Σπίτι του Πολιτισμού\, Βερνάδου 10\, Ρέθυμνο\, Ρεθύμνου\, 74100\, Ελλάδα
CATEGORIES:κρητική μουσική,παρουσίαση βιβλίου
ATTACH;FMTTYPE=image/jpeg:https://rethemnos.gr/wp-content/uploads/2026/01/skoulas.jpg
END:VEVENT
BEGIN:VEVENT
DTSTART;TZID=Europe/Athens:20260127T183000
DTEND;TZID=Europe/Athens:20260127T183000
DTSTAMP:20260426T042245
CREATED:20260122T082440Z
LAST-MODIFIED:20260122T082440Z
UID:444341-1769538600-1769538600@rethemnos.gr
SUMMARY:Ομιλίες με θέμα «Καίρια σημεία της Ιστορίας του Ελληνισμού από την εποχή των Μυκηναίων έως σήμερα»
DESCRIPTION:Ο Σύλλογος Φίλων Πολεμικού Μουσείου – Παράρτημα Χρωμοναστηρίου\, σε συνεργασία με τη Διεύθυνση Δευτεροβάθμιας Εκπαίδευσης Ρεθύμνου\, διοργανώνουν ομιλίες με τίτλο: «Καίρια σημεία της Ιστορίας του Ελληνισμού από την εποχή των Μυκηναίων έως σήμερα» \nΟι εκδηλώσεις θα φιλοξενηθούν στο Σπίτι του Πολιτισμού: \n\nΤρίτη\, 27 Ιανουαρίου 2026\, 18:30: Ομιλία ανοικτή για το κοινό\nΤετάρτη\, 28 Ιανουαρίου 2026\, πρωί: Εκπαιδευτική δράση για μαθητές/τριες Γυμνασίων και Λυκείων\n\nΗ ομιλήτρια\, Ομότιμη Καθηγήτρια Ιστορίας\, κ. Μαρία Ευθυμίου\, θα μας οδηγήσει σε ένα συναρπαστικό ταξίδι γνώσεων\, αναδεικνύοντας τα καίρια γεγονότα και φαινόμενα που διαμόρφωσαν την πορεία του Ελληνισμού από τα μυκηναϊκά χρόνια έως σήμερα. \nΣτόχος των ομιλιών – δράσεων είναι να γνωρίσουμε την ιστορία\, την τέχνη και τον πολιτισμό μας\, ενισχύοντας την πολιτιστική συνείδηση και την προστασία της Πολιτιστικής Κληρονομιάς. \nΣτο προσκλητήριο μήνυμά της η Πρόεδρος του Συλλόγου κ. Χρυστάλλα Παραγιουδάκη φιλόλογος αναφέρει: \n«Με μεγάλη χαρά σας προσκαλούμε να συμμετάσχετε στις εκδηλώσεις μας στο Σπίτι του Πολιτισμού\, όπου μέσα από την ομιλία της κ. Μαρίας Ευθυμίου\, θα ταξιδέψουμε στην πορεία του Ελληνισμού από τα μυκηναϊκά χρόνια έως σήμερα.\nΘα γνωρίσουμε καλύτερα την ιστορία\, την τέχνη και τον πολιτισμό μας\, μέσα από την μακραίωνη πορεία του Ελληνισμού και θα αντλήσουμε διδάγματα για το σήμερα και το μέλλον της πατρίδας μας\, στους δύσκολους καιρούς με τους πολλούς πολέμους και της απαιτήσεις των ισχυρών της γης\, όπου έχουν παραβιαστεί οι Διεθνείς Κανόνες\, το Διεθνές Δίκαιο\, το Δίκαιο της Θάλασσας και τα Ανθρώπινα Δικαιώματα». \nΕπίσης στο μήνυμά του\, ο Αντιπρόεδρος του Συλλόγου και Επίτιμος Διευθυντής Δευτεροβάθμιας Εκπαίδευσης\, Δρ. Μανούσος Μαραγκάκης\, επισημαίνει ότι «ανάμεσα στα άυλα «όπλα» του Μουσείου μας\, αλλά και της Παιδείας συνολικά\, εξέχουσα θέση κατέχει η ελληνική γλώσσα. Όπως υπενθυμίζει η Μαρία Ευθυμίου σε κάθε της ομιλία\, η ελληνική γλώσσα αποτελεί το «υπερόπλο του Ελληνισμού» και θεμελιώδη πυλώνα του πολιτισμού μας\, καθώς συνδέει αδιάρρηκτα την ιστορία του Ελληνισμού — από την αρχαιότητα έως σήμερα — με τη διαχρονικότητα και τη δύναμη της γλωσσικής μας κληρονομιάς. Πρόκειται για το κατεξοχήν κλειδί κατανόησης της ιστορικής μας διαδρομής και της συλλογικής μας ταυτότητας». \nΣας περιμένουμε να ζήσουμε μαζί ένα συναρπαστικό ταξίδι στον χρόνο\, πάνω στο καράβι της ελληνικής γλώσσας\, που μεταφέρει τη μνήμη του παρελθόντος\, φωτίζει το παρόν και μας οδηγεί με σιγουριά στο αύριο. \nΣυνδιοργάνωση & Χρηματοδότηση: Περιφέρεια Κρήτης | Δήμος Ρεθύμνου | Status Tourism Agency
URL:https://rethemnos.gr/event/omilies-me-thema-kairia-simeia-tis-istorias-toy-ellinismoy-apo-tin-epochi-ton-mykinaion-eos-simera/
LOCATION:Σπίτι του Πολιτισμού\, Βερνάδου 10\, Ρέθυμνο\, Ρεθύμνου\, 74100\, Ελλάδα
CATEGORIES:ομιλία
ATTACH;FMTTYPE=image/jpeg:https://rethemnos.gr/wp-content/uploads/2026/01/003-1.jpg
END:VEVENT
BEGIN:VEVENT
DTSTART;TZID=Europe/Athens:20260128T090000
DTEND;TZID=Europe/Athens:20260128T120000
DTSTAMP:20260426T042245
CREATED:20260122T082440Z
LAST-MODIFIED:20260122T091125Z
UID:444352-1769590800-1769601600@rethemnos.gr
SUMMARY:Ομιλίες με θέμα «Καίρια σημεία της Ιστορίας του Ελληνισμού από την εποχή των Μυκηναίων έως σήμερα»
DESCRIPTION:Ο Σύλλογος Φίλων Πολεμικού Μουσείου – Παράρτημα Χρωμοναστηρίου\, σε συνεργασία με τη Διεύθυνση Δευτεροβάθμιας Εκπαίδευσης Ρεθύμνου\, διοργανώνουν ομιλίες με τίτλο: «Καίρια σημεία της Ιστορίας του Ελληνισμού από την εποχή των Μυκηναίων έως σήμερα» \nΟι εκδηλώσεις θα φιλοξενηθούν στο Σπίτι του Πολιτισμού: \n\nΤρίτη\, 27 Ιανουαρίου 2026\, 18:30: Ομιλία ανοικτή για το κοινό\nΤετάρτη\, 28 Ιανουαρίου 2026\, πρωί: Εκπαιδευτική δράση για μαθητές/τριες Γυμνασίων και Λυκείων\n\nΗ ομιλήτρια\, Ομότιμη Καθηγήτρια Ιστορίας\, κ. Μαρία Ευθυμίου\, θα μας οδηγήσει σε ένα συναρπαστικό ταξίδι γνώσεων\, αναδεικνύοντας τα καίρια γεγονότα και φαινόμενα που διαμόρφωσαν την πορεία του Ελληνισμού από τα μυκηναϊκά χρόνια έως σήμερα. \nΣτόχος των ομιλιών – δράσεων είναι να γνωρίσουμε την ιστορία\, την τέχνη και τον πολιτισμό μας\, ενισχύοντας την πολιτιστική συνείδηση και την προστασία της Πολιτιστικής Κληρονομιάς. \nΣτο προσκλητήριο μήνυμά της η Πρόεδρος του Συλλόγου κ. Χρυστάλλα Παραγιουδάκη φιλόλογος αναφέρει: \n«Με μεγάλη χαρά σας προσκαλούμε να συμμετάσχετε στις εκδηλώσεις μας στο Σπίτι του Πολιτισμού\, όπου μέσα από την ομιλία της κ. Μαρίας Ευθυμίου\, θα ταξιδέψουμε στην πορεία του Ελληνισμού από τα μυκηναϊκά χρόνια έως σήμερα.\nΘα γνωρίσουμε καλύτερα την ιστορία\, την τέχνη και τον πολιτισμό μας\, μέσα από την μακραίωνη πορεία του Ελληνισμού και θα αντλήσουμε διδάγματα για το σήμερα και το μέλλον της πατρίδας μας\, στους δύσκολους καιρούς με τους πολλούς πολέμους και της απαιτήσεις των ισχυρών της γης\, όπου έχουν παραβιαστεί οι Διεθνείς Κανόνες\, το Διεθνές Δίκαιο\, το Δίκαιο της Θάλασσας και τα Ανθρώπινα Δικαιώματα». \nΕπίσης στο μήνυμά του\, ο Αντιπρόεδρος του Συλλόγου και Επίτιμος Διευθυντής Δευτεροβάθμιας Εκπαίδευσης\, Δρ. Μανούσος Μαραγκάκης\, επισημαίνει ότι «ανάμεσα στα άυλα «όπλα» του Μουσείου μας\, αλλά και της Παιδείας συνολικά\, εξέχουσα θέση κατέχει η ελληνική γλώσσα. Όπως υπενθυμίζει η Μαρία Ευθυμίου σε κάθε της ομιλία\, η ελληνική γλώσσα αποτελεί το «υπερόπλο του Ελληνισμού» και θεμελιώδη πυλώνα του πολιτισμού μας\, καθώς συνδέει αδιάρρηκτα την ιστορία του Ελληνισμού — από την αρχαιότητα έως σήμερα — με τη διαχρονικότητα και τη δύναμη της γλωσσικής μας κληρονομιάς. Πρόκειται για το κατεξοχήν κλειδί κατανόησης της ιστορικής μας διαδρομής και της συλλογικής μας ταυτότητας». \nΣας περιμένουμε να ζήσουμε μαζί ένα συναρπαστικό ταξίδι στον χρόνο\, πάνω στο καράβι της ελληνικής γλώσσας\, που μεταφέρει τη μνήμη του παρελθόντος\, φωτίζει το παρόν και μας οδηγεί με σιγουριά στο αύριο. \nΣυνδιοργάνωση & Χρηματοδότηση: Περιφέρεια Κρήτης | Δήμος Ρεθύμνου | Status Tourism Agency
URL:https://rethemnos.gr/event/omilies-me-thema-kairia-simeia-tis-istorias-toy-ellinismoy-apo-tin-epochi-ton-mykinaion-eos-simera-2/
LOCATION:Σπίτι του Πολιτισμού\, Βερνάδου 10\, Ρέθυμνο\, Ρεθύμνου\, 74100\, Ελλάδα
CATEGORIES:ομιλία
ATTACH;FMTTYPE=image/jpeg:https://rethemnos.gr/wp-content/uploads/2026/01/003-1.jpg
END:VEVENT
END:VCALENDAR