BEGIN:VCALENDAR
VERSION:2.0
PRODID:-//Rethemnos Live - ECPv6.15.20//NONSGML v1.0//EN
CALSCALE:GREGORIAN
METHOD:PUBLISH
X-WR-CALNAME:Rethemnos Live
X-ORIGINAL-URL:https://rethemnos.gr
X-WR-CALDESC:Events for Rethemnos Live
REFRESH-INTERVAL;VALUE=DURATION:PT1H
X-Robots-Tag:noindex
X-PUBLISHED-TTL:PT1H
BEGIN:VTIMEZONE
TZID:Europe/Athens
BEGIN:DAYLIGHT
TZOFFSETFROM:+0200
TZOFFSETTO:+0300
TZNAME:EEST
DTSTART:20250330T010000
END:DAYLIGHT
BEGIN:STANDARD
TZOFFSETFROM:+0300
TZOFFSETTO:+0200
TZNAME:EET
DTSTART:20251026T010000
END:STANDARD
BEGIN:DAYLIGHT
TZOFFSETFROM:+0200
TZOFFSETTO:+0300
TZNAME:EEST
DTSTART:20260329T010000
END:DAYLIGHT
BEGIN:STANDARD
TZOFFSETFROM:+0300
TZOFFSETTO:+0200
TZNAME:EET
DTSTART:20261025T010000
END:STANDARD
BEGIN:DAYLIGHT
TZOFFSETFROM:+0200
TZOFFSETTO:+0300
TZNAME:EEST
DTSTART:20270328T010000
END:DAYLIGHT
BEGIN:STANDARD
TZOFFSETFROM:+0300
TZOFFSETTO:+0200
TZNAME:EET
DTSTART:20271031T010000
END:STANDARD
END:VTIMEZONE
BEGIN:VEVENT
DTSTART;TZID=Europe/Athens:20260314T173000
DTEND;TZID=Europe/Athens:20260314T213000
DTSTAMP:20260426T024652
CREATED:20260309T064336Z
LAST-MODIFIED:20260309T064336Z
UID:448402-1773509400-1773523800@rethemnos.gr
SUMMARY:Ομαδική έκθεση με τίτλο «Χρώματα του Κόσμου»
DESCRIPTION:Το εργαστήρι ζωγραφικής «Σουρεάλ» παρουσιάζει την πρώτη του ομαδική έκθεση με τίτλο «Χρώματα του Κόσμου» στο Σπίτι του Πολιτισμού (Βερνάδου 12\, Παλιά πόλη). \nΣτην έκθεση συμμετέχουν παιδιά και ενήλικες του εργαστηρίου παρουσιάζοντας έργα εμπνευσμένα από αναμνήσεις\, ταξίδια\, πολιτισμούς και εικόνες από διαφορετικές γωνιές του κόσμου. \nΗ έκθεση αποτελεί μια δημιουργική συνάντηση διαφορετικών ηλικιών και εμπειριών\, όπου η τέχνη λειτουργεί ως μέσο έκφρασης επικοινωνίας και κοινωνικής σύνδεσης. \nΠληροφορίες: \nΧώρος: Σπίτι του Πολιτισμού\, Ρέθυμνο\nΔιάρκεια: 14-16 Μαρτίου\nΕγκαίνια: Σάββατο 14 Μαρτίου \,19:00\nΩράριο: Σάββατο 17:30 -21:30\, Κυριακή & Δευτέρα 10:30 -14:30 & 17:30 -21:30 \nΥπεύθυνη Έκθεσης & Εργαστηρίου: Ζίγγου Σοφία
URL:https://rethemnos.gr/event/omadiki-ekthesi-me-titlo-chromata-toy-kosmoy/
LOCATION:Σπίτι του Πολιτισμού\, Βερνάδου 10\, Ρέθυμνο\, Ρεθύμνου\, 74100\, Ελλάδα
CATEGORIES:έκθεση ζωγραφικής
ATTACH;FMTTYPE=image/jpeg:https://rethemnos.gr/wp-content/uploads/2026/03/xromata_.jpg
END:VEVENT
BEGIN:VEVENT
DTSTART;TZID=Europe/Athens:20260314T193000
DTEND;TZID=Europe/Athens:20260314T193000
DTSTAMP:20260426T024652
CREATED:20260311T095538Z
LAST-MODIFIED:20260311T195036Z
UID:448737-1773516600-1773516600@rethemnos.gr
SUMMARY:Μουσική συνάντηση Ρεθύμνου – Παλλήνης στο Σπίτι του Πολιτισμού
DESCRIPTION:Το Μουσικό Σχολείο Ρεθύμνου και το Πειραματικό Μουσικό Γυμνάσιο-Λύκειο Παλλήνης έχουν την ιδιαίτερη τιμή να σας προσκαλέσουν στη μουσική εκδήλωση με τίτλο: «Ρέθυμνο – Παλλήνη: Μια χορδή δρόμος» \nΗ κοινή αυτή συναυλία αποτελεί μια γέφυρα πολιτισμού και δημιουργίας μεταξύ των δύο εκπαιδευτικών ιδρυμάτων\, αναδεικνύοντας το ταλέντο και τη συστηματική εργασία των μαθητών τους. \nΣτο πρόγραμμα συμμετέχουν τα εξής μουσικά σύνολα: \n\nΣύνολο Κλασικής Κιθάρας «Αθηνά» του Πειραματικού Μουσικού Σχολείου Παλλήνης.\nΣύνολο Κλασικής Κιθάρας «Θαλήτας» του Μουσικού Σχολείου Ρεθύμνου.\nΠαραδοσιακό Σύνολο «Δώσε Θάρρος στο χωριάτη» του Πειραματικού Μουσικού Σχολείου Παλλήνης.\nΠαραδοσιακό Σύνολο «Ηχογέφυρες» του Μουσικού Σχολείου Ρεθύμνου.\n\nΠληροφορίες εκδήλωσης: \n\nΗμερομηνία: Σάββατο\, 14 Μαρτίου 2026\nΏρα έναρξης: 19:30\nΤοποθεσία: Σπίτι του Πολιτισμού\, Ρέθυμνο\n\nΗ παρουσία σας θα μας δώσει ιδιαίτερη χαρά και θα αποτελέσει τιμή για τους μαθητές και τους εκπαιδευτικούς που εργάστηκαν για την πραγματοποίηση αυτής της βραδιάς. \nΗ είσοδος είναι ελεύθερη για το κοινό. \nΜε εκτίμηση\,\nΗ Διεύθυνση και ο Σύλλογος Διδασκόντων\nΜουσικού Σχολείου Ρέθυμνου
URL:https://rethemnos.gr/event/moysiki-synantisi-rethymnoy-pallinis-sto-spiti-toy-politismoy/
LOCATION:Σπίτι του Πολιτισμού\, Βερνάδου 10\, Ρέθυμνο\, Ρεθύμνου\, 74100\, Ελλάδα
CATEGORIES:συναυλία
ATTACH;FMTTYPE=image/jpeg:https://rethemnos.gr/wp-content/uploads/2026/03/001-1.jpg
END:VEVENT
END:VCALENDAR