BEGIN:VCALENDAR
VERSION:2.0
PRODID:-//Rethemnos Live - ECPv6.15.20//NONSGML v1.0//EN
CALSCALE:GREGORIAN
METHOD:PUBLISH
X-ORIGINAL-URL:https://rethemnos.gr
X-WR-CALDESC:Events for Rethemnos Live
REFRESH-INTERVAL;VALUE=DURATION:PT1H
X-Robots-Tag:noindex
X-PUBLISHED-TTL:PT1H
BEGIN:VTIMEZONE
TZID:Europe/Athens
BEGIN:DAYLIGHT
TZOFFSETFROM:+0200
TZOFFSETTO:+0300
TZNAME:EEST
DTSTART:20250330T010000
END:DAYLIGHT
BEGIN:STANDARD
TZOFFSETFROM:+0300
TZOFFSETTO:+0200
TZNAME:EET
DTSTART:20251026T010000
END:STANDARD
BEGIN:DAYLIGHT
TZOFFSETFROM:+0200
TZOFFSETTO:+0300
TZNAME:EEST
DTSTART:20260329T010000
END:DAYLIGHT
BEGIN:STANDARD
TZOFFSETFROM:+0300
TZOFFSETTO:+0200
TZNAME:EET
DTSTART:20261025T010000
END:STANDARD
BEGIN:DAYLIGHT
TZOFFSETFROM:+0200
TZOFFSETTO:+0300
TZNAME:EEST
DTSTART:20270328T010000
END:DAYLIGHT
BEGIN:STANDARD
TZOFFSETFROM:+0300
TZOFFSETTO:+0200
TZNAME:EET
DTSTART:20271031T010000
END:STANDARD
END:VTIMEZONE
BEGIN:VEVENT
DTSTART;TZID=Europe/Athens:20260508T210000
DTEND;TZID=Europe/Athens:20260508T223000
DTSTAMP:20260424T131534
CREATED:20260404T221014Z
LAST-MODIFIED:20260417T091233Z
UID:409200-1778274000-1778279400@rethemnos.gr
SUMMARY:«Ανθολόγιο»: 30 χρόνια stand up comedy με το Δημήτρη Δημόπουλο στο The Garage
DESCRIPTION:Δημήτρης Δημόπουλος\, Ανθολόγιο-30 χρόνια σταντ-απ σε μία παράσταση. Για μόνο μία παράσταση στο Ρέθυμνο την Παρασκευή 8 Μαΐου στο The Garage! \nΠώς χωράνε 30 χρόνια κωμωδίας σε μία παράσταση; Δύσκολα\, οπότε ας το αφήσουμε στην τύχη! Ο Δημήτρης Δημόπουλος\, από τους πρώτους σταντ-απ κωμικούς στην Ελλάδα\, συγκεντρώνει τα κείμενά του καθώς και αφηγήσεις από απρόσμενα συμβάντα στη μακρόχρονη πορεία του στην κωμωδία και κληρώνει τι θα παίξει κάθε φορά. \nΤο αποτέλεσμα: μια μοναδική παράσταση σε κάθε Ανθολόγιο με αποσπάσματα από τα πρώτα του κείμενα στις Νύχτες Κωμωδίας και το κλασικό πια Αντί Διδακτορικού μέχρι το άκρως πρωτότυπο σόλο του Καμένος στη Μετάφραση. \nΑνθολόγιο-30 χρόνια σταντ-απ σε μία παράσταση\nΚείμενα\, παρουσίαση: Δημήτρης Δημόπουλος\nThe Garage\, Δημοκρατίας 53\, Ρέθυμνο\nΠαρασκευή\, 8 Μαΐου στις 21:00\nΔιάρκεια: 90’\nΕισιτήρια: 10€ προπώληση\, 12€ την ημέρα της παράστασης\nΠροπώληση: more.com \nΠληροφορίες: 6932492752 \nΗ παράσταση τελεί υπό την αιγίδα της Σκέπης Κέντρου Πολιτισμού Ιδρύματος Δημήτρης Δημόπουλος (ΣΚΠΙΔΔ).
URL:https://rethemnos.gr/event/anthologio-30-chronia-stand-up-comedy-me-to-dimitri-dimopoylo-sto-the-garage/
LOCATION:The Garage\, Δημοκρατίας 53\, Rethymno\, Rethymno\, Ρεθύμνου\, 74132\, Greece
CATEGORIES:stand up comedy
ATTACH;FMTTYPE=image/jpeg:https://rethemnos.gr/wp-content/uploads/2025/05/111-1.jpg
END:VEVENT
END:VCALENDAR