BEGIN:VCALENDAR
VERSION:2.0
PRODID:-//Rethemnos Live - ECPv6.15.20//NONSGML v1.0//EN
CALSCALE:GREGORIAN
METHOD:PUBLISH
X-ORIGINAL-URL:https://rethemnos.gr
X-WR-CALDESC:Events for Rethemnos Live
REFRESH-INTERVAL;VALUE=DURATION:PT1H
X-Robots-Tag:noindex
X-PUBLISHED-TTL:PT1H
BEGIN:VTIMEZONE
TZID:Europe/Athens
BEGIN:DAYLIGHT
TZOFFSETFROM:+0200
TZOFFSETTO:+0300
TZNAME:EEST
DTSTART:20250330T010000
END:DAYLIGHT
BEGIN:STANDARD
TZOFFSETFROM:+0300
TZOFFSETTO:+0200
TZNAME:EET
DTSTART:20251026T010000
END:STANDARD
BEGIN:DAYLIGHT
TZOFFSETFROM:+0200
TZOFFSETTO:+0300
TZNAME:EEST
DTSTART:20260329T010000
END:DAYLIGHT
BEGIN:STANDARD
TZOFFSETFROM:+0300
TZOFFSETTO:+0200
TZNAME:EET
DTSTART:20261025T010000
END:STANDARD
BEGIN:DAYLIGHT
TZOFFSETFROM:+0200
TZOFFSETTO:+0300
TZNAME:EEST
DTSTART:20270328T010000
END:DAYLIGHT
BEGIN:STANDARD
TZOFFSETFROM:+0300
TZOFFSETTO:+0200
TZNAME:EET
DTSTART:20271031T010000
END:STANDARD
END:VTIMEZONE
BEGIN:VEVENT
DTSTART;TZID=Europe/Athens:20260726T213000
DTEND;TZID=Europe/Athens:20260726T230000
DTSTAMP:20260425T000336
CREATED:20260421T220427Z
LAST-MODIFIED:20260423T182343Z
UID:369291-1785101400-1785106800@rethemnos.gr
SUMMARY:Η παράσταση «Οθέλλος» του Σαίξπηρ στο θέατρο Ερωφίλη
DESCRIPTION:Το εμβληματικό έργο «Οθέλλος» του Ουίλιαμ Σαίξπηρ\, σε σκηνοθεσία Γιάννη Μπέζου\, με πρωταγωνιστές τον Πυγμαλίωνα Δαδακαρίδη\, τον Μιχάλη Σαράντη\, τη Στεφανία Γουλιώτη\, την Ιωάννα Δεμερτζίδου περιοδεύει το καλοκαίρι του 2026 σε όλη την Ελλάδα. \nΤη σκηνοθεσία υπογράφει ο Γιάννης Μπέζος\, που επιστρέφει στον Σαίξπηρ με μια σύγχρονη και βαθιά ανθρώπινη ματιά πάνω στο διαχρονικό έργο για τη ζήλια\, την εξουσία\, την εξαπάτηση και την καταστροφική δύναμη της χειραγώγησης. \nΤο ρόλο του στρατηγού Οθέλλου θα ενσαρκώσει ο Πυγμαλίων Δαδακαρίδης\, ενώ τον σκοτεινό και αινιγματικό Ιάγο θα ερμηνεύσει ο Μιχάλης Σαράντης\, σε μια σκηνική αναμέτρηση δύο σπουδαίων ηθοποιών\, που αναμένεται να αποτελέσει ένα από τα θεατρικά γεγονότα του καλοκαιριού. Το ρόλο της Δυσδαιμόνας\, της νεαρής συζύγου του Οθέλλου που γίνεται το τραγικό θύμα της ζήλιας και της εξαπάτησης\, θα ενσαρκώσει η Ιωάννα Δεμερτζίδου\, ενώ το ρόλο της Αιμιλίας – συζύγου του Ιάγου – που σταδιακά αποκαλύπτει την αλήθεια και λειτουργεί ως ηθικός πυρήνας της ιστορίας\, θα ερμηνεύσει η Στεφανία Γουλιώτη. \nΜαζί τους\, επί σκηνής\, ένας σπουδαίος θίασος με τους: Φώτη Θωμαΐδη\, Βαγγέλη Αμπατζή\, Άρη Νινίκα\, Πήτερ Ραντλ\, Γιώργο Ζαφειρόπουλο\, Γεωργία Συφιανού\, Θράσο Σταθόπουλο. \n \nΟ «Οθέλλος» αφηγείται την ιστορία ενός ένδοξου στρατηγού που\, παγιδευμένος από τη ζήλια και τη χειραγώγηση\, οδηγείται σε μια τραγική πορεία αυτοκαταστροφής. Στον πυρήνα του έργου βρίσκεται η διαβρωτική δύναμη της καχυποψίας και η λεπτή γραμμή ανάμεσα στην εμπιστοσύνη και την προδοσία. Παράλληλα\, το έργο φωτίζει με οξύτητα ζητήματα ξενοφοβίας και ρατσισμού\, που περιβάλλουν τον Οθέλλο ως «ξένο» μέσα σε μια κοινωνία που τον θαυμάζει\, αλλά ποτέ δεν τον αποδέχεται πλήρως. Ο Ιάγος\, ένας από τους πιο σύνθετους και σκοτεινούς χαρακτήρες της δραματουργίας\, υφαίνει ένα αριστοτεχνικό σχέδιο εξαπάτησης που θα παρασύρει τους πάντες σε μια αλυσίδα μοιραίων γεγονότων. \nΜε οδηγό τον ποιητικό λόγο του Σαίξπηρ και με έμφαση στη δύναμη της ανθρώπινης σύγκρουσης\, η παράσταση επιχειρεί να φωτίσει τις διαχρονικές πλευρές του έργου: τον φόβο της απώλειας\, τη δύναμη της χειραγώγησης\, αλλά και τη λεπτή ισορροπία ανάμεσα στον έρωτα και την καταστροφή. Ταυτόχρονα\, αναδεικνύει τη βαθιά κοινωνική διάσταση του έργου\, υπενθυμίζοντας πόσο εύκολα ο φόβος του «άλλου» μπορεί να μετατραπεί σε προκατάληψη\, ξενοφοβία και ρατσισμό. \nΣυντελεστές: \nΜετάφραση: Διονύσης Καψάλης\nΣκηνοθεσία: Γιάννης Μπέζος\nΣκηνογραφία: Αθανασία Σμαραγδή\nΕνδυματολογία: Βίκυ Ρουμπέκα\nΜουσική: Φώτης Σιώτας\nΚίνηση: Σταύρος Ικμπάλ\nΣχεδιασμός φωτισμών: Μελίνα Μάσχα\nΒοηθός σκηνοθεσίας: ΣτελίναΚαρασαββίδου\nΦωτογραφίες\, Trailer&Artwork αφίσας: Γκέλυ Καλαμπάκα\nSocialmedia:RenegadeMedia\nΔημόσιες Σχέσεις & Επικοινωνία: Όλγα Παυλάτου\nΠαραγωγή: Θεατρικές Επιχειρήσεις Τάγαρη \nΔιανομή\nΟθέλλος: Πυγμαλίων Δαδακαρίδης\nΙάγος: Μιχάλης Σαράντης\nΑιμιλία: Στεφανία Γουλιώτη\nΔυσδαιμόνα: Ιωάννα Δεμερτζίδου\nΒραβάντιος: Φώτης Θωμαΐδης\nΚάσσιος: Βαγγέλης Αμπατζής\nΡοδρίγος: Άρης Νινίκας\nΜοντάνο:ΠήτερΡαντλ\nΔόγης: Γιώργος Ζαφειρόπουλος\nΜπιάνκα:Γεωργία Συφιανού\nΛουδοβίκος: Θράσος Σταθόπουλος \nΚυριακή 26 Ιουλίου – Έναρξη 21:30\nΡέθυμνο\, Θέατρο Ερωφίλη – Κάστρο Φορτέτζα\nΕίσοδος 25€ – Προπώληση 20€ \nΠΡΟΠΩΛΗΣΗ ΕΙΣΙΤΗΡΙΩΝ στο more.com
URL:https://rethemnos.gr/event/i-parastasi-othellos-toy-oyiliam-saixpir-sto-theatro-erofili/
LOCATION:Θέατρο Ερωφίλη\, Erofili Theatre\, Ρέθυμνο\, Ρεθύμνου\, 74100\, Greece
CATEGORIES:θέατρο,χορός
ATTACH;FMTTYPE=image/jpeg:https://rethemnos.gr/wp-content/uploads/2026/03/othello.jpg
END:VEVENT
END:VCALENDAR