BEGIN:VCALENDAR
VERSION:2.0
PRODID:-//Rethemnos Live - ECPv6.15.20//NONSGML v1.0//EN
CALSCALE:GREGORIAN
METHOD:PUBLISH
X-WR-CALNAME:Rethemnos Live
X-ORIGINAL-URL:https://rethemnos.gr
X-WR-CALDESC:Events for Rethemnos Live
REFRESH-INTERVAL;VALUE=DURATION:PT1H
X-Robots-Tag:noindex
X-PUBLISHED-TTL:PT1H
BEGIN:VTIMEZONE
TZID:Europe/Athens
BEGIN:DAYLIGHT
TZOFFSETFROM:+0200
TZOFFSETTO:+0300
TZNAME:EEST
DTSTART:20250330T010000
END:DAYLIGHT
BEGIN:STANDARD
TZOFFSETFROM:+0300
TZOFFSETTO:+0200
TZNAME:EET
DTSTART:20251026T010000
END:STANDARD
BEGIN:DAYLIGHT
TZOFFSETFROM:+0200
TZOFFSETTO:+0300
TZNAME:EEST
DTSTART:20260329T010000
END:DAYLIGHT
BEGIN:STANDARD
TZOFFSETFROM:+0300
TZOFFSETTO:+0200
TZNAME:EET
DTSTART:20261025T010000
END:STANDARD
BEGIN:DAYLIGHT
TZOFFSETFROM:+0200
TZOFFSETTO:+0300
TZNAME:EEST
DTSTART:20270328T010000
END:DAYLIGHT
BEGIN:STANDARD
TZOFFSETFROM:+0300
TZOFFSETTO:+0200
TZNAME:EET
DTSTART:20271031T010000
END:STANDARD
END:VTIMEZONE
BEGIN:VEVENT
DTSTART;TZID=Europe/Athens:20260429T193000
DTEND;TZID=Europe/Athens:20260429T193000
DTSTAMP:20260424T011654
CREATED:20260420T111121Z
LAST-MODIFIED:20260420T111206Z
UID:452081-1777491000-1777491000@rethemnos.gr
SUMMARY:Διάλεξη με θέμα «Η εισαγωγή του φασισμού στην Ελλάδα»
DESCRIPTION:Το Τμήμα Ιστορίας και Αρχαιολογίας του Πανεπιστημίου Κρήτης διοργανώνει την τρίτη διάλεξη του κύκλου «Διαλέξεις Ιστορίας και Αρχαιολογίας στο Ρέθυμνο». Η εκδήλωση θα πραγματοποιηθεί την Τετάρτη 29 Απριλίου 2026 και ώρα 19:30\, στο Φοιτητικό Πολιτιστικό Κέντρο Ξενία. Η διάλεξη απευθύνεται τόσο στην ακαδημαϊκή κοινότητα όσο και στο ευρύ κοινό. \nΤο θέμα της διάλεξης είναι «Η εισαγωγή του φασισμού στην Ελλάδα»\, με ομιλητή τον Επίκουρο Καθηγητή Σύγχρονης Ιστορίας\, κ. Παρασκευά Ματάλα. Τη συζήτηση θα συντονίσει ο Αναπληρωτής Καθηγητής Νεότερης Ιστορίας\, κ. Γιάννης Κοκκινάκης. \nΗ εισήγηση θα εστιάσει στην εμφάνιση του φασισμού στην Ελλάδα\, ακολουθώντας την αρχική του παρουσία στην Ιταλία και την Ευρώπη μετά το τέλος του Πρώτου Παγκοσμίου Πολέμου. Συγκεκριμένα\, θα αναλυθεί διεξοδικά ο τρόπος με τον οποίο προσλαμβάνονται στον ελληνικό χώρο οι ιδέες\, το όνομα\, τα σύμβολα και οι πρακτικές του φασισμού\, καλύπτοντας την περίοδο από τις αρχές της δεκαετίας του 1920 μέχρι και την περίοδο της Κατοχής. \nΣτο πλαίσιο αυτό\, θα εξεταστούν τα αίτια εμφάνισης Ελλήνων υποστηρικτών\, καθώς και οι διαφορετικές μορφές που πήρε ο ελληνικός φασισμός. Επιπλέον\, θα συζητηθεί εάν επρόκειτο για ένα περιθωριακό φαινόμενο\, καθώς και ο ρόλος που διαδραμάτισε στη δικτατορία της 4ης Αυγούστου και στη συνεργασία με τη γερμανο-ιταλική κατοχή.
URL:https://rethemnos.gr/event/dialexi-me-thema-i-eisagogi-toy-fasismoy-stin-ellada/
LOCATION:Φοιτητική Εστία – Πολιτιστικό Κέντρο Ξενία\, Ψαρρού 46\, Ρέθυμνο\, Ρεθύμνου\, 74100
CATEGORIES:ομιλία
ATTACH;FMTTYPE=image/jpeg:https://rethemnos.gr/wp-content/uploads/2026/04/67459404.jpg
END:VEVENT
END:VCALENDAR