BEGIN:VCALENDAR
VERSION:2.0
PRODID:-//Rethemnos Live - ECPv6.15.20//NONSGML v1.0//EN
CALSCALE:GREGORIAN
METHOD:PUBLISH
X-ORIGINAL-URL:https://rethemnos.gr
X-WR-CALDESC:Events for Rethemnos Live
REFRESH-INTERVAL;VALUE=DURATION:PT1H
X-Robots-Tag:noindex
X-PUBLISHED-TTL:PT1H
BEGIN:VTIMEZONE
TZID:Europe/Athens
BEGIN:DAYLIGHT
TZOFFSETFROM:+0200
TZOFFSETTO:+0300
TZNAME:EEST
DTSTART:20250330T010000
END:DAYLIGHT
BEGIN:STANDARD
TZOFFSETFROM:+0300
TZOFFSETTO:+0200
TZNAME:EET
DTSTART:20251026T010000
END:STANDARD
BEGIN:DAYLIGHT
TZOFFSETFROM:+0200
TZOFFSETTO:+0300
TZNAME:EEST
DTSTART:20260329T010000
END:DAYLIGHT
BEGIN:STANDARD
TZOFFSETFROM:+0300
TZOFFSETTO:+0200
TZNAME:EET
DTSTART:20261025T010000
END:STANDARD
BEGIN:DAYLIGHT
TZOFFSETFROM:+0200
TZOFFSETTO:+0300
TZNAME:EEST
DTSTART:20270328T010000
END:DAYLIGHT
BEGIN:STANDARD
TZOFFSETFROM:+0300
TZOFFSETTO:+0200
TZNAME:EET
DTSTART:20271031T010000
END:STANDARD
END:VTIMEZONE
BEGIN:VEVENT
DTSTART;TZID=Europe/Athens:20260126T180000
DTEND;TZID=Europe/Athens:20260126T180000
DTSTAMP:20260423T180742
CREATED:20260119T154611Z
LAST-MODIFIED:20260125T094618Z
UID:444002-1769450400-1769450400@rethemnos.gr
SUMMARY:Παρουσίαση του βιβλίου «ΚΟΣΜΙΚΟ ΠΡΟΣΕΥΧΗΤΑΡΙ» στο Ρέθυμνο
DESCRIPTION:Μετά τη μεγάλη ανταπόκριση του κοινού στην Αθήνα\, το βιβλίο «ΚΟΣΜΙΚΟ ΠΡΟΣΕΥΧΗΤΑΡΙ» του συγγραφέα Ερωτόκριτου Κυμιωνή παρουσιάζεται στο Ρέθυμνο\, τη Δευτέρα 26 Ιανουαρίου 2026\, στις 5:55 μ.μ.\, στο ξενοδοχείο Jo–An Palace (Δημητρακάκη 8). \nΠρόκειται για ένα έργο πνευματικού χαρακτήρα\, που εστιάζει στη Νοερά Προσευχή ως δρόμο εσωτερικής γαλήνης\, αυτογνωσίας και ουσιαστικής σύνδεσης με το θείο. Το βιβλίο έχει ήδη αγγίξει χιλιάδες αναγνώστες\, δημιουργώντας έναν ζωντανό διάλογο γύρω από την προσευχή ως βίωμα και πράξη ζωής. \nΤην παρουσίαση της εκδήλωσης θα πραγματοποιήσει η δημοσιογράφος υγείας Εύα Ντελιδάκη και θα προλογίσουν σημαντικοί άνθρωποι του Ρεθύμνου \nΗ εκδήλωση διοργανώνεται από τον οργανισμό «Μανώλη Μαζί Μπορούμε – Σχολή Αγάπης Εαυτού Ρεθύμνου». \nΗ είσοδος είναι ελεύθερη για το κοινό. \nΠληροφορίες – Υπεύθυνη οργανισμού Ρεθύμνου: Μαρία Νικολακάκη  – 6988438875
URL:https://rethemnos.gr/event/paroysiasi-vivlioy-kosmiko-proseychitari-sto-rethymno/
LOCATION:Ξενοδοχείο JO-AN Palace\, Δημητρακάκη 8\, Ρέθυμνο\, Ρεθύμνου\, 74100\, Ελλάδα
CATEGORIES:παρουσίαση βιβλίου
ATTACH;FMTTYPE=image/jpeg:https://rethemnos.gr/wp-content/uploads/2026/01/IMG_4967.jpeg
END:VEVENT
END:VCALENDAR