BEGIN:VCALENDAR
VERSION:2.0
PRODID:-//Rethemnos Live - ECPv6.15.20//NONSGML v1.0//EN
CALSCALE:GREGORIAN
METHOD:PUBLISH
X-ORIGINAL-URL:https://rethemnos.gr
X-WR-CALDESC:Events for Rethemnos Live
REFRESH-INTERVAL;VALUE=DURATION:PT1H
X-Robots-Tag:noindex
X-PUBLISHED-TTL:PT1H
BEGIN:VTIMEZONE
TZID:Europe/Athens
BEGIN:DAYLIGHT
TZOFFSETFROM:+0200
TZOFFSETTO:+0300
TZNAME:EEST
DTSTART:20250330T010000
END:DAYLIGHT
BEGIN:STANDARD
TZOFFSETFROM:+0300
TZOFFSETTO:+0200
TZNAME:EET
DTSTART:20251026T010000
END:STANDARD
BEGIN:DAYLIGHT
TZOFFSETFROM:+0200
TZOFFSETTO:+0300
TZNAME:EEST
DTSTART:20260329T010000
END:DAYLIGHT
BEGIN:STANDARD
TZOFFSETFROM:+0300
TZOFFSETTO:+0200
TZNAME:EET
DTSTART:20261025T010000
END:STANDARD
BEGIN:DAYLIGHT
TZOFFSETFROM:+0200
TZOFFSETTO:+0300
TZNAME:EEST
DTSTART:20270328T010000
END:DAYLIGHT
BEGIN:STANDARD
TZOFFSETFROM:+0300
TZOFFSETTO:+0200
TZNAME:EET
DTSTART:20271031T010000
END:STANDARD
END:VTIMEZONE
BEGIN:VEVENT
DTSTART;TZID=Europe/Athens:20260328T220000
DTEND;TZID=Europe/Athens:20260328T220000
DTSTAMP:20260426T050954
CREATED:20260227T135520Z
LAST-MODIFIED:20260324T212620Z
UID:244731-1774735200-1774735200@rethemnos.gr
SUMMARY:O Βαλεντίνο\, η Βάσω Καμαρίτη και ο Σήφης Κατσαμάς ζωντανά στο UPANO
DESCRIPTION:O Βαλεντίνο\, η Βάσω Καμαρίτη και ο Σήφης Κατσαμάς ζωντανά στο UPANO (Πλατανιάς\, Ρέθυμνο). \nΈναρξη 22.00. \nΤηλέφωνο κρατήσεων 69810 38552.
URL:https://rethemnos.gr/event/valentino-kamariti-katsamas-zontana-sto-upano/
LOCATION:UPΑΝΩ\, Μάχης Κρήτης 149\, Πλατανιάς Ρεθύμνου\, Ρεθύμνου\, Ελλάδα
CATEGORIES:ζωντανή μουσική
ATTACH;FMTTYPE=image/jpeg:https://rethemnos.gr/wp-content/uploads/2026/02/IMG_6567.jpeg
END:VEVENT
BEGIN:VEVENT
DTSTART;TZID=Europe/Athens:20260328T220000
DTEND;TZID=Europe/Athens:20260328T220000
DTSTAMP:20260426T050954
CREATED:20260320T181034Z
LAST-MODIFIED:20260325T181715Z
UID:444111-1774735200-1774735200@rethemnos.gr
SUMMARY:Η Σοφία Σταθάκη ζωντανά στο Adama
DESCRIPTION:Το Adama Restaurant Bar (Τίτου Πετυχάκη 31–33\, Ρέθυμνο) φιλοξενεί τη Σοφία Σταθάκη σε μια ζωντανή μουσική βραδιά με ώρα έναρξης 22:00. \nΜαζί της οι Hot Aliens. \nΠληροφορίες & Κρατήσεις: 28310 40879 – 6981043326
URL:https://rethemnos.gr/event/i-sofia-stathaki-zontana-sto-adama/
LOCATION:ADAMA Restaurant Bar\, Τίτου Πετυχάκη 33\, Ρέθυμνο\, Ρεθύμνου\, 74100\, Greece
CATEGORIES:ζωντανή μουσική
ATTACH;FMTTYPE=image/jpeg:https://rethemnos.gr/wp-content/uploads/2026/03/IMG_6604.jpeg
END:VEVENT
END:VCALENDAR