BEGIN:VCALENDAR
VERSION:2.0
PRODID:-//Rethemnos Live - ECPv6.15.20//NONSGML v1.0//EN
CALSCALE:GREGORIAN
METHOD:PUBLISH
X-WR-CALNAME:Rethemnos Live
X-ORIGINAL-URL:https://rethemnos.gr
X-WR-CALDESC:Events for Rethemnos Live
REFRESH-INTERVAL;VALUE=DURATION:PT1H
X-Robots-Tag:noindex
X-PUBLISHED-TTL:PT1H
BEGIN:VTIMEZONE
TZID:Europe/Athens
BEGIN:DAYLIGHT
TZOFFSETFROM:+0200
TZOFFSETTO:+0300
TZNAME:EEST
DTSTART:20250330T010000
END:DAYLIGHT
BEGIN:STANDARD
TZOFFSETFROM:+0300
TZOFFSETTO:+0200
TZNAME:EET
DTSTART:20251026T010000
END:STANDARD
BEGIN:DAYLIGHT
TZOFFSETFROM:+0200
TZOFFSETTO:+0300
TZNAME:EEST
DTSTART:20260329T010000
END:DAYLIGHT
BEGIN:STANDARD
TZOFFSETFROM:+0300
TZOFFSETTO:+0200
TZNAME:EET
DTSTART:20261025T010000
END:STANDARD
BEGIN:DAYLIGHT
TZOFFSETFROM:+0200
TZOFFSETTO:+0300
TZNAME:EEST
DTSTART:20270328T010000
END:DAYLIGHT
BEGIN:STANDARD
TZOFFSETFROM:+0300
TZOFFSETTO:+0200
TZNAME:EET
DTSTART:20271031T010000
END:STANDARD
END:VTIMEZONE
BEGIN:VEVENT
DTSTART;TZID=Europe/Athens:20260403T213000
DTEND;TZID=Europe/Athens:20260403T213000
DTSTAMP:20260426T050903
CREATED:20251230T123949Z
LAST-MODIFIED:20260402T070013Z
UID:441826-1775251800-1775251800@rethemnos.gr
SUMMARY:Ρεμπέτικη βραδιά στην Delina στα Ανώγεια
DESCRIPTION:Ρεμπέτικη βραδιά στην Delina στα Ανώγεια με τους Μιχαλή Σκουλά\, Θανάση Κανακουσάκη και Ελένη Τορνεσάκη. \nΚάθε Παρασκευή στις 21:30. \n\nΤηλ. Κρατήσεων 2834031701 & 6945667265. \n\n\n\n\n 
URL:https://rethemnos.gr/event/rempetiki-vradia-stin-delina-sta-anogeia-par/
LOCATION:Delina Mountain Resort\, Delina Mountain Resort\, Ανώγεια\, Ανώγεια\, Ελλάδα
CATEGORIES:ζωντανή μουσική
ATTACH;FMTTYPE=image/jpeg:https://rethemnos.gr/wp-content/uploads/2025/12/IMG_5374.jpeg
END:VEVENT
BEGIN:VEVENT
DTSTART;TZID=Europe/Athens:20260403T220000
DTEND;TZID=Europe/Athens:20260403T220000
DTSTAMP:20260426T050903
CREATED:20251107T082238Z
LAST-MODIFIED:20260402T070006Z
UID:414768-1775253600-1775253600@rethemnos.gr
SUMMARY:Μουσική βραδιά στο μεζεδοπωλείο Μπακαλόγατος
DESCRIPTION:Μουσική βραδιά στο μεζεδοπωλείο Μπακαλόγατος με τη Νίκη Σταμπουλή και το Στέλιο Δραμηλαράκη. \nΈναρξη 22.00. \nΤηλ. 28310 20550.
URL:https://rethemnos.gr/event/moysiki-vradia-sto-mezedopoleio-mpakalogatos-par/
LOCATION:Μεζεδοπωλείο Μπακαλόγατος\, Τίτου Πετυχάκη 15\, Ρέθυμνο\, Ρεθύμνου\, 74100\, Ελλάδα
CATEGORIES:ζωντανή μουσική
ATTACH;FMTTYPE=image/jpeg:https://rethemnos.gr/wp-content/uploads/2025/11/IMG_4780.jpeg
END:VEVENT
BEGIN:VEVENT
DTSTART;TZID=Europe/Athens:20260403T220000
DTEND;TZID=Europe/Athens:20260403T220000
DTSTAMP:20260426T050903
CREATED:20260311T083158Z
LAST-MODIFIED:20260402T072724Z
UID:438656-1775253600-1775253600@rethemnos.gr
SUMMARY:O Διονύσης Σπανουδάκης και η Μιχαέλα Βρυθιά στο Cul De Sac
DESCRIPTION:O Διονύσης Σπανουδάκης και η Μιχαέλα Βρυθιά ζωντανά στο Cul De Sac (Τίτου Πετυχάκη 5-9\, Παλιά πόλη). \nΈναρξη 22:00. \nΤηλ. Κρατήσεων 6984 046218.
URL:https://rethemnos.gr/event/apanoydakis-vrythia-cul-de-sac/
LOCATION:Cul De Sac\, Cul De Sac Cafe - Bar - Restaurant\, Ρέθυμνο\, Ρεθύμνου\, 74131\, Greece
CATEGORIES:ζωντανή μουσική
ATTACH;FMTTYPE=image/jpeg:https://rethemnos.gr/wp-content/uploads/2026/01/003-3.jpg
END:VEVENT
END:VCALENDAR