BEGIN:VCALENDAR
VERSION:2.0
PRODID:-//Rethemnos Live - ECPv6.15.20//NONSGML v1.0//EN
CALSCALE:GREGORIAN
METHOD:PUBLISH
X-ORIGINAL-URL:https://rethemnos.gr
X-WR-CALDESC:Events for Rethemnos Live
REFRESH-INTERVAL;VALUE=DURATION:PT1H
X-Robots-Tag:noindex
X-PUBLISHED-TTL:PT1H
BEGIN:VTIMEZONE
TZID:Europe/Athens
BEGIN:DAYLIGHT
TZOFFSETFROM:+0200
TZOFFSETTO:+0300
TZNAME:EEST
DTSTART:20250330T010000
END:DAYLIGHT
BEGIN:STANDARD
TZOFFSETFROM:+0300
TZOFFSETTO:+0200
TZNAME:EET
DTSTART:20251026T010000
END:STANDARD
BEGIN:DAYLIGHT
TZOFFSETFROM:+0200
TZOFFSETTO:+0300
TZNAME:EEST
DTSTART:20260329T010000
END:DAYLIGHT
BEGIN:STANDARD
TZOFFSETFROM:+0300
TZOFFSETTO:+0200
TZNAME:EET
DTSTART:20261025T010000
END:STANDARD
BEGIN:DAYLIGHT
TZOFFSETFROM:+0200
TZOFFSETTO:+0300
TZNAME:EEST
DTSTART:20270328T010000
END:DAYLIGHT
BEGIN:STANDARD
TZOFFSETFROM:+0300
TZOFFSETTO:+0200
TZNAME:EET
DTSTART:20271031T010000
END:STANDARD
END:VTIMEZONE
BEGIN:VEVENT
DTSTART;TZID=Europe/Athens:20260423T210000
DTEND;TZID=Europe/Athens:20260423T210000
DTSTAMP:20260426T002234
CREATED:20260311T082444Z
LAST-MODIFIED:20260420T061745Z
UID:378254-1776978000-1776978000@rethemnos.gr
SUMMARY:Οι Hot Aliens ζωντανά στο Bricks
DESCRIPTION:Οι Hot Aliens ζωντανά στο Bricks\, σε ένα ακουστικό set με επιλογές από rock\, soul\, blues και pop\, που κινείται ανάμεσα σε κλασικά και σύγχρονα κομμάτια\, με έμφαση στη λιτή ενορχήστρωση και τη ζωντανή απόδοση. \nTηλ. κρατήσεων 6975974338.
URL:https://rethemnos.gr/event/oi-hot-aliens-amp-i-sofia-stathaki-zontana-sto-bricks/
LOCATION:Bricks\, Eleftheríou Venizélou\, Rethymno\, Ρεθύμνου\, 741 31\, Greece
CATEGORIES:ζωντανή μουσική
ATTACH;FMTTYPE=image/jpeg:https://rethemnos.gr/wp-content/uploads/2026/03/001-10.jpg
END:VEVENT
END:VCALENDAR