BEGIN:VCALENDAR
VERSION:2.0
PRODID:-//Rethemnos Live - ECPv6.15.20//NONSGML v1.0//EN
CALSCALE:GREGORIAN
METHOD:PUBLISH
X-ORIGINAL-URL:https://rethemnos.gr
X-WR-CALDESC:Events for Rethemnos Live
REFRESH-INTERVAL;VALUE=DURATION:PT1H
X-Robots-Tag:noindex
X-PUBLISHED-TTL:PT1H
BEGIN:VTIMEZONE
TZID:Europe/Athens
BEGIN:DAYLIGHT
TZOFFSETFROM:+0200
TZOFFSETTO:+0300
TZNAME:EEST
DTSTART:20250330T010000
END:DAYLIGHT
BEGIN:STANDARD
TZOFFSETFROM:+0300
TZOFFSETTO:+0200
TZNAME:EET
DTSTART:20251026T010000
END:STANDARD
BEGIN:DAYLIGHT
TZOFFSETFROM:+0200
TZOFFSETTO:+0300
TZNAME:EEST
DTSTART:20260329T010000
END:DAYLIGHT
BEGIN:STANDARD
TZOFFSETFROM:+0300
TZOFFSETTO:+0200
TZNAME:EET
DTSTART:20261025T010000
END:STANDARD
BEGIN:DAYLIGHT
TZOFFSETFROM:+0200
TZOFFSETTO:+0300
TZNAME:EEST
DTSTART:20270328T010000
END:DAYLIGHT
BEGIN:STANDARD
TZOFFSETFROM:+0300
TZOFFSETTO:+0200
TZNAME:EET
DTSTART:20271031T010000
END:STANDARD
END:VTIMEZONE
BEGIN:VEVENT
DTSTART;TZID=Europe/Athens:20260425T203000
DTEND;TZID=Europe/Athens:20260425T203000
DTSTAMP:20260425T193029
CREATED:20260409T090909Z
LAST-MODIFIED:20260417T072158Z
UID:442035-1777149000-1777149000@rethemnos.gr
SUMMARY:Συναυλία με θέμα «Τραγούδια δίχως σύνορα\, απλά και αγαπημένα» στο Θέατρο Αντίβαρο
DESCRIPTION:Τρεις μουσικοί με διαφορετική αφετηρία αλλά με κοινό μεράκι για την μουσική\, ενώνουν την γνώση\, τα βιώματα και τις μουσικές τους σε ένα μοναδικό ταξίδι. \nΑπό τον Παύλο Βλαστό στον Μίκη Θεοδωράκη και από την Ερωφίλη στους Χαΐνηδες\, η πρωτότυπη αυτή θεματική σας καλεί να βιώσετε μουσικές χωρίς σύνορα. \nΗ Κατερίνα Μακράκη στο κανονάκι\, η Εύα Καλαϊτζάκη στο πιάνο\, στα κρουστά και στο τραγούδι και ο Χαράλαμπος Αγγελάκης στις λύρες και στο τραγούδι\, συνομιλούν μουσικά ανακαλύπτοντας νέες πλευρές της μουσικής μας παράδοσης \nΤο Σάββατο 25 Απριλίου\, στο Θέατρο Αντίβαρο στο Ρέθυμνο με ώρα έναρξης 20.30. \nΕίσοδος 5€
URL:https://rethemnos.gr/event/synaylia-me-thema-tragoydia-dichos-synora-apla-kai-agapimena-sto-theatro-antivaro/
LOCATION:Θέατρο Αντίβαρο\, Κριτοβουλίδου 15\, Ρέθυμνο\, Ρεθύμνου\, 74100\, Greece
CATEGORIES:ζωντανή μουσική
ATTACH;FMTTYPE=image/jpeg:https://rethemnos.gr/wp-content/uploads/2025/12/111.jpg
END:VEVENT
BEGIN:VEVENT
DTSTART;TZID=Europe/Athens:20260425T210000
DTEND;TZID=Europe/Athens:20260425T210000
DTSTAMP:20260425T193029
CREATED:20260117T083820Z
LAST-MODIFIED:20260424T211423Z
UID:436289-1777150800-1777150800@rethemnos.gr
SUMMARY:Ο Αλέξανδρος Παπαδάκης στο Μικρό Καφέ
DESCRIPTION:Ο Αλέξανδρος Παπαδάκης ζωντανά στο Μικρό Καφέ (Κριάρη 24\, έναντι ΟΑΕΔ). \nΜαζι του ο Γιώργης Περικλακης και ο Νικόλας Τρουλινός. \nΣάββατο 25 Απριλίου – Έναρξη 21:00.
URL:https://rethemnos.gr/event/o-alexandros-papadakis-sto-mikro-kafe/
LOCATION:Μικρό Καφέ\, Κριάρη 24\, Ρέθυμνο\, Ρεθύμνου\, 74100\, Ελλάδα
CATEGORIES:κρητική μουσική
ATTACH;FMTTYPE=image/jpeg:https://rethemnos.gr/wp-content/uploads/2026/01/IMG_7158.jpeg
END:VEVENT
BEGIN:VEVENT
DTSTART;TZID=Europe/Athens:20260425T220000
DTEND;TZID=Europe/Athens:20260425T220000
DTSTAMP:20260425T193029
CREATED:20260402T170922Z
LAST-MODIFIED:20260425T134323Z
UID:451079-1777154400-1777154400@rethemnos.gr
SUMMARY:Μουσική βραδιά στο Μεζεδοπωλείο 50/50
DESCRIPTION:Μουσική βραδιά με το Δημήτρη Σακελλαρίδη\, το Μάνο Χουδετσανάκη και τον Κωνσταντίνο Ζωράκη στο Μεζεδοπωλείο 50/50 (Πλαστήρα 6\, Παλιά πόλη – Ρέθυμνο). \nΚρατήσεις: 6972 055312
URL:https://rethemnos.gr/event/moysiki-vradia-sto-mezedopoleio-50-50-4/
LOCATION:Μεζεδοπωλείο 50/50\, Πλ. Ν. Πλαστήρα 6\, Ρέθυμνο\, Ρεθύμνου\, 74100\, Ελλάδα
CATEGORIES:ζωντανή μουσική
ATTACH;FMTTYPE=image/jpeg:https://rethemnos.gr/wp-content/uploads/2026/04/IMG_7189.jpeg
END:VEVENT
BEGIN:VEVENT
DTSTART;TZID=Europe/Athens:20260425T220000
DTEND;TZID=Europe/Athens:20260425T220000
DTSTAMP:20260425T193029
CREATED:20260410T224847Z
LAST-MODIFIED:20260419T110735Z
UID:446976-1777154400-1777154400@rethemnos.gr
SUMMARY:Ο Δημήτρης Κανλής & η Ελένη Βεργαδή  στο Vibes All Day Coffee & Bar
DESCRIPTION:Ο Δημήτρης Κανλής & η Ελένη Βεργαδή ζωντανά για μία λαϊκή βραδιά στο Vibes All Day Coffee & Bar. \nΣάββατο 25 Απριλίου 2026 – Έναρξη 22:00. \nΤηλ. κρατήσεων: 28310 55106 – 6972 341915
URL:https://rethemnos.gr/event/o-dimitris-kanlis-amp-i-eleni-vergadi-sto-vibes-all-day-coffee-amp-bar/
LOCATION:Vibes All Day Coffee & Bar\, Κουντουριώτου 137\, Ρέθυμνο\, Κρήτη\, 74100\, Greece
CATEGORIES:ζωντανή μουσική
ATTACH;FMTTYPE=image/jpeg:https://rethemnos.gr/wp-content/uploads/2026/04/26456-1.jpg
END:VEVENT
BEGIN:VEVENT
DTSTART;TZID=Europe/Athens:20260501T150000
DTEND;TZID=Europe/Athens:20260501T150000
DTSTAMP:20260425T193029
CREATED:20260412T054334Z
LAST-MODIFIED:20260421T113554Z
UID:446295-1777647600-1777647600@rethemnos.gr
SUMMARY:Κρητική βραδιά στην Ταβέρνα «Μαρμίτα»
DESCRIPTION:Ο Τζανής Τζανιδάκης στην Ταβέρνα «Μαρμίτα» στο Ρουσσοσπίτι Ρεθύμνου. \nΠρωτομαγιά\, Παρασκευή 1 Μαΐου – Έναρξη 15:00 \nΤηλ. 28310 75905. \n 
URL:https://rethemnos.gr/event/moysiki-vradia-stin-taverna-marmita-2/
LOCATION:Ταβέρνα Μαρμίτα\, Roussospiti\, Ρεθύμνου\, 741 50\, Greece
CATEGORIES:κρητική μουσική
ATTACH;FMTTYPE=image/jpeg:https://rethemnos.gr/wp-content/uploads/2026/03/5257.jpg
END:VEVENT
BEGIN:VEVENT
DTSTART;TZID=Europe/Athens:20260501T213000
DTEND;TZID=Europe/Athens:20260501T213000
DTSTAMP:20260425T193029
CREATED:20260417T080326Z
LAST-MODIFIED:20260417T080333Z
UID:451902-1777671000-1777671000@rethemnos.gr
SUMMARY:Οι «Διαβάτες» ζωντανά στο Bikakis Cafe
DESCRIPTION:Οι “Διαβάτες” έρχονται στο Bikakis Cafe. Ο Αλέξανδρος Τζουγανάκης και ο Ανδρέας Μπικάκης ζωντανά την Παρασκευή 1 Μαΐου\, σε μια βραδιά με ένταση\, ρυθμό και vibes που δεν χάνονται! \nΈναρξη 21:30. \nΚρατήσεις: 697 470 4605
URL:https://rethemnos.gr/event/oi-diavates-zontana-sto-bikakis-cafe/
LOCATION:Bikakis Cafe\, BIKAKIS Bakery-Cafe-Street Food\, Ρέθυμνο\, 74150\, Greece
CATEGORIES:ζωντανή μουσική
ATTACH;FMTTYPE=image/jpeg:https://rethemnos.gr/wp-content/uploads/2026/04/010526.jpg
END:VEVENT
BEGIN:VEVENT
DTSTART;TZID=Europe/Athens:20260501T220000
DTEND;TZID=Europe/Athens:20260501T220000
DTSTAMP:20260425T193029
CREATED:20260306T180922Z
LAST-MODIFIED:20260425T050538Z
UID:409298-1777672800-1777672800@rethemnos.gr
SUMMARY:Μουσική βραδιά στο Μεζεδοπωλείο 50/50
DESCRIPTION:Μουσική βραδιά με το Δημήτρη Σακελλαρίδη\, το Μάνο Χουδετσανάκη και τον Κωνσταντίνο Ζωράκη στο Μεζεδοπωλείο 50/50 (Πλαστήρα 6\, Παλιά πόλη – Ρέθυμνο). \nΚρατήσεις: 6972 055312
URL:https://rethemnos.gr/event/moysiki-vradia-sto-mezedopoleio-50-50-par/
LOCATION:Μεζεδοπωλείο 50/50\, Πλ. Ν. Πλαστήρα 6\, Ρέθυμνο\, Ρεθύμνου\, 74100\, Ελλάδα
CATEGORIES:ζωντανή μουσική
ATTACH;FMTTYPE=image/jpeg:https://rethemnos.gr/wp-content/uploads/2025/12/5050.jpg
END:VEVENT
BEGIN:VEVENT
DTSTART;TZID=Europe/Athens:20260503T213000
DTEND;TZID=Europe/Athens:20260503T213000
DTSTAMP:20260425T193029
CREATED:20260406T183209Z
LAST-MODIFIED:20260423T191237Z
UID:425752-1777843800-1777843800@rethemnos.gr
SUMMARY:Οι Soma ζωντανά στο Τζεπέτο
DESCRIPTION:Οι Soma\, το νέο Αθηναϊκό συγκρότημα του Ξάνθου Παπανικολάου (γνωστού από τους Bazooka)\, θα παρουσιάσουν την πρώτη τους δισκογραφική δουλειά με τίτλο «Στη Xώρα Tου Φωτός» την Κυριακή 3 Μαίου στο Ρέθυμνο\, στο Τζεπέτο (Κατεχάκη και Χειμάρρας\, κάτω από την Φορτέτζα) \nΩμό και αδάμαστο και ταυτόχρονα ονειρικό και μελωδικό\, το «Στη Xώρα Tου Φωτός» καταδεικνύει τη μοναδική τους μίξη των εξωστρεφών\, επαναστατικών ήχων της δεκαετίας του ’60 και της πιο εσωτερικής προσέγγισης του post punk και του grunge. \nΤο ντεμπούτο των Soma κυκλοφορεί από τη Magma Rec. \nΑν και πρωτοεμφανιζόμενο συγκρότημα\, όλα τα μέλη της μπάντας είναι ενεργοί μουσικοί στο χώρο της ροκ σκηνής. Εκτός από το μουσικό Ξάνθο Παπανικολάου\, τραγουδιστή και κιθαρίστα των Soma\, ο ντράμερ Θάνος Φραντζής είναι μέλος του Αθηναϊκού συγκροτήματος Tiffany\, ο μπασίστας Τίμος Χάρντεν παίζει στους Silhouette και ο κιθαρίστας Ορφέας Δαραμάρας έχει το project XVIV\, ενώ ο άνθρωπος της Magma Rec. είναι ο Γιώργος Καρανικόλας των Last Drive. \nBandcamp: https://somamesoma.bandcamp.com/album/sti-chora-tou-fotos \nΈναρξη 21:30.
URL:https://rethemnos.gr/event/oi-soma-zontana-sto-tzepeto/
LOCATION:Συνεταιρισμός Τζεπέτο\, Κατεχάκη\, Ρέθυμνο\, Ρεθύμνου\, 74100\, Ελλάδα
CATEGORIES:ζωντανή μουσική
ATTACH;FMTTYPE=image/jpeg:https://rethemnos.gr/wp-content/uploads/2025/12/35256.jpg
END:VEVENT
BEGIN:VEVENT
DTSTART;TZID=Europe/Athens:20260712T210000
DTEND;TZID=Europe/Athens:20260712T210000
DTSTAMP:20260425T193029
CREATED:20260320T131533Z
LAST-MODIFIED:20260331T052004Z
UID:449678-1783890000-1783890000@rethemnos.gr
SUMMARY:Η Άλκηστις Πρωτοψάλτη και ο Νίκος Πορτοκάλογλου ζωντανά στο Ρέθυμνο
DESCRIPTION:ΡΕΘΥΜΝΟ Κυριακή 12 Ιουλίου 2026\nΛόφος Φορτέτζα \nΗ συνεργασία της Άλκηστις Πρωτοψάλτη και του Νίκου Πορτοκάλογλου ενώνει δύο καλλιτέχνες που έχουν αφήσει βαθύ αποτύπωμα στο ελληνικό τραγούδι μέσα από δεκαετίες συνεχούς παρουσίας. Και οι δύο έχουν χτίσει μια σχέση εμπιστοσύνης με το κοινό\, χάρη στην αλήθεια των ερμηνειών τους\, τη σταθερή ποιότητα της δουλειάς τους και τη διάθεση να εξελίσσονται χωρίς να χάνουν την ταυτότητά τους. \nΗ «συνάντησή» τους βασίζεται στην ένωση δύο μουσικών κόσμων που παρότι διαφορετικοί\, μοιράζονται κοινές αξίες: τον σεβασμό στο τραγούδι\, την ανάγκη για ουσιαστική επικοινωνία και την αγάπη για τις ζωντανές παραστάσεις. Η Άλκηστις Πρωτοψάλτη\, με την μοναδική – χαρακτηριστική φωνή και την έντονη σκηνική παρουσία της\, συναντά τον Νίκο Πορτοκάλογλου\, έναν δημιουργό με προσωπικό στίγμα και τραγούδια που έχουν συνοδεύσει πολλές γενιές. Η παράσταση στηρίζεται στην απλότητα\, την ειλικρίνεια και την καλή μουσική. Με δύναμη και ζεστασιά\, η συνεργασία τους δημιουργεί μια ενιαία ατμόσφαιρα όπου το κοινό μπορεί να ταξιδέψει μέσα από ιστορίες\, μνήμες και συναισθήματα. \nΗ Άλκηστις Πρωτοψάλτη και ο Νίκος Πορτοκάλογλου παρουσιάζουν ένα πρόγραμμα που τιμά τη διαδρομή τους αλλά και ανοίγει έναν νέο δρόμο στη μεταξύ τους καλλιτεχνική σχέση. \nΣυντελεστές \nΘωμάς Κοντογεώργης: ενορχηστρώσεις\, πιάνο\nΣάκης Αζάς: κιθάρα\nΤάκης Βασιλείου: κρουστά\nΠαναγιώτης Ζαφειρόπουλος: τρομπόνι\nΑλέξανδρος Ζουγανέλης: σαξόφωνο\, φλάουτο\, φωνητικά\,\nΜάριος Λαζ Ιωαννίδης: μπάσο\, φωνητικά\nΗλίας Λαμπρόπουλος: βιολί\, τρομπέτα\, γκάιντα\, φωνητικά\nΚώστας Μυλωνάς: drums\nΖαχαρίας Σταμούλος\, Άκης Πασχαλάκης\, Στέφανος Χατζόπουλος: ηχοληψία\nΜαρία Βενετάκη: φωτισμοί\nΟργάνωση παραγωγής: Τώνια Δραγούνη\nΕπικοινωνία: Θωμαΐδα Πλατυπόδη\nΣυμπαραγωγή: Ιωάννης Τρουλλινός Lifeworks Productions – 360ο Entertainment \nΡΕΘΥΜΝΟ \nΧΩΡΟΣ ΔΙΕΞΑΓΩΓΗΣ: ΛΟΦΟΣ ΦΟΡΤΕΤΖΑ\nΗΜΕΡΟΜΗΝΙΑ ΕΚΔΗΛΩΣΗΣ ΚΥΡΙΑΚΗ 12 Ιουλίου 2026\nΩΡΑ ΕΝΑΡΞΗΣ 21.00 \nΤΙΜΕΣ ΕΙΣΙΤΗΡΙΩΝ: \nΤΙΜΕΣ ΕΙΣΙΤΗΡΙΩΝ: \n18€ Early Bird – Πρώτα Εισιτήρια*\n18€ Φοιτητές\, ΑμεΑ\, Άνεργοι*\n22€ Προπώληση\n25€ Ταμείο \nΠροπώληση More.com \n*(Τα εκπτωτικά εισιτήρια εκδίδονται σε περιορισμένο αριθμό μέχρι εξαντλήσεώς τους. Οι κάτοχοι Φοιτητικών\, ΑμεΑ και Ανέργων εισιτηρίων οφείλουν να επιδεικνύουν τα αντίστοιχα αποδεικτικά έγγραφα κατά την είσοδο).
URL:https://rethemnos.gr/event/i-alkistis-protopsalti-kai-o-nikos-portokalogloy-zontana-sto-rethymno/
LOCATION:Λόφος Φορτέτζα\, Fortezza Ρέθυμνο\, Ρέθυμνο\, Ρεθύμνου\, 74100\, Greece
CATEGORIES:ζωντανή μουσική
ATTACH;FMTTYPE=image/jpeg:https://rethemnos.gr/wp-content/uploads/2026/03/231-1.jpg
END:VEVENT
BEGIN:VEVENT
DTSTART;TZID=Europe/Athens:20260724T213000
DTEND;TZID=Europe/Athens:20260724T213000
DTSTAMP:20260425T193029
CREATED:20260322T062037Z
LAST-MODIFIED:20260326T101940Z
UID:333915-1784928600-1784928600@rethemnos.gr
SUMMARY:Ο Γιάννης Κότσιρας ζωντανά στο Ρέθυμνο
DESCRIPTION:Ήταν Απρίλιος του 1996 όταν κατεβαίνοντας την Πανεπιστημίου\, πέρασα από το δισκοπωλείο. Metropolis και είδα για πρώτη φορά το πρώτο μου cd στη βιτρίνα.  \nΉταν το «Αθώος ένοχος». \nΑπό τότε πέρασαν 30 χρόνια. Τα τραγούδια γίναν πολλά . Άλλαξε ο τρόπος που ακούμε μουσική. Οι συνεργασίες με σπουδαίους καλλιτέχνες άλλαξαν την πορεία μου. Υπάρχει όμως κάτι που όμως έμεινε απόλυτα ίδιο.\nΗ μεγάλη αγάπη μου για τις συναυλίες.\nΕλάτε φέτος να γιορτάσουμε αυτά τα 30 χρόνια τραγουδιών.\nΚαι όπως θα έλεγε ο Θάνος Μικρούτσικος\, ελάτε να ξανασυστηθούμε. Να ξανα ανταλλάξουμε διευθύνσεις.\nΟι φίλοι μου θα είναι εκεί. Εσείς;\nΚαλή αντάμωση. \nΓιάννης Κότσιρας \nΟ Γιάννης Κότσιρας γιορτάζει φέτος τα 30 χρόνια στη δισκογραφία και θα βρεθεί στο Ρέθυμνο\, την Παρασκευή 24 Ιουλίου\, σε μία μεγάλη συναυλία στο Λόφο της Φορτέτζας. \nΠλήκτρα/ Ενορχηστρώσεις: Άκης Κατσουπάκης\nΜπουζούκι: Βαγγέλης Μαχαίρας\nΚιθάρες: Κώστας Μιχαλός\nΤύμπανα: Θάνος Μιχαηλίδης Νουάρος\nΜπάσο: Σπύρος Μάζης\nΑκορντεόν: Θάνος Σταυρίδης\nΤραγούδι/Βιολί: Μαρία Μιχαλάκα\nΕπιμέλεια ήχου: Λάμπρος Μπούνας και Στρατής Καραδημητράκης\nΦωτισμοί: Μανώλης Μπράτσης\nΟργάνωση Παραγωγής: Menta Art Events \nΈναρξη 21:30.
URL:https://rethemnos.gr/event/o-giannis-kotsiras-zontana-sto-rethymno/
LOCATION:Λόφος Φορτέτζα\, Fortezza Ρέθυμνο\, Ρέθυμνο\, Ρεθύμνου\, 74100\, Greece
CATEGORIES:ζωντανή μουσική
ATTACH;FMTTYPE=image/jpeg:https://rethemnos.gr/wp-content/uploads/2025/05/1-1-4.jpg
END:VEVENT
BEGIN:VEVENT
DTSTART;TZID=Europe/Athens:20260727T213000
DTEND;TZID=Europe/Athens:20260727T213000
DTSTAMP:20260425T193029
CREATED:20260306T135047Z
LAST-MODIFIED:20260324T211432Z
UID:419634-1785187800-1785187800@rethemnos.gr
SUMMARY:Γιώργος Χατζηνάσιος - Στέφανος Κορκολής ζωντανά στο Ρέθυμνο
DESCRIPTION:ΓΙΩΡΓΟΣ ΧΑΤΖΗΝΑΣΙΟΣ – ΣΤΕΦΑΝΟΣ ΚΟΡΚΟΛΗΣ & BAND στο ΡΕΘΥΜΝΟ\nΔευτέρα 27 Ιουλίου – Θέατρο Ερωφίλη \n1 Μαγική Συνάντηση!\n2 Κορυφαίοι Συνθέτες & Πιανίστες!\nΜαζί τους 2 σπουδαίοι τραγουδιστές!\nΚαι 6 υπέροχοι μουσικοί! \nΟ Γιώργος Χατζηνάσιος και ο Στέφανος Κορκολής προσκαλούν το κοινό σε ένα σπάνιο μουσικό ταξίδι. \nΜε μοναδικές μελωδίες θα χαρίσουν στο κοινό\, που τους ακολουθεί χρόνια\, κομμάτια από την πλούσια διαδρομή τους. Η αξεπέραστη δισκογραφία\, οι επιτυχημένες συνθέσεις τους και οι διαχρονικές τους μελωδίες θα γεμίσουν με συναισθήματα και αναμνήσεις. \nΔύο εξαιρετικοί καλλιτέχνες\, δύο πιάνα επί σκηνής\, ο Γιώργος Χατζηνάσιος και ο Στέφανος Κορκολής μαζί σε μια σπάνια μουσική συνάντηση υψηλής ποιότητας. \nSpecial Guest η Σοφία Μανουσάκη! \nΟ Άγγελος Ανδριανός με την εξαιρετική φωνή του θα ερμηνεύσει τεράστιες επιτυχίες που όλοι έχουμε αγαπήσει. \nΚιθάρες: Κωστής Πυρένης\nΠνευστά: Ilia Samsonov\nΜπουζούκι: Αλέξανδρος Ψωμόπουλος\nΠλήκτρα: Σάββας Ρακιτζάκης\nΝτραμς: Ορφέας Σιέρρας\nΜπάσο: Βίκτωρ Κουλουμπής \nΗχοληψία: Δημήτρης Δημητριάδης\nΗχοληψία: Φώτης Πανταζής\nΦωτιστές: Κωνσταντίνος Φωτίου\, Νίκος Ρωσσόπουλος\nTour Manager: Μαρία Πολυχρόνη\nΠαραγωγή: Lifeworks Productions – Ιωάννης Τρουλλινός \nΡΕΘΥΜΝΟ Δευτέρα 27 Ιουλίου 2026 – Θέατρο Ερωφίλη \nΤΙΜΕΣ ΕΙΣΙΤΗΡΙΩΝ:\n18€ Φοιτητές\, Άνεργοι*\n20€ Προπώληση\n25€ Ταμείο την ημέρα της συναυλίας
URL:https://rethemnos.gr/event/giorgos-chatzinasios-stefanos-korkolis-zontana-sto-rethymno/
LOCATION:Θέατρο Ερωφίλη\, Erofili Theatre\, Ρέθυμνο\, Ρεθύμνου\, 74100\, Greece
CATEGORIES:ζωντανή μουσική
ATTACH;FMTTYPE=image/jpeg:https://rethemnos.gr/wp-content/uploads/2025/04/IMG_6586.jpeg
END:VEVENT
BEGIN:VEVENT
DTSTART;TZID=Europe/Athens:20260807T183000
DTEND;TZID=Europe/Athens:20260807T233000
DTSTAMP:20260425T193029
CREATED:20260402T082444Z
LAST-MODIFIED:20260423T180952Z
UID:393029-1786127400-1786145400@rethemnos.gr
SUMMARY:«Γη Μυλοποτάμου»: Συναυλία με την Κατερίνα Λιόλιου
DESCRIPTION:Ένα τριήμερο γεμάτο γεύσεις\, μουσική\, παράδοση και τέχνη υπόσχεται η εκδήλωση «Γη Μυλοποτάμου»\, που θα πραγματοποιηθεί στις 7\, 8 και 9 Αυγούστου στην πλατεία Δημαρχείου στο Πέραμα Μυλοποτάμου. \nΗ διοργάνωση περιλαμβάνει έκθεση πολιτιστικών συλλόγων\, καλλιτεχνών και παραγωγών της περιοχής\, προσφέροντας μια μοναδική ευκαιρία γνωριμίας με την πλούσια πολιτιστική κληρονομιά και την τοπική παραγωγή του Μυλοποτάμου. \nΠαρασκευή 7 Αυγούστου \nΗ αυλαία ανοίγει στις 18:30 με τα εγκαίνια και χαιρετισμούς. Η βραδιά ολοκληρώνεται με συναυλία της Κατερίνας Λιόλιου\, στις 21:30. \nΕίσοδος 5 ευρώ. \nΔιοργάνωση: Πολιτιστικός & Επιμορφωτικός Σύλλογος Περάματος
URL:https://rethemnos.gr/event/gi-mylopotamoy-synaylia-me-tin-katerina-liolioy/
LOCATION:Πέραμα Μυλοποτάμου\, Πέραμα\, Πέραμα\, Ρεθύμνου\, 74052\, Greece
CATEGORIES:έκθεση λαϊκής τέχνης,ζωντανή μουσική,φεστιβάλ
ATTACH;FMTTYPE=image/jpeg:https://rethemnos.gr/wp-content/uploads/2025/05/katerina_lioliou.jpg
END:VEVENT
END:VCALENDAR