BEGIN:VCALENDAR
VERSION:2.0
PRODID:-//Rethemnos Live - ECPv6.15.20//NONSGML v1.0//EN
CALSCALE:GREGORIAN
METHOD:PUBLISH
X-WR-CALNAME:Rethemnos Live
X-ORIGINAL-URL:https://rethemnos.gr
X-WR-CALDESC:Events for Rethemnos Live
REFRESH-INTERVAL;VALUE=DURATION:PT1H
X-Robots-Tag:noindex
X-PUBLISHED-TTL:PT1H
BEGIN:VTIMEZONE
TZID:Europe/Athens
BEGIN:DAYLIGHT
TZOFFSETFROM:+0200
TZOFFSETTO:+0300
TZNAME:EEST
DTSTART:20250330T010000
END:DAYLIGHT
BEGIN:STANDARD
TZOFFSETFROM:+0300
TZOFFSETTO:+0200
TZNAME:EET
DTSTART:20251026T010000
END:STANDARD
BEGIN:DAYLIGHT
TZOFFSETFROM:+0200
TZOFFSETTO:+0300
TZNAME:EEST
DTSTART:20260329T010000
END:DAYLIGHT
BEGIN:STANDARD
TZOFFSETFROM:+0300
TZOFFSETTO:+0200
TZNAME:EET
DTSTART:20261025T010000
END:STANDARD
BEGIN:DAYLIGHT
TZOFFSETFROM:+0200
TZOFFSETTO:+0300
TZNAME:EEST
DTSTART:20270328T010000
END:DAYLIGHT
BEGIN:STANDARD
TZOFFSETFROM:+0300
TZOFFSETTO:+0200
TZNAME:EET
DTSTART:20271031T010000
END:STANDARD
END:VTIMEZONE
BEGIN:VEVENT
DTSTART;TZID=Europe/Athens:20260808T211500
DTEND;TZID=Europe/Athens:20260808T230000
DTSTAMP:20260423T234024
CREATED:20260411T124102Z
LAST-MODIFIED:20260421T053653Z
UID:369270-1786223700-1786230000@rethemnos.gr
SUMMARY:Η παράσταση «Μια άλλη Θήβα» του Σέρχιο Μπλάνκο στο Θέατρο Ερωφίλη
DESCRIPTION:ΘΕΑΤΡΟ ΕΡΩΦΙΛΗ\, ΡΕΘΥΜΝΟ\nΣάββατο 8 Αυγούστου\nΏρα έναρξης: 9.15 μμ \nΗ Μια Άλλη Θήβα\, η παράσταση-φαινόμενο του Θεάτρου του Νέου Κόσμου\, που σημάδεψε τις τελευταίες θεατρικές σεζόν\, επιστρέφει το καλοκαίρι του 2026 για μια σύντομη περιοδεία σε λίγα ανοιχτά θέατρα. \nΜε τέσσερις συνεχόμενες σεζόν\, αλλεπάλληλα sold out\, δύο εξαιρετικά επιτυχημένες περιοδείες σε όλη την Ελλάδα και περισσότερους από 250.000 θεατές\, το πολυβραβευμένο έργο του Σέρχιο Μπλάνκο\, σε σκηνοθεσία Βαγγέλη Θεοδωρόπουλου\, έχει καθιερωθεί ως μία από τις πιο αγαπημένες και πολυσυζητημένες παραστάσεις των τελευταίων ετών. \nΗ παράσταση \nΈνας συγγραφέας συναντά\, επί σειρά μηνών\, μέσα στη φυλακή έναν εικοσάχρονο πατροκτόνο\, τον Μαρτίν. Σκοπός του είναι να γράψει ένα έργο βασισμένο στην ιστορία του νεαρού κρατούμενου\, στον οποίο προτείνει να ερμηνεύσει τον εαυτό του στη θεατρική σκηνή. Όταν τελικά αυτό απαγορεύεται από το αρμόδιο υπουργείο\, τον ρόλο αναλαμβάνει ο Φεδερίκο\, ένας νεαρός ηθοποιός\, με τον οποίο πλέον δουλεύει ταυτόχρονα ο συγγραφέας. \nΟ Γαλλο-ουρουγουανός Σέρχιο Μπλάνκο\, από τις πιο δυνατές σύγχρονες φωνές του ισπανόφωνου θεάτρου\, μας παραδίδει μια σύγχρονη σπουδή για την ανδρική ταυτότητα\, την καταπίεση\, τη βία και το έγκλημα\, την τιμωρία και τις διακρίσεις\, αλλά ταυτόχρονα και για τις ίδιες τις δημιουργικές διαδικασίες της τέχνης του θεάτρου\, με αναφορές στον μύθο του Οιδίποδα αλλά και στο «Έγκλημα και Τιμωρία» του Ντοστογιέφσκι. \n \nΟ Βαγγέλης Θεοδωρόπουλος ανέδειξε το πολυεπίπεδο αυτό έργο με μια σκηνοθεσία που επαινέθηκε ιδιαίτερα από την κριτική και το κοινό για τον εξαιρετικό ρυθμό και την υποβλητική της ατμόσφαιρα. \nΗ παράσταση αγαπήθηκε για τις εξαιρετικές ερμηνείες των ηθοποιών\, του Θάνου Λέκκα στον ρόλο του Συγγραφέα και του Δημήτρη Καπουράνη στον διπλό ρόλο Μαρτίν/Φεδερίκο. \nΣυντελεστές \nΜετάφραση Μαρία Χατζηεμμανουήλ\nΣκηνοθεσία Βαγγέλης Θεοδωρόπουλος\n Μουσική Σταύρος Γασπαράτος\nΕπιμέλεια κίνησης Ξένια Θεμελή\nΣχεδιασμός σκηνικού Κώστας Πολίτης\nΕνδυματολόγος Κλαιρ Μπρέισγουελ\nΣχεδιασμός φωτισμών – Βίντεο Αποστόλης Κουτσιανικούλης\nΒοηθός σκηνοθέτη Θάνος Παπαδογιάννης \nΠαίζουν Δημήτρης Καπουράνης\, Θάνος Λέκκας \nΘΕΑΤΡΟ ΕΡΩΦΙΛΗ\, ΡΕΘΥΜΝΟ\nΣάββατο 8 Αυγούστου – Ώρα έναρξης: 9.15 μμ\nΠροπώληση more.com
URL:https://rethemnos.gr/event/i-parastasi-mia-alli-thiva-sto-theatro-erofili/
LOCATION:Θέατρο Ερωφίλη\, Erofili Theatre\, Ρέθυμνο\, Ρεθύμνου\, 74100\, Greece
CATEGORIES:θέατρο
ATTACH;FMTTYPE=image/jpeg:https://rethemnos.gr/wp-content/uploads/2024/05/IMG_8800.jpeg
END:VEVENT
END:VCALENDAR