BEGIN:VCALENDAR
VERSION:2.0
PRODID:-//Rethemnos Live - ECPv6.15.20//NONSGML v1.0//EN
CALSCALE:GREGORIAN
METHOD:PUBLISH
X-ORIGINAL-URL:https://rethemnos.gr
X-WR-CALDESC:Events for Rethemnos Live
REFRESH-INTERVAL;VALUE=DURATION:PT1H
X-Robots-Tag:noindex
X-PUBLISHED-TTL:PT1H
BEGIN:VTIMEZONE
TZID:Europe/Athens
BEGIN:DAYLIGHT
TZOFFSETFROM:+0200
TZOFFSETTO:+0300
TZNAME:EEST
DTSTART:20250330T010000
END:DAYLIGHT
BEGIN:STANDARD
TZOFFSETFROM:+0300
TZOFFSETTO:+0200
TZNAME:EET
DTSTART:20251026T010000
END:STANDARD
BEGIN:DAYLIGHT
TZOFFSETFROM:+0200
TZOFFSETTO:+0300
TZNAME:EEST
DTSTART:20260329T010000
END:DAYLIGHT
BEGIN:STANDARD
TZOFFSETFROM:+0300
TZOFFSETTO:+0200
TZNAME:EET
DTSTART:20261025T010000
END:STANDARD
BEGIN:DAYLIGHT
TZOFFSETFROM:+0200
TZOFFSETTO:+0300
TZNAME:EEST
DTSTART:20270328T010000
END:DAYLIGHT
BEGIN:STANDARD
TZOFFSETFROM:+0300
TZOFFSETTO:+0200
TZNAME:EET
DTSTART:20271031T010000
END:STANDARD
END:VTIMEZONE
BEGIN:VEVENT
DTSTART;TZID=Europe/Athens:20260818T210000
DTEND;TZID=Europe/Athens:20260818T210000
DTSTAMP:20260423T234105
CREATED:20260404T100342Z
LAST-MODIFIED:20260422T112105Z
UID:325537-1787086800-1787086800@rethemnos.gr
SUMMARY:Οι «Στρακαστρούκες» του Δημήτρη Σαμόλη στο Ρέθυμνο
DESCRIPTION:Οι «Στρακαστρούκες» του Δημήτρη Σαμόλη κάνουν μπαμ και το καλοκαίρι για περιορισμένο αριθμό παραστάσεων. Στις 18 Αυγούστου\, η παράσταση που έγινε sold out από στόμα σε στόμα έρχεται στο Ρέθυμνο\, στο Θέατρο Ερωφίλη! \nTo έργο: \nΒρισκόμαστε ακριβώς δέκα λεπτά πριν χτυπήσουν οι καμπάνες για την Ανάσταση σ’ ένα χωριό της Κρήτης. Ο Κωσταντής κρατάει στη μια του χούφτα καραμελάκια που σκάνε στο στόμα και στην άλλη αυτοσχέδιες στρακαστούκες. Στην κλειστή κοινωνία της επαρχίας που κανείς δεν του απλώνει το χέρι\, ο ήρωάς μας ανοίγει την καρδιά του με σπαρακτικό χιούμορ λίγο πριν κάνει το μεγάλο μπαμ. Οι καμπάνες όμως χτυπούν νωρίτερα. \nΟ ηθοποιός και τραγουδοποιός Δημήτρης Σαμόλης στο πρώτο του θεατρικό έργο\, βάζει στο μικροσκόπιο την “αγία ελληνική οικογένεια”\, τη ζωή στην επαρχία και τον εκφοβισμό σε ένα συνταρακτικό μονόλογο-κατάθεση. Οι Στρακαστρούκες είναι μια καθηλωτική ελεγεία αγάπης για την ανθρώπινη φύση αλλά και ένα φωτεινό βέλος σε αυτά που μας πόνεσαν βαθιά. \nΕίπαν για εμάς: \nΜια «κρυμμένη» παράσταση που σφύζει από κόσμο\, ένα διαμαντάκι που προέκυψε εκεί που δεν το περιμέναμε\, σε έναν μικρό χώρο στο κέντρο της Αθήνας. \nΧρήστος Παρίδης\, LIFO \nΑυτός ο μονόλογος που ξεκίνησε να αναπνέει μέσα στην πόλη\, είναι μια ολοκληρωμένη και μεστή θεατρική στιγμή που αναμφίβολα θυμίζει και υπογραμμίζει μια από τις κύριες και ουσιαστικές λειτουργίες του Θεάτρου. Την αέναη μάχη του με τη λήθη και την επιβεβλημένη κανονικότητα. \nΧρήστος Τζίφας\, Η ΑΥΓΗ \nΤο κείμενο του Δημήτρη Σαμόλη είναι μία γροθιά στο στομάχι. Τόσο μέσα από την γραφή του\, όσο και στην απόδοση της ερμηνείας του\, ο ηθοποιός και τραγουδοποιός ισορροπεί μεταξύ κωμωδίας και δράματος με σεβασμό. Το ταλέντο του για 70 λεπτά διαχέεται επί σκηνής και τα μάτια των θεατών είναι καρφωμένα πάνω του. \nΘάνος Ξάνθος\, YOUFLY \nΡΕΘΥΜΝΟ – Φορτέτζα / Θέατρο Ερωφίλη\nΤρίτη 18/8/2026 – Έναρξη 21:00 \nΠροπώληση εδώ: more.com\n 
URL:https://rethemnos.gr/event/oi-strakastroykes-toy-dimitri-samoli-sto-rethymno/
LOCATION:Θέατρο Ερωφίλη\, Erofili Theatre\, Ρέθυμνο\, Ρεθύμνου\, 74100\, Greece
CATEGORIES:θέατρο
ATTACH;FMTTYPE=image/jpeg:https://rethemnos.gr/wp-content/uploads/2025/05/188.jpg
END:VEVENT
END:VCALENDAR